{"text_format":"1","workbook":"xlsx","n_sheets":7,"sheets":["TIME TABLE 2015-16","subjectwise","INDIVIDUAL TT","CLASS TT","For student notice board","workload","subjects and classwise lectures"],"not_rendered":{"charts":0,"images":0,"macros":1,"external_links":0,"defined_names":0,"comments":0,"pivot_tables":0},"unopened":[],"bounds":{"document_bytes":16777216,"sheet_cells":100000,"rows_first":2000,"rows_last":500,"rows_between":2000,"halvings":0,"cell_chars":16384,"cell_head_chars":4096},"cells_cut":0,"cells_raw":0,"read":"whole","date_system":"1900"}

{"sheet":"TIME TABLE 2015-16","index":0,"n_rows":418,"n_cols":18,"rows_kept":418,"cut":false,"hidden":false,"merged":[[1,0,6,0],[7,0,12,0],[13,0,18,0],[19,0,24,0],[204,9,204,10],[25,0,30,0],[31,0,36,0],[58,1,58,3],[57,1,57,3],[38,16,38,17],[43,16,43,17],[40,16,40,17],[41,16,41,17],[39,16,39,17],[42,16,42,17],[56,16,56,17],[50,16,50,17],[51,16,51,17],[48,16,48,17],[52,16,52,17],[44,16,44,17],[47,16,47,17],[45,16,45,17],[49,16,49,17],[46,16,46,17]]}
["DAY","PERIOD","START TIME","END TIME","DURATION","FYBCOM A","FYBCOM B","FYBCOM C","SYBCOM A","SYBOCM B","TYBCOM A","TYBCOM B","FYBA","SYBA","TYBA",null,null,{"$f":"COUNTIF(A1:O37,\"___\")","v":0}]
["MONDAY",1,"04:50:00","05:38:00",{"$f":"D2-C2","v":"00:48:00"},"Dengle","Kanase",null,null,null,"Lab",null,null,null,"Nandela"]
[null,2,"05:40:00","06:28:00","00:48:00","Kanase","Dengle",null,null,null,"Lab",null,null,null,"Buwa"]
[null,3,"06:30:00","07:18:00","00:48:00","Sawant","Aghav","Kanase","Suryawanshi","Jambhule","Bhave","Pandagale","Dengle","Sable","Nandela"]
[null,4,"07:20:00","08:08:00","00:48:00","Suryawanshi","Aghav","Kanase","Bhave","Sawant","Nandela","Pandagale","Sable","Jambhule","Buwa"]
[null,5,"08:20:00","09:08:00","00:48:00","Aghav","Dengle","Principal","Sawant",null,"Pandagale","Bhave","Jambhule","Buwa","Sable"]
[null,6,"09:10:00","09:58:00","00:48:00","Aghav","Kanase","Jambhule",null,null,"Pandagale","Sawant",null,"Buwa","Sable"]
["TUESDAY",1,"04:50:00","05:38:00","00:48:00","Kanase","Dengle","Kanase",null,null,"Lab",null,null,null,"Nandela"]
[null,2,"05:40:00","06:28:00","00:48:00","Dengle","Kanase","Kanase",null,null,"Lab",null,null,"Bhave","Buwa"]
[null,3,"06:30:00","07:18:00","00:48:00","Suryawanshi","Dengle","Aghav","Sawant","Mishra","Bhave","Pandagale","Jambhule","Buwa","Nandela"]
[null,4,"07:20:00","08:08:00","00:48:00","Dengle","Sawant","Aghav","Bhave","Mishra","Gaikwad","Pandagale","Buwa","Sable","Nandela"]
[null,5,"08:20:00","09:08:00","00:48:00","Kanase","Aghav","Gaikwad","Mishra","Suryawanshi","Pandagale","Sawant","Sable","Jambhule","Buwa"]
[null,6,"09:10:00","09:58:00","00:48:00","Kanase","Aghav","Gaikwad","Mishra",null,"Pandagale","Bhave","Sable","Jambhule","Buwa"]
["WEDNESDAY",1,"04:50:00","05:38:00","00:48:00","Kanase","Dengle","Kanase",null,null,"Lab",null,null,null,"Nandela"]
[null,2,"05:40:00","06:28:00","00:48:00","Dengle","Kanase","Dengle",null,null,"Lab",null,null,null,"Buwa"]
[null,3,"06:30:00","07:18:00","00:48:00","Nitin Sawant","Sawant","Principal","Suryawanshi","Jambhule","Bhave","Pandagale","Buwa","Sable","Bhalekar"]
[null,4,"07:20:00","08:08:00","00:48:00","Nitin Sawant","Kanase","Sawant","Jambhule","Bhave","Nandela","Pandagale","Sable","Buwa","Bhalekar"]
[null,5,"08:20:00","09:08:00","00:48:00","Suryawanshi","Nitin Sawant","Dengle","Singh","Sawant","Pandagale","Nandela","Jambhule","Bhalekar","Buwa"]
[null,6,"09:10:00","09:58:00","00:48:00","Sawant","Nitin Sawant","Dengle",null,"Singh","Pandagale","Bhave","Suryawanshi","Jambhule","Buwa"]
["THURSDAY",1,"04:50:00","05:38:00","00:48:00","Dengle","Kanase","Dengle",null,null,"Lab"]
[null,2,"05:40:00","06:28:00","00:48:00","Suryawanshi","Dengle","Kanase",null,null,"Lab",null,null,null,"Sable"]
[null,3,"06:30:00","07:18:00","00:48:00","Suryawanshi","Kanase","Dengle",null,"Sawant","Bhave","Pandagale","Buwa","Jambhule","Sable"]
[null,4,"07:20:00","08:08:00","00:48:00","Dengle","Sawant","Kanase","Suryawanshi","Bhave","Nandela","Pandagale","Buwa","Jambhule","Sable"]
[null,5,"08:20:00","09:08:00","00:48:00","Kanase","Suryawanshi","Principal","Sawant","Jambhule","Pandagale","Nandela","Sable","Bhave","Buwa"]
[null,6,"09:10:00","09:58:00","00:48:00","Kanase","Dengle","Sawant","Jambhule",null,"Pandagale",null,"Suryawanshi","Sable","Nandela"]
["FRIDAY",1,"04:50:00","05:38:00","00:48:00",null,"Kanase","Dengle",null,null,"Lab",null,"Dengle",null,"Sable"]
[null,2,"05:40:00","06:28:00","00:48:00","Kanase","Suryawanshi","Kanase",null,null,null,null,"Dengle",null,"Sable"]
[null,3,"06:30:00","07:18:00","00:48:00","Aghav","Nitin Sawant","Kanase","Mishra",null,"Pandagale","Nandela","Jambhule","Buwa","Bhalekar"]
[null,4,"07:20:00","08:08:00","00:48:00","Aghav","Nitin Sawant","Jambhule","Mishra","Suryawanshi","Sawant","Bhave","Bhalekar","Buwa","Nandela"]
[null,5,"08:20:00","09:08:00","00:48:00","Nitin Sawant","Suryawanshi","Aghav","Singh","Mishra","Pandagale","Sawant","Dengle","Bhave","Sable"]
[null,6,"09:10:00","09:58:00","00:48:00","Nitin Sawant","Suryawanshi","Aghav","Singh","Mishra","Pandagale","Sawant","Sable","Jambhule","Nandela"]
["SATURDAY",1,"04:50:00","05:38:00","00:48:00",null,null,"Dengle",null,null,null,null,"Dengle"]
[null,2,"05:40:00","06:28:00","00:48:00","Kanase",null,"Kanase",null,null,null,null,"Dengle"]
[null,3,"06:30:00","07:18:00","00:48:00","Sawant","Kanase","Gaikwad","Bhave","Suryawanshi",null,"Pandagale","Nandela","Jambhule","Buwa"]
[null,4,"07:20:00","08:08:00","00:48:00","Suryawanshi","Kanase","Gaikwad",null,"Bhave","Sawant","Pandagale","Dengle","Jambhule","Buwa"]
[null,5,"08:20:00","09:08:00","00:48:00","Kanase","Suryawanshi","Sawant","Jambhule","Singh","Pandagale","Gaikwad","Sable","Bhave","Nandela"]
[null,6,"09:10:00","09:58:00","00:48:00","Dengle","Suryawanshi","Jambhule",null,"Singh","Pandagale","Sawant",null,"Sable","Nandela"]
["Lecturer","Actual","Expected","Backlog",null,"FYBCOM A","FYBCOM B","FYBCOM C","SYBCOM A","SYBOCM B","TYBCOM A","TYBCOM B","FYBA","SYBA","TYBA"]
["Bhalekar",{"$f":"COUNTIF($F$2:$O$37,A39)","v":5},5,{"$f":"B39-C39","v":0},null,{"$f":"COUNTIF($F$2:$F$37,A39)","v":0},{"$f":"COUNTIF($G$2:$G$37,A39)","v":0},{"$f":"COUNTIF($H$2:$H$37,A39)","v":0},{"$f":"COUNTIF($I$2:$I$37,A39)","v":0},{"$f":"COUNTIF($J$2:$J$37,A39)","v":0},{"$f":"COUNTIF($K$2:$K$37,A39)","v":0},{"$f":"COUNTIF($L$2:$L$37,A39)","v":0},{"$f":"COUNTIF($M$2:$M$37,A39)","v":1},{"$f":"COUNTIF($N$2:$N$37,A39)","v":1},{"$f":"COUNTIF($O$2:$O$37,A39)","v":3}]
["Sable",20,20,{"$f":"B40-C40","v":0},null,{"$f":"COUNTIF($F$2:$F$37,A40)","v":0},{"$f":"COUNTIF($G$2:$G$37,A40)","v":0},{"$f":"COUNTIF($H$2:$H$37,A40)","v":0},{"$f":"COUNTIF($I$2:$I$37,A40)","v":0},{"$f":"COUNTIF($J$2:$J$37,A40)","v":0},{"$f":"COUNTIF($K$2:$K$37,A40)","v":0},{"$f":"COUNTIF($L$2:$L$37,A40)","v":0},{"$f":"COUNTIF($M$2:$M$37,A40)","v":7},{"$f":"COUNTIF($N$2:$N$37,A40)","v":5},{"$f":"COUNTIF($O$2:$O$37,A40)","v":8}]
["Aghav",12,12,0,null,4,{"$f":"COUNTIF(G2:G37,$A$41)","v":4},4,0,0,0,0,0,0,0]
["Singh",6,8,-2,null,0,{"$f":"COUNTIF(G2:G37,$A$42)","v":0},0,3,3,0,0,0,0,0]
["Lab",9,9,0,null,0,{"$f":"COUNTIF(G2:G37,$A$43)","v":0},0,0,0,9,0,0,0,0]
["Principal",3,3,0,null,0,{"$f":"COUNTIF(G2:G37,$A$44)","v":0},3,0,0,0,0,0,0,0]
["Suryawanshi",20,20,0,null,6,{"$f":"COUNTIF($G$2:$G$37,A45)","v":6},0,3,3,0,0,2,0,0]
["Jambhule",22,22,0,null,0,{"$f":"COUNTIF($G$2:$G$37,A46)","v":0},{"$f":"COUNTIF($H$2:$H$37,A46)","v":3},{"$f":"COUNTIF($I$2:$I$37,A46)","v":3},3,0,0,4,9,0]
["Nandela",18,18,0,null,0,{"$f":"COUNTIF($G$2:$G$37,A47)","v":0},{"$f":"COUNTIF($H$2:$H$37,A47)","v":0},{"$f":"COUNTIF($I$2:$I$37,A47)","v":0},0,3,3,1,0,11]
["Bhave",18,18,{"$f":"B48-C48","v":0},null,{"$f":"COUNTIF($F$2:$F$37,A48)","v":0},{"$f":"COUNTIF($G$2:$G$37,A48)","v":0},0,3,{"$f":"COUNTIF($J$2:$J$37,A48)","v":3},{"$f":"COUNTIF($K$2:$K$37,A48)","v":4},{"$f":"COUNTIF($L$2:$L$37,A48)","v":4},{"$f":"COUNTIF($M$2:$M$37,A48)","v":0},{"$f":"COUNTIF($N$2:$N$37,A48)","v":4},{"$f":"COUNTIF($O$2:$O$37,A48)","v":0}]
["Sawant",22,22,0,null,3,{"$f":"COUNTIF($G$2:$G$37,A49)","v":3},3,3,3,2,5,0,0,0]
["Kanase",30,30,0,null,10,10,10,0,0,0,0,0,0,0]
["Buwa",21,21,0,null,0,0,0,0,0,0,0,4,6,11]
["Dengle",28,28,0,null,7,7,7,0,0,0,0,7,0,0]
["Pandagale",23,23,0,null,0,{"$f":"COUNTIF($G$2:$G$37,A53)","v":0},0,0,0,13,10,0,0,0]
["Nitin Sawant",8,8,0,null,4,4,0,0,0,0,0,0,0,0]
["Gaikwad",6,6,0,null,0,0,4,0,0,1,1,0,0,0]
["Mishra",8,8,0,null,0,0,0,4,4,0,0,0,0,0]
["Total",{"$f":"SUM(B39:B56)","v":279},{"$f":"SUM(C39:C56)","v":281},{"$f":"SUM(D39:D56)","v":-2},null,{"$f":"SUM(F39:F56)","v":34},34,34,19,19,32,23,26,25,33]
[{"$f":"SUM(F58:O58)","v":281},"Expected",null,null,null,34,34,34,20,20,32,23,26,25,33]
[null,"Backlog",null,null,null,{"$f":"F57-F58","v":0},0,0,-1,-1,0,0,0,0,0]
[null,null,null,null,null,"FYBCOM","SYBCOM",null,"TYBCOM","FYBA","SYBA","TYBA"]
[null,null,null,null,null,"Jambhule","Jambhule",null,"Bhave","Buwa","Buwa","Suryawanshi"]
[null,null,null,null,null,"Aghav","Bhave",null,"Lab","Nandela",null,"Buwa"]
[null,null,null,null,null,"Kanase","Sawant",null,"Nandela","Jambhule","Sawant","Torane"]
[null,null,null,null,null,"Nandela","Nandela",null,"Sawant","Torane","Jambhule","Nandela"]
[null,null,null,null,null,"Sawant","Pandagale",null,"Tax","Dengle","Bhalekar","Jambhule"]
[null,null,null,null,null,"Dengle","Singh",null,"Pandagale","Bhalekar","Torane","Bhalekar"]
[null,null,null,null,null,"Nitin Sawant","Suryawanshi",null,"Nitin Sawant","Nandela","Bhave"]
[null,null,null,null,null,"Gaikwad","Nitin Sawant",null,"Nitin Sawant","Suryawanshi","Nandela"]
[null,null,null,null,null,"Suryawanshi","Mishra",null,"Gaikwad","Sable"]
[null,null,null,null,null,"Pandagale"]
[null,null,null,null,null,"Kuldeep Singh"]
[null,null,null,null,null,"Principal","Blanks in the time table",null,null,{"$f":"COUNTBLANK(F2:O37)","v":81}]
[]
[]
[]
[]
[]
[]
[]
[]
[]
[]
[]
[]
[]
[]
[]
[]
[]
[]
[]
[]
[]
[]
[]
[]
[]
[]
[]
[]
[]
[]
[]
[]
[]
[]
[]
[]
[]
[]
[]
[]
[]
[]
[]
[]
[]
[]
[]
[]
[]
[]
[]
[]
[]
[]
[]
[]
[]
[]
[]
[]
[]
[]
[]
[]
[]
[]
[]
[]
[]
[]
[]
[]
[]
[]
[]
[]
[]
[]
[]
[]
[]
[]
[]
[]
[]
[]
[]
[]
[]
[]
[]
[]
[]
[]
[]
[]
[]
[]
[]
[]
[]
[]
[]
[]
[]
[]
[]
[]
[]
[]
[]
[]
[]
[]
[]
[]
[]
[]
[]
[]
[]
[]
[]
[]
[]
[]
[]
[]
[]
[]
[]
[]
[null,null,null,null,null,null,null,null,null,"CLASS TIME TABLES"]
[]
[]
[]
[]
[]
[]
[]
[]
[]
[]
[]
[]
[]
[]
[]
[]
[]
[]
[]
[]
[]
[]
[]
[]
[]
[]
[]
[]
[]
[]
[]
[]
[]
[]
[]
[]
[]
[]
[]
[]
[]
[]
[]
[]
[]
[]
[]
[]
[]
[]
[]
[]
[]
[]
[]
[]
[]
[]
[]
[]
[]
[]
[]
[]
[]
[]
[]
[]
[]
[]
[]
[]
[]
[]
[]
[]
[]
[]
[]
[]
[]
[]
[]
[]
[]
[]
[]
[]
[]
[]
[]
[]
[]
[]
[]
[]
[]
[]
[]
[]
[]
[]
[]
[]
[]
[]
[]
[]
[]
[]
[]
[]
[]
[]
[]
[]
[]
[]
[]
[]
[]
[]
[]
[]
[]
[]
[]
[]
[]
[]
[]
[]
[]
[]
[]
[]
[]
[]
[]
[]
[]
[]
[]
[]
[]
[]
[]
[]
[]
[]
[]
[]
[]
[]
[]
[]
[]
[]
[]
[]
[]
[]
[]
[]
[]
[]
[]
[]
[]
[]
[]
[]
[]
[]
[]
[]
[]
[]
[]
[]
[]
[]
[]
[]
[]
[]
[]
[]
[]
[]
[]
[]
[]
[]
[]
[]
[]
[]
[]
[]
[]
[]
[]
[]
[]
[]
[]
[]
[]
[]
[]
[]
[null,null,null,null,null,3]

{"sheet":"subjectwise","index":1,"n_rows":61,"n_cols":28,"rows_kept":61,"cut":false,"hidden":false,"merged":[[60,0,60,1],[25,0,30,0],[31,0,36,0],[38,1,38,2],[46,1,46,2],[45,1,45,2],[39,1,39,2],[58,0,58,1],[52,1,52,2],[51,1,51,2],[43,1,43,2],[40,1,40,2],[41,1,41,2],[59,0,59,1],[53,1,53,2],[54,1,54,2],[56,1,56,2],[55,1,55,2],[57,0,57,1],[42,1,42,2],[1,0,6,0],[7,0,12,0],[13,0,18,0],[19,0,24,0],[50,1,50,2],[44,1,44,2],[48,1,48,2],[49,1,49,2],[47,1,47,2]]}
["DAY","PERIOD","START TIME","END TIME","DURATION","id","FYBCOM A","id","FYBCOM B","id","SYBCOM A","id","SYBOCM B","id","TYBCOM A","id","TYBCOM B","id","FYBA","id","SYBA","id","TYBA"]
["MONDAY",1,"04:50:00","05:38:00",{"$f":"D2-C2","v":"00:48:00"},0,{"$f":"subj('TIME TABLE 2015-16'!F2,F2)","v":"Bus.Comm."},0,{"$f":"subj('TIME TABLE 2015-16'!G2,H2)","v":"Maths"},0,{"$f":"subj('TIME TABLE 2015-16'!I2,J2)","v":"___"},0,{"$f":"subj('TIME TABLE 2015-16'!J2,L2)","v":"___"},0,{"$f":"subj('TIME TABLE 2015-16'!K2,N2)","v":"Comp"},0,{"$f":"subj('TIME TABLE 2015-16'!L2,P2)","v":"___"},2,{"$f":"subj('TIME TABLE 2015-16'!M2,R2)","v":"___"},0,{"$f":"subj('TIME TABLE 2015-16'!N2,T2)","v":"___"},0,{"$f":"subj('TIME TABLE 2015-16'!O2,V2)","v":"Economics"}]
[null,2,"05:40:00","06:28:00","00:48:00",0,{"$f":"subj('TIME TABLE 2015-16'!F3,F3)","v":"Maths"},0,{"$f":"subj('TIME TABLE 2015-16'!G3,H3)","v":"Bus.Comm."},0,{"$f":"subj('TIME TABLE 2015-16'!I3,J3)","v":"___"},0,{"$f":"subj('TIME TABLE 2015-16'!J3,L3)","v":"___"},0,{"$f":"subj('TIME TABLE 2015-16'!K3,N3)","v":"Comp"},0,{"$f":"subj('TIME TABLE 2015-16'!L3,P3)","v":"___"},2,{"$f":"subj('TIME TABLE 2015-16'!M3,R3)","v":"___"},4,{"$f":"subj('TIME TABLE 2015-16'!N3,T3)","v":"___"},0,{"$f":"subj('TIME TABLE 2015-16'!O3,V3)","v":"Political Science"}]
[null,3,"06:30:00","07:18:00","00:48:00",2,{"$f":"subj('TIME TABLE 2015-16'!F4,F4)","v":"Commerce 1"},0,{"$f":"subj('TIME TABLE 2015-16'!G4,H4)","v":"EVS"},0,{"$f":"subj('TIME TABLE 2015-16'!I4,J4)","v":"Economics"},2,{"$f":"subj('TIME TABLE 2015-16'!J4,L4)","v":"Foundation Course"},2,{"$f":"subj('TIME TABLE 2015-16'!K4,N4)","v":"Expo. Mark."},3,{"$f":"subj('TIME TABLE 2015-16'!L4,P4)","v":"___"},2,{"$f":"subj('TIME TABLE 2015-16'!M4,R4)","v":"Comm. Skills"},0,{"$f":"subj('TIME TABLE 2015-16'!N4,T4)","v":"___"},0,{"$f":"subj('TIME TABLE 2015-16'!O4,V4)","v":"Economics"}]
[null,4,"07:20:00","08:08:00","00:48:00",0,{"$f":"subj('TIME TABLE 2015-16'!F5,F5)","v":"Economics"},0,{"$f":"subj('TIME TABLE 2015-16'!G5,H5)","v":"EVS"},0,{"$f":"subj('TIME TABLE 2015-16'!I5,J5)","v":"Lab. Wel."},0,{"$f":"subj('TIME TABLE 2015-16'!J5,L5)","v":"Advt."},2,{"$f":"subj('TIME TABLE 2015-16'!K5,N5)","v":"Foundation Course"},0,{"$f":"subj('TIME TABLE 2015-16'!L5,P5)","v":"Accountancy"},2,{"$f":"subj('TIME TABLE 2015-16'!M5,R5)","v":"___"},0,{"$f":"subj('TIME TABLE 2015-16'!N5,T5)","v":"Economics"},0,{"$f":"subj('TIME TABLE 2015-16'!O5,V5)","v":"Political Science"}]
[null,5,"08:20:00","09:08:00","00:48:00",0,{"$f":"subj('TIME TABLE 2015-16'!F6,F6)","v":"EVS"},0,{"$f":"subj('TIME TABLE 2015-16'!G6,H6)","v":"Bus.Comm."},0,{"$f":"subj('TIME TABLE 2015-16'!I6,J6)","v":"Advt."},2,{"$f":"subj('TIME TABLE 2015-16'!J6,L6)","v":"___"},3,{"$f":"subj('TIME TABLE 2015-16'!K6,N6)","v":"___"},0,{"$f":"subj('TIME TABLE 2015-16'!L6,P6)","v":"Lab. Wel."},0,{"$f":"subj('TIME TABLE 2015-16'!M6,R6)","v":"Economics"},0,{"$f":"subj('TIME TABLE 2015-16'!N6,T6)","v":"Political Science"},0,{"$f":"subj('TIME TABLE 2015-16'!O6,V6)","v":"___"}]
[null,6,"09:10:00","09:58:00","00:48:00",0,{"$f":"subj('TIME TABLE 2015-16'!F7,F7)","v":"EVS"},2,{"$f":"subj('TIME TABLE 2015-16'!G7,H7)","v":"Maths"},0,{"$f":"subj('TIME TABLE 2015-16'!I7,J7)","v":"___"},0,{"$f":"subj('TIME TABLE 2015-16'!J7,L7)","v":"___"},0,{"$f":"subj('TIME TABLE 2015-16'!K7,N7)","v":"Accountancy"},0,{"$f":"subj('TIME TABLE 2015-16'!L7,P7)","v":"Advt."},0,{"$f":"subj('TIME TABLE 2015-16'!M7,R7)","v":"___"},2,{"$f":"subj('TIME TABLE 2015-16'!N7,T7)","v":"Political Science"},0,{"$f":"subj('TIME TABLE 2015-16'!O7,V7)","v":"___"},null,null,"Total",{"$f":"SUM(AA8:AA26)","v":200},"Departments"]
["TUESDAY",1,"04:50:00","05:38:00","00:48:00",0,{"$f":"subj('TIME TABLE 2015-16'!F8,F8)","v":"Maths"},0,{"$f":"subj('TIME TABLE 2015-16'!G8,H8)","v":"Bus.Comm."},0,{"$f":"subj('TIME TABLE 2015-16'!I8,J8)","v":"___"},0,{"$f":"subj('TIME TABLE 2015-16'!J8,L8)","v":"___"},0,{"$f":"subj('TIME TABLE 2015-16'!K8,N8)","v":"Comp"},0,{"$f":"subj('TIME TABLE 2015-16'!L8,P8)","v":"___"},2,{"$f":"subj('TIME TABLE 2015-16'!M8,R8)","v":"___"},0,{"$f":"subj('TIME TABLE 2015-16'!N8,T8)","v":"___"},0,{"$f":"subj('TIME TABLE 2015-16'!O8,V8)","v":"Economics"},null,null,"Marathi",{"$f":"COUNTIF($G$2:$W$37,Z8)","v":0},{"$f":"AA8","v":0}]
[null,2,"05:40:00","06:28:00","00:48:00",0,{"$f":"subj('TIME TABLE 2015-16'!F9,F9)","v":"Bus.Comm."},0,{"$f":"subj('TIME TABLE 2015-16'!G9,H9)","v":"Maths"},0,{"$f":"subj('TIME TABLE 2015-16'!I9,J9)","v":"___"},0,{"$f":"subj('TIME TABLE 2015-16'!J9,L9)","v":"___"},0,{"$f":"subj('TIME TABLE 2015-16'!K9,N9)","v":"Comp"},0,{"$f":"subj('TIME TABLE 2015-16'!L9,P9)","v":"___"},2,{"$f":"subj('TIME TABLE 2015-16'!M9,R9)","v":"___"},0,{"$f":"subj('TIME TABLE 2015-16'!N9,T9)","v":"Lab. Wel."},0,{"$f":"subj('TIME TABLE 2015-16'!O9,V9)","v":"Political Science"},null,null,"Political Science",{"$f":"COUNTIF($G$2:$W$37,Z9)","v":21},{"$f":"AA9","v":21}]
[null,3,"06:30:00","07:18:00","00:48:00",0,{"$f":"subj('TIME TABLE 2015-16'!F10,F10)","v":"Economics"},0,{"$f":"subj('TIME TABLE 2015-16'!G10,H10)","v":"Bus.Comm."},0,{"$f":"subj('TIME TABLE 2015-16'!I10,J10)","v":"Advt."},3,{"$f":"subj('TIME TABLE 2015-16'!J10,L10)","v":"___"},2,{"$f":"subj('TIME TABLE 2015-16'!K10,N10)","v":"Expo. Mark."},0,{"$f":"subj('TIME TABLE 2015-16'!L10,P10)","v":"Accountancy"},0,{"$f":"subj('TIME TABLE 2015-16'!M10,R10)","v":"Economics"},0,{"$f":"subj('TIME TABLE 2015-16'!N10,T10)","v":"Political Science"},0,{"$f":"subj('TIME TABLE 2015-16'!O10,V10)","v":"Economics"},null,null,"Economics",46,0]
[null,4,"07:20:00","08:08:00","00:48:00",0,{"$f":"subj('TIME TABLE 2015-16'!F11,F11)","v":"Bus.Comm."},0,{"$f":"subj('TIME TABLE 2015-16'!G11,H11)","v":"Advt."},3,{"$f":"subj('TIME TABLE 2015-16'!I11,J11)","v":"Commerce 2"},0,{"$f":"subj('TIME TABLE 2015-16'!J11,L11)","v":"___"},0,{"$f":"subj('TIME TABLE 2015-16'!K11,N11)","v":"___"},0,{"$f":"subj('TIME TABLE 2015-16'!L11,P11)","v":"Accountancy"},0,{"$f":"subj('TIME TABLE 2015-16'!M11,R11)","v":"Political Science"},2,{"$f":"subj('TIME TABLE 2015-16'!N11,T11)","v":"___"},0,{"$f":"subj('TIME TABLE 2015-16'!O11,V11)","v":"Economics"},null,null,"Foundation Course",11,{"$f":"AA10+AA11","v":57}]
[null,5,"08:20:00","09:08:00","00:48:00",0,{"$f":"subj('TIME TABLE 2015-16'!F12,F12)","v":"Maths"},0,{"$f":"subj('TIME TABLE 2015-16'!G12,H12)","v":"EVS"},0,{"$f":"subj('TIME TABLE 2015-16'!I12,J12)","v":"___"},3,{"$f":"subj('TIME TABLE 2015-16'!J12,L12)","v":"Economics"},0,{"$f":"subj('TIME TABLE 2015-16'!K12,N12)","v":"Accountancy"},0,{"$f":"subj('TIME TABLE 2015-16'!L12,P12)","v":"Advt."},2,{"$f":"subj('TIME TABLE 2015-16'!M12,R12)","v":"___"},0,{"$f":"subj('TIME TABLE 2015-16'!N12,T12)","v":"Economics"},0,{"$f":"subj('TIME TABLE 2015-16'!O12,V12)","v":"Political Science"},null,null,"Accountancy",25,0]
[null,6,"09:10:00","09:58:00","00:48:00",2,{"$f":"subj('TIME TABLE 2015-16'!F13,F13)","v":"Maths"},2,{"$f":"subj('TIME TABLE 2015-16'!G13,H13)","v":"EVS"},0,{"$f":"subj('TIME TABLE 2015-16'!I13,J13)","v":"___"},0,{"$f":"subj('TIME TABLE 2015-16'!J13,L13)","v":"___"},0,{"$f":"subj('TIME TABLE 2015-16'!K13,N13)","v":"Accountancy"},0,{"$f":"subj('TIME TABLE 2015-16'!L13,P13)","v":"Lab. Wel."},0,{"$f":"subj('TIME TABLE 2015-16'!M13,R13)","v":"___"},2,{"$f":"subj('TIME TABLE 2015-16'!N13,T13)","v":"Foundation Course"},0,{"$f":"subj('TIME TABLE 2015-16'!O13,V13)","v":"Political Science"},null,null,"TAXATION",2,{"$f":"AA12+AA13","v":27}]
["WEDNESDAY",1,"04:50:00","05:38:00","00:48:00",0,{"$f":"subj('TIME TABLE 2015-16'!F14,F14)","v":"Maths"},0,{"$f":"subj('TIME TABLE 2015-16'!G14,H14)","v":"Bus.Comm."},0,{"$f":"subj('TIME TABLE 2015-16'!I14,J14)","v":"___"},0,{"$f":"subj('TIME TABLE 2015-16'!J14,L14)","v":"___"},0,{"$f":"subj('TIME TABLE 2015-16'!K14,N14)","v":"Comp"},0,{"$f":"subj('TIME TABLE 2015-16'!L14,P14)","v":"___"},0,{"$f":"subj('TIME TABLE 2015-16'!M14,R14)","v":"___"},0,{"$f":"subj('TIME TABLE 2015-16'!N14,T14)","v":"___"},0,{"$f":"subj('TIME TABLE 2015-16'!O14,V14)","v":"Economics"},null,null,"MATHS",20,{"$f":"AA14","v":20}]
[null,2,"05:40:00","06:28:00","00:48:00",0,{"$f":"subj('TIME TABLE 2015-16'!F15,F15)","v":"Bus.Comm."},0,{"$f":"subj('TIME TABLE 2015-16'!G15,H15)","v":"Maths"},0,{"$f":"subj('TIME TABLE 2015-16'!I15,J15)","v":"___"},0,{"$f":"subj('TIME TABLE 2015-16'!J15,L15)","v":"___"},0,{"$f":"subj('TIME TABLE 2015-16'!K15,N15)","v":"Comp"},0,{"$f":"subj('TIME TABLE 2015-16'!L15,P15)","v":"___"},0,{"$f":"subj('TIME TABLE 2015-16'!M15,R15)","v":"___"},0,{"$f":"subj('TIME TABLE 2015-16'!N15,T15)","v":"___"},0,{"$f":"subj('TIME TABLE 2015-16'!O15,V15)","v":"Political Science"},null,null,"EVS",8,{"$f":"AA15","v":8}]
[null,3,"06:30:00","07:18:00","00:48:00",0,{"$f":"subj('TIME TABLE 2015-16'!F16,F16)","v":"Accountancy"},0,{"$f":"subj('TIME TABLE 2015-16'!G16,H16)","v":"Advt."},0,{"$f":"subj('TIME TABLE 2015-16'!I16,J16)","v":"Economics"},2,{"$f":"subj('TIME TABLE 2015-16'!J16,L16)","v":"Foundation Course"},2,{"$f":"subj('TIME TABLE 2015-16'!K16,N16)","v":"Expo. Mark."},3,{"$f":"subj('TIME TABLE 2015-16'!L16,P16)","v":"___"},0,{"$f":"subj('TIME TABLE 2015-16'!M16,R16)","v":"Political Science"},0,{"$f":"subj('TIME TABLE 2015-16'!N16,T16)","v":"___"},0,{"$f":"subj('TIME TABLE 2015-16'!O16,V16)","v":"___"},null,null,"Comm. Skills",5,0]
[null,4,"07:20:00","08:08:00","00:48:00",0,{"$f":"subj('TIME TABLE 2015-16'!F17,F17)","v":"Accountancy"},2,{"$f":"subj('TIME TABLE 2015-16'!G17,H17)","v":"Maths"},2,{"$f":"subj('TIME TABLE 2015-16'!I17,J17)","v":"Foundation Course"},0,{"$f":"subj('TIME TABLE 2015-16'!J17,L17)","v":"Lab. Wel."},0,{"$f":"subj('TIME TABLE 2015-16'!K17,N17)","v":"Economics"},0,{"$f":"subj('TIME TABLE 2015-16'!L17,P17)","v":"Accountancy"},0,{"$f":"subj('TIME TABLE 2015-16'!M17,R17)","v":"___"},0,{"$f":"subj('TIME TABLE 2015-16'!N17,T17)","v":"Political Science"},0,{"$f":"subj('TIME TABLE 2015-16'!O17,V17)","v":"___"},null,null,"Bus.Comm.",16,{"$f":"AA16+AA17","v":21}]
[null,5,"08:20:00","09:08:00","00:48:00",0,{"$f":"subj('TIME TABLE 2015-16'!F18,F18)","v":"Economics"},2,{"$f":"subj('TIME TABLE 2015-16'!G18,H18)","v":"Accountancy"},0,{"$f":"subj('TIME TABLE 2015-16'!I18,J18)","v":"___"},3,{"$f":"subj('TIME TABLE 2015-16'!J18,L18)","v":"MHRM"},0,{"$f":"subj('TIME TABLE 2015-16'!K18,N18)","v":"Accountancy"},0,{"$f":"subj('TIME TABLE 2015-16'!L18,P18)","v":"Economics"},0,{"$f":"subj('TIME TABLE 2015-16'!M18,R18)","v":"Economics"},0,{"$f":"subj('TIME TABLE 2015-16'!N18,T18)","v":"___"},0,{"$f":"subj('TIME TABLE 2015-16'!O18,V18)","v":"Political Science"},null,null,"Commerce 1",4,0]
[null,6,"09:10:00","09:58:00","00:48:00",2,{"$f":"subj('TIME TABLE 2015-16'!F19,F19)","v":"Commerce 1"},2,{"$f":"subj('TIME TABLE 2015-16'!G19,H19)","v":"Accountancy"},0,{"$f":"subj('TIME TABLE 2015-16'!I19,J19)","v":"___"},3,{"$f":"subj('TIME TABLE 2015-16'!J19,L19)","v":"___"},0,{"$f":"subj('TIME TABLE 2015-16'!K19,N19)","v":"Accountancy"},0,{"$f":"subj('TIME TABLE 2015-16'!L19,P19)","v":"Lab. Wel."},2,{"$f":"subj('TIME TABLE 2015-16'!M19,R19)","v":"Foundation Course"},0,{"$f":"subj('TIME TABLE 2015-16'!N19,T19)","v":"Economics"},0,{"$f":"subj('TIME TABLE 2015-16'!O19,V19)","v":"Political Science"},null,null,"Advt.",12,0]
["THURSDAY",1,"04:50:00","05:38:00","00:48:00",0,{"$f":"subj('TIME TABLE 2015-16'!F20,F20)","v":"Bus.Comm."},2,{"$f":"subj('TIME TABLE 2015-16'!G20,H20)","v":"Maths"},0,{"$f":"subj('TIME TABLE 2015-16'!I20,J20)","v":"___"},0,{"$f":"subj('TIME TABLE 2015-16'!J20,L20)","v":"___"},0,{"$f":"subj('TIME TABLE 2015-16'!K20,N20)","v":"Comp"},0,{"$f":"subj('TIME TABLE 2015-16'!L20,P20)","v":"___"},0,{"$f":"subj('TIME TABLE 2015-16'!M20,R20)","v":"___"},0,{"$f":"subj('TIME TABLE 2015-16'!N20,T20)","v":"___"},0,{"$f":"subj('TIME TABLE 2015-16'!O20,V20)","v":"___"},null,null,"Commerce 2",2,0]
[null,2,"05:40:00","06:28:00","00:48:00",0,{"$f":"subj('TIME TABLE 2015-16'!F21,F21)","v":"Economics"},0,{"$f":"subj('TIME TABLE 2015-16'!G21,H21)","v":"Bus.Comm."},0,{"$f":"subj('TIME TABLE 2015-16'!I21,J21)","v":"___"},0,{"$f":"subj('TIME TABLE 2015-16'!J21,L21)","v":"___"},0,{"$f":"subj('TIME TABLE 2015-16'!K21,N21)","v":"Comp"},0,{"$f":"subj('TIME TABLE 2015-16'!L21,P21)","v":"___"},0,{"$f":"subj('TIME TABLE 2015-16'!M21,R21)","v":"___"},0,{"$f":"subj('TIME TABLE 2015-16'!N21,T21)","v":"___"},0,{"$f":"subj('TIME TABLE 2015-16'!O21,V21)","v":"___"},null,null,"MHRM",3,0]
[null,3,"06:30:00","07:18:00","00:48:00",0,{"$f":"subj('TIME TABLE 2015-16'!F22,F22)","v":"Economics"},2,{"$f":"subj('TIME TABLE 2015-16'!G22,H22)","v":"Maths"},2,{"$f":"subj('TIME TABLE 2015-16'!I22,J22)","v":"___"},0,{"$f":"subj('TIME TABLE 2015-16'!J22,L22)","v":"Advt."},2,{"$f":"subj('TIME TABLE 2015-16'!K22,N22)","v":"Expo. Mark."},2,{"$f":"subj('TIME TABLE 2015-16'!L22,P22)","v":"Taxation"},0,{"$f":"subj('TIME TABLE 2015-16'!M22,R22)","v":"Political Science"},0,{"$f":"subj('TIME TABLE 2015-16'!N22,T22)","v":"Economics"},0,{"$f":"subj('TIME TABLE 2015-16'!O22,V22)","v":"___"},null,null,"Expo. Mark.",5,0]
[null,4,"07:20:00","08:08:00","00:48:00",0,{"$f":"subj('TIME TABLE 2015-16'!F23,F23)","v":"Bus.Comm."},0,{"$f":"subj('TIME TABLE 2015-16'!G23,H23)","v":"Advt."},0,{"$f":"subj('TIME TABLE 2015-16'!I23,J23)","v":"Economics"},2,{"$f":"subj('TIME TABLE 2015-16'!J23,L23)","v":"Expo. Mark."},2,{"$f":"subj('TIME TABLE 2015-16'!K23,N23)","v":"Foundation Course"},0,{"$f":"subj('TIME TABLE 2015-16'!L23,P23)","v":"Accountancy"},0,{"$f":"subj('TIME TABLE 2015-16'!M23,R23)","v":"Political Science"},0,{"$f":"subj('TIME TABLE 2015-16'!N23,T23)","v":"Economics"},0,{"$f":"subj('TIME TABLE 2015-16'!O23,V23)","v":"___"},null,null,"Lab. Wel.",11,{"$f":"SUM(AA18:AA23)","v":37}]
[null,5,"08:20:00","09:08:00","00:48:00",0,{"$f":"subj('TIME TABLE 2015-16'!F24,F24)","v":"Maths"},0,{"$f":"subj('TIME TABLE 2015-16'!G24,H24)","v":"Economics"},3,{"$f":"subj('TIME TABLE 2015-16'!I24,J24)","v":"MHRM"},0,{"$f":"subj('TIME TABLE 2015-16'!J24,L24)","v":"Economics"},3,{"$f":"subj('TIME TABLE 2015-16'!K24,N24)","v":"___"},0,{"$f":"subj('TIME TABLE 2015-16'!L24,P24)","v":"Economics"},0,{"$f":"subj('TIME TABLE 2015-16'!M24,R24)","v":"___"},0,{"$f":"subj('TIME TABLE 2015-16'!N24,T24)","v":"Lab. Wel."},0,{"$f":"subj('TIME TABLE 2015-16'!O24,V24)","v":"Political Science"},null,null,"Bus Law",0,8]
[null,6,"09:10:00","09:58:00","00:48:00",2,{"$f":"subj('TIME TABLE 2015-16'!F25,F25)","v":"Maths"},2,{"$f":"subj('TIME TABLE 2015-16'!G25,H25)","v":"Comm. Skills"},0,{"$f":"subj('TIME TABLE 2015-16'!I25,J25)","v":"Economics"},0,{"$f":"subj('TIME TABLE 2015-16'!J25,L25)","v":"___"},0,{"$f":"subj('TIME TABLE 2015-16'!K25,N25)","v":"Accountancy"},3,{"$f":"subj('TIME TABLE 2015-16'!L25,P25)","v":"___"},0,{"$f":"subj('TIME TABLE 2015-16'!M25,R25)","v":"Economics"},2,{"$f":"subj('TIME TABLE 2015-16'!N25,T25)","v":"___"},0,{"$f":"subj('TIME TABLE 2015-16'!O25,V25)","v":"Economics"},null,null,"COMP",9,9]
["FRIDAY",1,"04:50:00","05:38:00","00:48:00",2,{"$f":"subj('TIME TABLE 2015-16'!F26,F26)","v":"___"},0,{"$f":"subj('TIME TABLE 2015-16'!G26,H26)","v":"Maths"},0,{"$f":"subj('TIME TABLE 2015-16'!I26,J26)","v":"___"},0,{"$f":"subj('TIME TABLE 2015-16'!J26,L26)","v":"___"},0,{"$f":"subj('TIME TABLE 2015-16'!K26,N26)","v":"Comp"},0,{"$f":"subj('TIME TABLE 2015-16'!L26,P26)","v":"___"},0,{"$f":"subj('TIME TABLE 2015-16'!M26,R26)","v":"Bus.Comm."},0,{"$f":"subj('TIME TABLE 2015-16'!N26,T26)","v":"___"},0,{"$f":"subj('TIME TABLE 2015-16'!O26,V26)","v":"___"},null,null,null,null,{"$f":"SUM(AB8:AB25)","v":208}]
[null,2,"05:40:00","06:28:00","00:48:00",0,{"$f":"subj('TIME TABLE 2015-16'!F27,F27)","v":"Maths"},0,{"$f":"subj('TIME TABLE 2015-16'!G27,H27)","v":"Economics"},0,{"$f":"subj('TIME TABLE 2015-16'!I27,J27)","v":"___"},0,{"$f":"subj('TIME TABLE 2015-16'!J27,L27)","v":"___"},0,{"$f":"subj('TIME TABLE 2015-16'!K27,N27)","v":"___"},0,{"$f":"subj('TIME TABLE 2015-16'!L27,P27)","v":"___"},0,{"$f":"subj('TIME TABLE 2015-16'!M27,R27)","v":"Bus.Comm."},0,{"$f":"subj('TIME TABLE 2015-16'!N27,T27)","v":"___"},0,{"$f":"subj('TIME TABLE 2015-16'!O27,V27)","v":"___"}]
[null,3,"06:30:00","07:18:00","00:48:00",0,{"$f":"subj('TIME TABLE 2015-16'!F28,F28)","v":"EVS"},2,{"$f":"subj('TIME TABLE 2015-16'!G28,H28)","v":"Accountancy"},2,{"$f":"subj('TIME TABLE 2015-16'!I28,J28)","v":"___"},0,{"$f":"subj('TIME TABLE 2015-16'!J28,L28)","v":"___"},2,{"$f":"subj('TIME TABLE 2015-16'!K28,N28)","v":"Taxation"},2,{"$f":"subj('TIME TABLE 2015-16'!L28,P28)","v":"Foundation Course"},0,{"$f":"subj('TIME TABLE 2015-16'!M28,R28)","v":"Economics"},0,{"$f":"subj('TIME TABLE 2015-16'!N28,T28)","v":"Political Science"},0,{"$f":"subj('TIME TABLE 2015-16'!O28,V28)","v":"___"}]
[null,4,"07:20:00","08:08:00","00:48:00",0,{"$f":"subj('TIME TABLE 2015-16'!F29,F29)","v":"EVS"},0,{"$f":"subj('TIME TABLE 2015-16'!G29,H29)","v":"Accountancy"},0,{"$f":"subj('TIME TABLE 2015-16'!I29,J29)","v":"___"},3,{"$f":"subj('TIME TABLE 2015-16'!J29,L29)","v":"Economics"},3,{"$f":"subj('TIME TABLE 2015-16'!K29,N29)","v":"MHRM"},0,{"$f":"subj('TIME TABLE 2015-16'!L29,P29)","v":"Lab. Wel."},2,{"$f":"subj('TIME TABLE 2015-16'!M29,R29)","v":"___"},0,{"$f":"subj('TIME TABLE 2015-16'!N29,T29)","v":"Political Science"},0,{"$f":"subj('TIME TABLE 2015-16'!O29,V29)","v":"Economics"}]
[null,5,"08:20:00","09:08:00","00:48:00",0,{"$f":"subj('TIME TABLE 2015-16'!F30,F30)","v":"Accountancy"},0,{"$f":"subj('TIME TABLE 2015-16'!G30,H30)","v":"Economics"},3,{"$f":"subj('TIME TABLE 2015-16'!I30,J30)","v":"___"},0,{"$f":"subj('TIME TABLE 2015-16'!J30,L30)","v":"___"},0,{"$f":"subj('TIME TABLE 2015-16'!K30,N30)","v":"Accountancy"},0,{"$f":"subj('TIME TABLE 2015-16'!L30,P30)","v":"Advt."},2,{"$f":"subj('TIME TABLE 2015-16'!M30,R30)","v":"Comm. Skills"},0,{"$f":"subj('TIME TABLE 2015-16'!N30,T30)","v":"Lab. Wel."},0,{"$f":"subj('TIME TABLE 2015-16'!O30,V30)","v":"___"}]
[null,6,"09:10:00","09:58:00","00:48:00",2,{"$f":"subj('TIME TABLE 2015-16'!F31,F31)","v":"Accountancy"},0,{"$f":"subj('TIME TABLE 2015-16'!G31,H31)","v":"Economics"},0,{"$f":"subj('TIME TABLE 2015-16'!I31,J31)","v":"___"},0,{"$f":"subj('TIME TABLE 2015-16'!J31,L31)","v":"___"},0,{"$f":"subj('TIME TABLE 2015-16'!K31,N31)","v":"Accountancy"},0,{"$f":"subj('TIME TABLE 2015-16'!L31,P31)","v":"Advt."},0,{"$f":"subj('TIME TABLE 2015-16'!M31,R31)","v":"___"},0,{"$f":"subj('TIME TABLE 2015-16'!N31,T31)","v":"Economics"},0,{"$f":"subj('TIME TABLE 2015-16'!O31,V31)","v":"Economics"}]
["SATURDAY",1,"04:50:00","05:38:00","00:48:00",2,{"$f":"subj('TIME TABLE 2015-16'!F32,F32)","v":"___"},2,{"$f":"subj('TIME TABLE 2015-16'!G32,H32)","v":"___"},0,{"$f":"subj('TIME TABLE 2015-16'!I32,J32)","v":"___"},0,{"$f":"subj('TIME TABLE 2015-16'!J32,L32)","v":"___"},0,{"$f":"subj('TIME TABLE 2015-16'!K32,N32)","v":"___"},0,{"$f":"subj('TIME TABLE 2015-16'!L32,P32)","v":"___"},2,{"$f":"subj('TIME TABLE 2015-16'!M32,R32)","v":"Comm. Skills"},0,{"$f":"subj('TIME TABLE 2015-16'!N32,T32)","v":"___"},0,{"$f":"subj('TIME TABLE 2015-16'!O32,V32)","v":"___"}]
[null,2,"05:40:00","06:28:00","00:48:00",2,{"$f":"subj('TIME TABLE 2015-16'!F33,F33)","v":"Maths"},0,{"$f":"subj('TIME TABLE 2015-16'!G33,H33)","v":"___"},0,{"$f":"subj('TIME TABLE 2015-16'!I33,J33)","v":"___"},0,{"$f":"subj('TIME TABLE 2015-16'!J33,L33)","v":"___"},0,{"$f":"subj('TIME TABLE 2015-16'!K33,N33)","v":"___"},0,{"$f":"subj('TIME TABLE 2015-16'!L33,P33)","v":"___"},0,{"$f":"subj('TIME TABLE 2015-16'!M33,R33)","v":"Bus.Comm."},0,{"$f":"subj('TIME TABLE 2015-16'!N33,T33)","v":"___"},0,{"$f":"subj('TIME TABLE 2015-16'!O33,V33)","v":"___"}]
[null,3,"06:30:00","07:18:00","00:48:00",2,{"$f":"subj('TIME TABLE 2015-16'!F34,F34)","v":"Commerce 1"},0,{"$f":"subj('TIME TABLE 2015-16'!G34,H34)","v":"Maths"},3,{"$f":"subj('TIME TABLE 2015-16'!I34,J34)","v":"Commerce 2"},2,{"$f":"subj('TIME TABLE 2015-16'!J34,L34)","v":"Foundation Course"},0,{"$f":"subj('TIME TABLE 2015-16'!K34,N34)","v":"___"},0,{"$f":"subj('TIME TABLE 2015-16'!L34,P34)","v":"Accountancy"},0,{"$f":"subj('TIME TABLE 2015-16'!M34,R34)","v":"Economics"},0,{"$f":"subj('TIME TABLE 2015-16'!N34,T34)","v":"Economics"},0,{"$f":"subj('TIME TABLE 2015-16'!O34,V34)","v":"Political Science"}]
[null,4,"07:20:00","08:08:00","00:48:00",2,{"$f":"subj('TIME TABLE 2015-16'!F35,F35)","v":"Foundation Course"},0,{"$f":"subj('TIME TABLE 2015-16'!G35,H35)","v":"Maths"},3,{"$f":"subj('TIME TABLE 2015-16'!I35,J35)","v":"___"},0,{"$f":"subj('TIME TABLE 2015-16'!J35,L35)","v":"Lab. Wel."},0,{"$f":"subj('TIME TABLE 2015-16'!K35,N35)","v":"Advt."},0,{"$f":"subj('TIME TABLE 2015-16'!L35,P35)","v":"Accountancy"},0,{"$f":"subj('TIME TABLE 2015-16'!M35,R35)","v":"Bus.Comm."},0,{"$f":"subj('TIME TABLE 2015-16'!N35,T35)","v":"Economics"},0,{"$f":"subj('TIME TABLE 2015-16'!O35,V35)","v":"Political Science"}]
[null,5,"08:20:00","09:08:00","00:48:00",0,{"$f":"subj('TIME TABLE 2015-16'!F36,F36)","v":"Maths"},0,{"$f":"subj('TIME TABLE 2015-16'!G36,H36)","v":"Economics"},3,{"$f":"subj('TIME TABLE 2015-16'!I36,J36)","v":"Economics"},0,{"$f":"subj('TIME TABLE 2015-16'!J36,L36)","v":"___"},0,{"$f":"subj('TIME TABLE 2015-16'!K36,N36)","v":"Accountancy"},0,{"$f":"subj('TIME TABLE 2015-16'!L36,P36)","v":"___"},0,{"$f":"subj('TIME TABLE 2015-16'!M36,R36)","v":"___"},0,{"$f":"subj('TIME TABLE 2015-16'!N36,T36)","v":"Lab. Wel."},0,{"$f":"subj('TIME TABLE 2015-16'!O36,V36)","v":"Economics"}]
[null,6,"09:10:00","09:58:00","00:48:00",2,{"$f":"subj('TIME TABLE 2015-16'!F37,F37)","v":"Comm. Skills"},2,{"$f":"subj('TIME TABLE 2015-16'!G37,H37)","v":"Foundation Course"},0,{"$f":"subj('TIME TABLE 2015-16'!I37,J37)","v":"___"},0,{"$f":"subj('TIME TABLE 2015-16'!J37,L37)","v":"___"},0,{"$f":"subj('TIME TABLE 2015-16'!K37,N37)","v":"Accountancy"},2,{"$f":"subj('TIME TABLE 2015-16'!L37,P37)","v":"Commerce 1"},0,{"$f":"subj('TIME TABLE 2015-16'!M37,R37)","v":"___"},0,{"$f":"subj('TIME TABLE 2015-16'!N37,T37)","v":"___"},0,{"$f":"subj('TIME TABLE 2015-16'!O37,V37)","v":"Economics"}]
["SRNO","SUBJECTS",null,"Expected","Actual","diff","FYBCOM A","id","FYBCOM B","id","SYBCOM A","id","SYBOCM B","id","TYBCOM A","id","TYBCOM B","id","FYBA","id","SYBA",null,"TYBA"]
[1,"Marathi",null,25,{"$f":"SUM(G39,I39,K39,M39,O39,Q39,S39,U39,W39)","v":0},{"$f":"E39-D39","v":-25},{"$f":"COUNTIF($G$2:$G$37,B39)","v":0},null,{"$f":"COUNTIF($I$2:$I$37,B39)","v":0},null,{"$f":"COUNTIF($K$2:$K$37,B39)","v":0},null,{"$f":"COUNTIF($M$2:$M$37,B39)","v":0},null,{"$f":"COUNTIF($O$2:$O$37,B39)","v":0},null,{"$f":"COUNTIF($Q$2:$Q$37,B39)","v":0},null,{"$f":"COUNTIF($S$2:$S$37,B39)","v":0},null,{"$f":"COUNTIF($U$2:$U$37,B39)","v":0},null,{"$f":"COUNTIF($W$2:$W$37,B39)","v":0}]
[2,"Political Science",null,21,21,{"$f":"E40-D40","v":0},{"$f":"COUNTIF($G$2:$G$37,B40)","v":0},null,{"$f":"COUNTIF($I$2:$I$37,B40)","v":0},null,{"$f":"COUNTIF($K$2:$K$37,B40)","v":0},null,{"$f":"COUNTIF($M$2:$M$37,B40)","v":0},null,{"$f":"COUNTIF($O$2:$O$37,B40)","v":0},null,{"$f":"COUNTIF($Q$2:$Q$37,B40)","v":0},null,{"$f":"COUNTIF($S$2:$S$37,B40)","v":4},null,{"$f":"COUNTIF($U$2:$U$37,B40)","v":6},null,{"$f":"COUNTIF($W$2:$W$37,B40)","v":11}]
[3,"Economics",null,39,46,7,5,null,5,null,5,null,3,null,1,null,2,null,6,null,8,null,11]
[4,"Foundation Course",null,18,11,-7,1,null,1,null,1,null,3,null,2,null,1,null,1,null,1,null,0]
[5,"Accountancy",null,38,25,-13,4,null,4,null,0,null,0,null,10,null,7,null,0,null,0,null,0]
[6,"TAXATION",null,3,2,-1,0,null,0,null,0,null,0,null,1,null,1,null,0,null,0,null,0]
[7,"MATHS",null,20,20,0,10,null,10,null,0,null,0,null,0,null,0,null,0,null,0,null,0]
[8,"EVS",null,8,8,0,4,null,4,null,0,null,0,null,0,null,0,null,0,null,0,null,0]
[9,"Comm. Skills",null,7,5,-2,1,null,1,null,0,null,0,null,0,null,0,null,3,null,0,null,0]
[10,"Bus.Comm.",null,14,16,2,6,null,6,null,0,null,0,null,0,null,0,null,4,null,0,null,0]
[11,"Commerce 1",null,6,4,-2,3,null,0,null,0,null,0,null,0,null,1,null,0,null,0,null,0]
[12,"Advt.",null,10,12,2,0,null,3,null,2,null,2,null,1,null,4,null,0,null,0,null,0]
[13,"Commerce 2",null,6,2,-4,0,null,0,null,2,null,0,null,0,null,0,null,0,null,0,null,0]
[14,"MHRM",null,6,3,-3,0,null,0,null,1,null,1,null,1,null,0,null,0,null,0,null,0]
[15,"Expo. Mark.",null,6,5,-1,0,null,0,null,0,null,1,null,4,null,0,null,0,null,0,null,0]
[16,"Lab. Wel.",null,3,11,8,0,null,0,null,1,null,2,null,0,null,4,null,0,null,4,null,0]
[17,"Bus Law",null,8,0,-8,0,null,0,null,0,null,0,null,0,null,0,null,0,null,0,null,0]
[18,"COMP",null,9,9,0,0,null,0,null,0,null,0,null,9,null,0,null,0,null,0,null,0]
[null,{"$f":"SUM(G57:W57)","v":200},null,{"$f":"SUM(D39:D56)","v":247},{"$f":"SUM(E39:E56)","v":200},{"$f":"SUM(F39:F56)","v":-47},{"$f":"SUM(G39:G56)","v":34},null,{"$f":"SUM(I39:I56)","v":34},null,12,null,12,null,29,null,20,null,18,null,19,null,22]
["Expected",null,{"$f":"SUM(G58:W58)","v":247},null,null,null,34,null,34,null,20,null,20,null,32,null,23,null,26,null,25,null,33]
["Diff",null,{"$f":"SUM(G59:W59)","v":47},null,null,null,{"$f":"G58-G57","v":0},null,{"$f":"I58-I57","v":0},null,{"$f":"K58-K57","v":8},null,{"$f":"M58-M57","v":8},null,{"$f":"O58-O57","v":3},null,{"$f":"Q58-Q57","v":3},null,{"$f":"S58-S57","v":8},null,{"$f":"U58-U57","v":6},null,{"$f":"W58-W57","v":11}]
["Total possible",null,{"$f":"SUM(G60:W60)","v":324},null,null,null,36,null,36,null,36,null,36,null,36,null,36,null,36,null,36,null,36]
["Blank",null,{"$f":"SUM(G61:W61)","v":124},null,null,null,{"$f":"G60-G57","v":2},null,{"$f":"I60-I57","v":2},null,{"$f":"K60-K57","v":24},null,{"$f":"M60-M57","v":24},null,{"$f":"O60-O57","v":7},null,{"$f":"Q60-Q57","v":16},null,{"$f":"S60-S57","v":18},null,{"$f":"U60-U57","v":17},null,{"$f":"W60-W57","v":14}]

{"sheet":"INDIVIDUAL TT","index":2,"n_rows":212,"n_cols":14,"rows_kept":212,"cut":false,"hidden":false,"merged":[]}
[null,"BHALEKAR"]
[null,"M","T","W","T","F","S"]
["04:50:00",{"$f":"TT('TIME TABLE 2015-16'!$A$39,'TIME TABLE 2015-16'!F2,'TIME TABLE 2015-16'!G2,'TIME TABLE 2015-16'!I2,'TIME TABLE 2015-16'!J2,'TIME TABLE 2015-16'!K2,'TIME TABLE 2015-16'!L2,'TIME TABLE 2015-16'!M2,'TIME TABLE 2015-16'!N2,'TIME TABLE 2015-16'!O2,'TIME TABLE 2015-16'!H2)","v":"---"},{"$f":"TT('TIME TABLE 2015-16'!$A$39,'TIME TABLE 2015-16'!F8,'TIME TABLE 2015-16'!G8,'TIME TABLE 2015-16'!I8,'TIME TABLE 2015-16'!J8,'TIME TABLE 2015-16'!K8,'TIME TABLE 2015-16'!L8,'TIME TABLE 2015-16'!M8,'TIME TABLE 2015-16'!N8,'TIME TABLE 2015-16'!O8,'TIME TABLE 2015-16'!H8)","v":"---"},{"$f":"TT('TIME TABLE 2015-16'!$A$39,'TIME TABLE 2015-16'!F14,'TIME TABLE 2015-16'!G14,'TIME TABLE 2015-16'!I14,'TIME TABLE 2015-16'!J14,'TIME TABLE 2015-16'!K14,'TIME TABLE 2015-16'!L14,'TIME TABLE 2015-16'!M14,'TIME TABLE 2015-16'!N14,'TIME TABLE 2015-16'!O14,'TIME TABLE 2015-16'!H14)","v":"---"},{"$f":"TT('TIME TABLE 2015-16'!$A$39,'TIME TABLE 2015-16'!F20,'TIME TABLE 2015-16'!G20,'TIME TABLE 2015-16'!I20,'TIME TABLE 2015-16'!J20,'TIME TABLE 2015-16'!K20,'TIME TABLE 2015-16'!L20,'TIME TABLE 2015-16'!M20,'TIME TABLE 2015-16'!N20,'TIME TABLE 2015-16'!O20,'TIME TABLE 2015-16'!H20)","v":"---"},{"$f":"TT('TIME TABLE 2015-16'!$A$39,'TIME TABLE 2015-16'!F26,'TIME TABLE 2015-16'!G26,'TIME TABLE 2015-16'!I26,'TIME TABLE 2015-16'!J26,'TIME TABLE 2015-16'!K26,'TIME TABLE 2015-16'!L26,'TIME TABLE 2015-16'!M26,'TIME TABLE 2015-16'!N26,'TIME TABLE 2015-16'!O26,'TIME TABLE 2015-16'!H26)","v":"---"},{"$f":"TT('TIME TABLE 2015-16'!$A$39,'TIME TABLE 2015-16'!F32,'TIME TABLE 2015-16'!G32,'TIME TABLE 2015-16'!I32,'TIME TABLE 2015-16'!J32,'TIME TABLE 2015-16'!K32,'TIME TABLE 2015-16'!L32,'TIME TABLE 2015-16'!M32,'TIME TABLE 2015-16'!N32,'TIME TABLE 2015-16'!O32,'TIME TABLE 2015-16'!H32)","v":"---"},null,null,null,null,null,null,1]
["05:40:00",{"$f":"TT('TIME TABLE 2015-16'!$A$39,'TIME TABLE 2015-16'!F3,'TIME TABLE 2015-16'!G3,'TIME TABLE 2015-16'!I3,'TIME TABLE 2015-16'!J3,'TIME TABLE 2015-16'!K3,'TIME TABLE 2015-16'!L3,'TIME TABLE 2015-16'!M3,'TIME TABLE 2015-16'!N3,'TIME TABLE 2015-16'!O3,'TIME TABLE 2015-16'!H3)","v":"---"},{"$f":"TT('TIME TABLE 2015-16'!$A$39,'TIME TABLE 2015-16'!F9,'TIME TABLE 2015-16'!G9,'TIME TABLE 2015-16'!I9,'TIME TABLE 2015-16'!J9,'TIME TABLE 2015-16'!K9,'TIME TABLE 2015-16'!L9,'TIME TABLE 2015-16'!M9,'TIME TABLE 2015-16'!N9,'TIME TABLE 2015-16'!O9,'TIME TABLE 2015-16'!H9)","v":"---"},{"$f":"TT('TIME TABLE 2015-16'!$A$39,'TIME TABLE 2015-16'!F15,'TIME TABLE 2015-16'!G15,'TIME TABLE 2015-16'!I15,'TIME TABLE 2015-16'!J15,'TIME TABLE 2015-16'!K15,'TIME TABLE 2015-16'!L15,'TIME TABLE 2015-16'!M15,'TIME TABLE 2015-16'!N15,'TIME TABLE 2015-16'!O15,'TIME TABLE 2015-16'!H15)","v":"---"},{"$f":"TT('TIME TABLE 2015-16'!$A$39,'TIME TABLE 2015-16'!F21,'TIME TABLE 2015-16'!G21,'TIME TABLE 2015-16'!I21,'TIME TABLE 2015-16'!J21,'TIME TABLE 2015-16'!K21,'TIME TABLE 2015-16'!L21,'TIME TABLE 2015-16'!M21,'TIME TABLE 2015-16'!N21,'TIME TABLE 2015-16'!O21,'TIME TABLE 2015-16'!H21)","v":"---"},{"$f":"TT('TIME TABLE 2015-16'!$A$39,'TIME TABLE 2015-16'!F27,'TIME TABLE 2015-16'!G27,'TIME TABLE 2015-16'!I27,'TIME TABLE 2015-16'!J27,'TIME TABLE 2015-16'!K27,'TIME TABLE 2015-16'!L27,'TIME TABLE 2015-16'!M27,'TIME TABLE 2015-16'!N27,'TIME TABLE 2015-16'!O27,'TIME TABLE 2015-16'!H27)","v":"---"},{"$f":"TT('TIME TABLE 2015-16'!$A$39,'TIME TABLE 2015-16'!F33,'TIME TABLE 2015-16'!G33,'TIME TABLE 2015-16'!I33,'TIME TABLE 2015-16'!J33,'TIME TABLE 2015-16'!K33,'TIME TABLE 2015-16'!L33,'TIME TABLE 2015-16'!M33,'TIME TABLE 2015-16'!N33,'TIME TABLE 2015-16'!O33,'TIME TABLE 2015-16'!H33)","v":"---"},null,null,null,null,null,null,2]
["06:30:00",{"$f":"TT('TIME TABLE 2015-16'!$A$39,'TIME TABLE 2015-16'!F4,'TIME TABLE 2015-16'!G4,'TIME TABLE 2015-16'!I4,'TIME TABLE 2015-16'!J4,'TIME TABLE 2015-16'!K4,'TIME TABLE 2015-16'!L4,'TIME TABLE 2015-16'!M4,'TIME TABLE 2015-16'!N4,'TIME TABLE 2015-16'!O4,'TIME TABLE 2015-16'!H4)","v":"---"},{"$f":"TT('TIME TABLE 2015-16'!$A$39,'TIME TABLE 2015-16'!F10,'TIME TABLE 2015-16'!G10,'TIME TABLE 2015-16'!I10,'TIME TABLE 2015-16'!J10,'TIME TABLE 2015-16'!K10,'TIME TABLE 2015-16'!L10,'TIME TABLE 2015-16'!M10,'TIME TABLE 2015-16'!N10,'TIME TABLE 2015-16'!O10,'TIME TABLE 2015-16'!H10)","v":"---"},{"$f":"TT('TIME TABLE 2015-16'!$A$39,'TIME TABLE 2015-16'!F16,'TIME TABLE 2015-16'!G16,'TIME TABLE 2015-16'!I16,'TIME TABLE 2015-16'!J16,'TIME TABLE 2015-16'!K16,'TIME TABLE 2015-16'!L16,'TIME TABLE 2015-16'!M16,'TIME TABLE 2015-16'!N16,'TIME TABLE 2015-16'!O16,'TIME TABLE 2015-16'!H16)","v":"TYBA"},{"$f":"TT('TIME TABLE 2015-16'!$A$39,'TIME TABLE 2015-16'!F22,'TIME TABLE 2015-16'!G22,'TIME TABLE 2015-16'!I22,'TIME TABLE 2015-16'!J22,'TIME TABLE 2015-16'!K22,'TIME TABLE 2015-16'!L22,'TIME TABLE 2015-16'!M22,'TIME TABLE 2015-16'!N22,'TIME TABLE 2015-16'!O22,'TIME TABLE 2015-16'!H22)","v":"---"},{"$f":"TT('TIME TABLE 2015-16'!$A$39,'TIME TABLE 2015-16'!F28,'TIME TABLE 2015-16'!G28,'TIME TABLE 2015-16'!I28,'TIME TABLE 2015-16'!J28,'TIME TABLE 2015-16'!K28,'TIME TABLE 2015-16'!L28,'TIME TABLE 2015-16'!M28,'TIME TABLE 2015-16'!N28,'TIME TABLE 2015-16'!O28,'TIME TABLE 2015-16'!H28)","v":"TYBA"},{"$f":"TT('TIME TABLE 2015-16'!$A$39,'TIME TABLE 2015-16'!F34,'TIME TABLE 2015-16'!G34,'TIME TABLE 2015-16'!I34,'TIME TABLE 2015-16'!J34,'TIME TABLE 2015-16'!K34,'TIME TABLE 2015-16'!L34,'TIME TABLE 2015-16'!M34,'TIME TABLE 2015-16'!N34,'TIME TABLE 2015-16'!O34,'TIME TABLE 2015-16'!H34)","v":"---"},null,null,null,null,null,null,3]
["07:20:00",{"$f":"TT('TIME TABLE 2015-16'!$A$39,'TIME TABLE 2015-16'!F5,'TIME TABLE 2015-16'!G5,'TIME TABLE 2015-16'!I5,'TIME TABLE 2015-16'!J5,'TIME TABLE 2015-16'!K5,'TIME TABLE 2015-16'!L5,'TIME TABLE 2015-16'!M5,'TIME TABLE 2015-16'!N5,'TIME TABLE 2015-16'!O5,'TIME TABLE 2015-16'!H5)","v":"---"},{"$f":"TT('TIME TABLE 2015-16'!$A$39,'TIME TABLE 2015-16'!F11,'TIME TABLE 2015-16'!G11,'TIME TABLE 2015-16'!I11,'TIME TABLE 2015-16'!J11,'TIME TABLE 2015-16'!K11,'TIME TABLE 2015-16'!L11,'TIME TABLE 2015-16'!M11,'TIME TABLE 2015-16'!N11,'TIME TABLE 2015-16'!O11,'TIME TABLE 2015-16'!H11)","v":"---"},{"$f":"TT('TIME TABLE 2015-16'!$A$39,'TIME TABLE 2015-16'!F17,'TIME TABLE 2015-16'!G17,'TIME TABLE 2015-16'!I17,'TIME TABLE 2015-16'!J17,'TIME TABLE 2015-16'!K17,'TIME TABLE 2015-16'!L17,'TIME TABLE 2015-16'!M17,'TIME TABLE 2015-16'!N17,'TIME TABLE 2015-16'!O17,'TIME TABLE 2015-16'!H17)","v":"TYBA"},{"$f":"TT('TIME TABLE 2015-16'!$A$39,'TIME TABLE 2015-16'!F23,'TIME TABLE 2015-16'!G23,'TIME TABLE 2015-16'!I23,'TIME TABLE 2015-16'!J23,'TIME TABLE 2015-16'!K23,'TIME TABLE 2015-16'!L23,'TIME TABLE 2015-16'!M23,'TIME TABLE 2015-16'!N23,'TIME TABLE 2015-16'!O23,'TIME TABLE 2015-16'!H23)","v":"---"},{"$f":"TT('TIME TABLE 2015-16'!$A$39,'TIME TABLE 2015-16'!F29,'TIME TABLE 2015-16'!G29,'TIME TABLE 2015-16'!I29,'TIME TABLE 2015-16'!J29,'TIME TABLE 2015-16'!K29,'TIME TABLE 2015-16'!L29,'TIME TABLE 2015-16'!M29,'TIME TABLE 2015-16'!N29,'TIME TABLE 2015-16'!O29,'TIME TABLE 2015-16'!H29)","v":"FYBA"},{"$f":"TT('TIME TABLE 2015-16'!$A$39,'TIME TABLE 2015-16'!F35,'TIME TABLE 2015-16'!G35,'TIME TABLE 2015-16'!I35,'TIME TABLE 2015-16'!J35,'TIME TABLE 2015-16'!K35,'TIME TABLE 2015-16'!L35,'TIME TABLE 2015-16'!M35,'TIME TABLE 2015-16'!N35,'TIME TABLE 2015-16'!O35,'TIME TABLE 2015-16'!H35)","v":"---"},null,null,null,null,null,null,4]
["08:20:00",{"$f":"TT('TIME TABLE 2015-16'!$A$39,'TIME TABLE 2015-16'!F6,'TIME TABLE 2015-16'!G6,'TIME TABLE 2015-16'!I6,'TIME TABLE 2015-16'!J6,'TIME TABLE 2015-16'!K6,'TIME TABLE 2015-16'!L6,'TIME TABLE 2015-16'!M6,'TIME TABLE 2015-16'!N6,'TIME TABLE 2015-16'!O6,'TIME TABLE 2015-16'!H6)","v":"---"},{"$f":"TT('TIME TABLE 2015-16'!$A$39,'TIME TABLE 2015-16'!F12,'TIME TABLE 2015-16'!G12,'TIME TABLE 2015-16'!I12,'TIME TABLE 2015-16'!J12,'TIME TABLE 2015-16'!K12,'TIME TABLE 2015-16'!L12,'TIME TABLE 2015-16'!M12,'TIME TABLE 2015-16'!N12,'TIME TABLE 2015-16'!O12,'TIME TABLE 2015-16'!H12)","v":"---"},{"$f":"TT('TIME TABLE 2015-16'!$A$39,'TIME TABLE 2015-16'!F18,'TIME TABLE 2015-16'!G18,'TIME TABLE 2015-16'!I18,'TIME TABLE 2015-16'!J18,'TIME TABLE 2015-16'!K18,'TIME TABLE 2015-16'!L18,'TIME TABLE 2015-16'!M18,'TIME TABLE 2015-16'!N18,'TIME TABLE 2015-16'!O18,'TIME TABLE 2015-16'!H18)","v":"SYBA"},{"$f":"TT('TIME TABLE 2015-16'!$A$39,'TIME TABLE 2015-16'!F24,'TIME TABLE 2015-16'!G24,'TIME TABLE 2015-16'!I24,'TIME TABLE 2015-16'!J24,'TIME TABLE 2015-16'!K24,'TIME TABLE 2015-16'!L24,'TIME TABLE 2015-16'!M24,'TIME TABLE 2015-16'!N24,'TIME TABLE 2015-16'!O24,'TIME TABLE 2015-16'!H24)","v":"---"},{"$f":"TT('TIME TABLE 2015-16'!$A$39,'TIME TABLE 2015-16'!F30,'TIME TABLE 2015-16'!G30,'TIME TABLE 2015-16'!I30,'TIME TABLE 2015-16'!J30,'TIME TABLE 2015-16'!K30,'TIME TABLE 2015-16'!L30,'TIME TABLE 2015-16'!M30,'TIME TABLE 2015-16'!N30,'TIME TABLE 2015-16'!O30,'TIME TABLE 2015-16'!H30)","v":"---"},{"$f":"TT('TIME TABLE 2015-16'!$A$39,'TIME TABLE 2015-16'!F36,'TIME TABLE 2015-16'!G36,'TIME TABLE 2015-16'!I36,'TIME TABLE 2015-16'!J36,'TIME TABLE 2015-16'!K36,'TIME TABLE 2015-16'!L36,'TIME TABLE 2015-16'!M36,'TIME TABLE 2015-16'!N36,'TIME TABLE 2015-16'!O36,'TIME TABLE 2015-16'!H36)","v":"---"},null,null,null,null,null,null,5]
["09:10:00",{"$f":"TT('TIME TABLE 2015-16'!$A$39,'TIME TABLE 2015-16'!F7,'TIME TABLE 2015-16'!G7,'TIME TABLE 2015-16'!I7,'TIME TABLE 2015-16'!J7,'TIME TABLE 2015-16'!K7,'TIME TABLE 2015-16'!L7,'TIME TABLE 2015-16'!M7,'TIME TABLE 2015-16'!N7,'TIME TABLE 2015-16'!O7,'TIME TABLE 2015-16'!H7)","v":"---"},{"$f":"TT('TIME TABLE 2015-16'!$A$39,'TIME TABLE 2015-16'!F13,'TIME TABLE 2015-16'!G13,'TIME TABLE 2015-16'!I13,'TIME TABLE 2015-16'!J13,'TIME TABLE 2015-16'!K13,'TIME TABLE 2015-16'!L13,'TIME TABLE 2015-16'!M13,'TIME TABLE 2015-16'!N13,'TIME TABLE 2015-16'!O13,'TIME TABLE 2015-16'!H13)","v":"---"},{"$f":"TT('TIME TABLE 2015-16'!$A$39,'TIME TABLE 2015-16'!F19,'TIME TABLE 2015-16'!G19,'TIME TABLE 2015-16'!I19,'TIME TABLE 2015-16'!J19,'TIME TABLE 2015-16'!K19,'TIME TABLE 2015-16'!L19,'TIME TABLE 2015-16'!M19,'TIME TABLE 2015-16'!N19,'TIME TABLE 2015-16'!O19,'TIME TABLE 2015-16'!H19)","v":"---"},{"$f":"TT('TIME TABLE 2015-16'!$A$39,'TIME TABLE 2015-16'!F25,'TIME TABLE 2015-16'!G25,'TIME TABLE 2015-16'!I25,'TIME TABLE 2015-16'!J25,'TIME TABLE 2015-16'!K25,'TIME TABLE 2015-16'!L25,'TIME TABLE 2015-16'!M25,'TIME TABLE 2015-16'!N25,'TIME TABLE 2015-16'!O25,'TIME TABLE 2015-16'!H25)","v":"---"},{"$f":"TT('TIME TABLE 2015-16'!$A$39,'TIME TABLE 2015-16'!F31,'TIME TABLE 2015-16'!G31,'TIME TABLE 2015-16'!I31,'TIME TABLE 2015-16'!J31,'TIME TABLE 2015-16'!K31,'TIME TABLE 2015-16'!L31,'TIME TABLE 2015-16'!M31,'TIME TABLE 2015-16'!N31,'TIME TABLE 2015-16'!O31,'TIME TABLE 2015-16'!H31)","v":"---"},{"$f":"TT('TIME TABLE 2015-16'!$A$39,'TIME TABLE 2015-16'!F37,'TIME TABLE 2015-16'!G37,'TIME TABLE 2015-16'!I37,'TIME TABLE 2015-16'!J37,'TIME TABLE 2015-16'!K37,'TIME TABLE 2015-16'!L37,'TIME TABLE 2015-16'!M37,'TIME TABLE 2015-16'!N37,'TIME TABLE 2015-16'!O37,'TIME TABLE 2015-16'!H37)","v":"---"},{"$f":"36-(COUNTIF(B3:G8,\"---\"))","v":5},null,null,null,null,null,6]
[null,null,null,null,null,null,null,null,null,null,null,null,null,7]
[null,"Principal",null,null,null,null,null,null,null,null,null,null,null,8]
[null,"M","T","W","T","F","S",null,null,null,null,null,null,9]
["04:50:00",{"$f":"TT('TIME TABLE 2015-16'!$A$44,'TIME TABLE 2015-16'!F2,'TIME TABLE 2015-16'!G2,'TIME TABLE 2015-16'!I2,'TIME TABLE 2015-16'!J2,'TIME TABLE 2015-16'!K2,'TIME TABLE 2015-16'!L2,'TIME TABLE 2015-16'!M2,'TIME TABLE 2015-16'!N2,'TIME TABLE 2015-16'!O2,'TIME TABLE 2015-16'!H2)","v":"---"},{"$f":"TT('TIME TABLE 2015-16'!$A$44,'TIME TABLE 2015-16'!F8,'TIME TABLE 2015-16'!G8,'TIME TABLE 2015-16'!I8,'TIME TABLE 2015-16'!J8,'TIME TABLE 2015-16'!K8,'TIME TABLE 2015-16'!L8,'TIME TABLE 2015-16'!M8,'TIME TABLE 2015-16'!N8,'TIME TABLE 2015-16'!O8,'TIME TABLE 2015-16'!H8)","v":"---"},{"$f":"TT('TIME TABLE 2015-16'!$A$44,'TIME TABLE 2015-16'!F14,'TIME TABLE 2015-16'!G14,'TIME TABLE 2015-16'!I14,'TIME TABLE 2015-16'!J14,'TIME TABLE 2015-16'!K14,'TIME TABLE 2015-16'!L14,'TIME TABLE 2015-16'!M14,'TIME TABLE 2015-16'!N14,'TIME TABLE 2015-16'!O14,'TIME TABLE 2015-16'!H14)","v":"---"},{"$f":"TT('TIME TABLE 2015-16'!$A$44,'TIME TABLE 2015-16'!F20,'TIME TABLE 2015-16'!G20,'TIME TABLE 2015-16'!I20,'TIME TABLE 2015-16'!J20,'TIME TABLE 2015-16'!K20,'TIME TABLE 2015-16'!L20,'TIME TABLE 2015-16'!M20,'TIME TABLE 2015-16'!N20,'TIME TABLE 2015-16'!O20,'TIME TABLE 2015-16'!H20)","v":"---"},{"$f":"TT('TIME TABLE 2015-16'!$A$44,'TIME TABLE 2015-16'!F26,'TIME TABLE 2015-16'!G26,'TIME TABLE 2015-16'!I26,'TIME TABLE 2015-16'!J26,'TIME TABLE 2015-16'!K26,'TIME TABLE 2015-16'!L26,'TIME TABLE 2015-16'!M26,'TIME TABLE 2015-16'!N26,'TIME TABLE 2015-16'!O26,'TIME TABLE 2015-16'!H26)","v":"---"},{"$f":"TT('TIME TABLE 2015-16'!$A$44,'TIME TABLE 2015-16'!F32,'TIME TABLE 2015-16'!G32,'TIME TABLE 2015-16'!I32,'TIME TABLE 2015-16'!J32,'TIME TABLE 2015-16'!K32,'TIME TABLE 2015-16'!L32,'TIME TABLE 2015-16'!M32,'TIME TABLE 2015-16'!N32,'TIME TABLE 2015-16'!O32,'TIME TABLE 2015-16'!H32)","v":"---"},null,null,null,null,null,null,10]
["05:40:00",{"$f":"TT('TIME TABLE 2015-16'!$A$44,'TIME TABLE 2015-16'!F3,'TIME TABLE 2015-16'!G3,'TIME TABLE 2015-16'!I3,'TIME TABLE 2015-16'!J3,'TIME TABLE 2015-16'!K3,'TIME TABLE 2015-16'!L3,'TIME TABLE 2015-16'!M3,'TIME TABLE 2015-16'!N3,'TIME TABLE 2015-16'!O3,'TIME TABLE 2015-16'!H3)","v":"---"},{"$f":"TT('TIME TABLE 2015-16'!$A$44,'TIME TABLE 2015-16'!F9,'TIME TABLE 2015-16'!G9,'TIME TABLE 2015-16'!I9,'TIME TABLE 2015-16'!J9,'TIME TABLE 2015-16'!K9,'TIME TABLE 2015-16'!L9,'TIME TABLE 2015-16'!M9,'TIME TABLE 2015-16'!N9,'TIME TABLE 2015-16'!O9,'TIME TABLE 2015-16'!H9)","v":"---"},{"$f":"TT('TIME TABLE 2015-16'!$A$44,'TIME TABLE 2015-16'!F15,'TIME TABLE 2015-16'!G15,'TIME TABLE 2015-16'!I15,'TIME TABLE 2015-16'!J15,'TIME TABLE 2015-16'!K15,'TIME TABLE 2015-16'!L15,'TIME TABLE 2015-16'!M15,'TIME TABLE 2015-16'!N15,'TIME TABLE 2015-16'!O15,'TIME TABLE 2015-16'!H15)","v":"---"},{"$f":"TT('TIME TABLE 2015-16'!$A$44,'TIME TABLE 2015-16'!F21,'TIME TABLE 2015-16'!G21,'TIME TABLE 2015-16'!I21,'TIME TABLE 2015-16'!J21,'TIME TABLE 2015-16'!K21,'TIME TABLE 2015-16'!L21,'TIME TABLE 2015-16'!M21,'TIME TABLE 2015-16'!N21,'TIME TABLE 2015-16'!O21,'TIME TABLE 2015-16'!H21)","v":"---"},{"$f":"TT('TIME TABLE 2015-16'!$A$44,'TIME TABLE 2015-16'!F27,'TIME TABLE 2015-16'!G27,'TIME TABLE 2015-16'!I27,'TIME TABLE 2015-16'!J27,'TIME TABLE 2015-16'!K27,'TIME TABLE 2015-16'!L27,'TIME TABLE 2015-16'!M27,'TIME TABLE 2015-16'!N27,'TIME TABLE 2015-16'!O27,'TIME TABLE 2015-16'!H27)","v":"---"},{"$f":"TT('TIME TABLE 2015-16'!$A$44,'TIME TABLE 2015-16'!F33,'TIME TABLE 2015-16'!G33,'TIME TABLE 2015-16'!I33,'TIME TABLE 2015-16'!J33,'TIME TABLE 2015-16'!K33,'TIME TABLE 2015-16'!L33,'TIME TABLE 2015-16'!M33,'TIME TABLE 2015-16'!N33,'TIME TABLE 2015-16'!O33,'TIME TABLE 2015-16'!H33)","v":"---"},null,null,null,null,null,null,11]
["06:30:00",{"$f":"TT('TIME TABLE 2015-16'!$A$44,'TIME TABLE 2015-16'!F4,'TIME TABLE 2015-16'!G4,'TIME TABLE 2015-16'!I4,'TIME TABLE 2015-16'!J4,'TIME TABLE 2015-16'!K4,'TIME TABLE 2015-16'!L4,'TIME TABLE 2015-16'!M4,'TIME TABLE 2015-16'!N4,'TIME TABLE 2015-16'!O4,'TIME TABLE 2015-16'!H4)","v":"---"},{"$f":"TT('TIME TABLE 2015-16'!$A$44,'TIME TABLE 2015-16'!F10,'TIME TABLE 2015-16'!G10,'TIME TABLE 2015-16'!I10,'TIME TABLE 2015-16'!J10,'TIME TABLE 2015-16'!K10,'TIME TABLE 2015-16'!L10,'TIME TABLE 2015-16'!M10,'TIME TABLE 2015-16'!N10,'TIME TABLE 2015-16'!O10,'TIME TABLE 2015-16'!H10)","v":"---"},{"$f":"TT('TIME TABLE 2015-16'!$A$44,'TIME TABLE 2015-16'!F16,'TIME TABLE 2015-16'!G16,'TIME TABLE 2015-16'!I16,'TIME TABLE 2015-16'!J16,'TIME TABLE 2015-16'!K16,'TIME TABLE 2015-16'!L16,'TIME TABLE 2015-16'!M16,'TIME TABLE 2015-16'!N16,'TIME TABLE 2015-16'!O16,'TIME TABLE 2015-16'!H16)","v":"FYBCOM C"},{"$f":"TT('TIME TABLE 2015-16'!$A$44,'TIME TABLE 2015-16'!F22,'TIME TABLE 2015-16'!G22,'TIME TABLE 2015-16'!I22,'TIME TABLE 2015-16'!J22,'TIME TABLE 2015-16'!K22,'TIME TABLE 2015-16'!L22,'TIME TABLE 2015-16'!M22,'TIME TABLE 2015-16'!N22,'TIME TABLE 2015-16'!O22,'TIME TABLE 2015-16'!H22)","v":"---"},{"$f":"TT('TIME TABLE 2015-16'!$A$44,'TIME TABLE 2015-16'!F28,'TIME TABLE 2015-16'!G28,'TIME TABLE 2015-16'!I28,'TIME TABLE 2015-16'!J28,'TIME TABLE 2015-16'!K28,'TIME TABLE 2015-16'!L28,'TIME TABLE 2015-16'!M28,'TIME TABLE 2015-16'!N28,'TIME TABLE 2015-16'!O28,'TIME TABLE 2015-16'!H28)","v":"---"},{"$f":"TT('TIME TABLE 2015-16'!$A$44,'TIME TABLE 2015-16'!F34,'TIME TABLE 2015-16'!G34,'TIME TABLE 2015-16'!I34,'TIME TABLE 2015-16'!J34,'TIME TABLE 2015-16'!K34,'TIME TABLE 2015-16'!L34,'TIME TABLE 2015-16'!M34,'TIME TABLE 2015-16'!N34,'TIME TABLE 2015-16'!O34,'TIME TABLE 2015-16'!H34)","v":"---"},null,null,null,null,null,null,12]
["07:20:00",{"$f":"TT('TIME TABLE 2015-16'!$A$44,'TIME TABLE 2015-16'!F5,'TIME TABLE 2015-16'!G5,'TIME TABLE 2015-16'!I5,'TIME TABLE 2015-16'!J5,'TIME TABLE 2015-16'!K5,'TIME TABLE 2015-16'!L5,'TIME TABLE 2015-16'!M5,'TIME TABLE 2015-16'!N5,'TIME TABLE 2015-16'!O5,'TIME TABLE 2015-16'!H5)","v":"---"},{"$f":"TT('TIME TABLE 2015-16'!$A$44,'TIME TABLE 2015-16'!F11,'TIME TABLE 2015-16'!G11,'TIME TABLE 2015-16'!I11,'TIME TABLE 2015-16'!J11,'TIME TABLE 2015-16'!K11,'TIME TABLE 2015-16'!L11,'TIME TABLE 2015-16'!M11,'TIME TABLE 2015-16'!N11,'TIME TABLE 2015-16'!O11,'TIME TABLE 2015-16'!H11)","v":"---"},{"$f":"TT('TIME TABLE 2015-16'!$A$44,'TIME TABLE 2015-16'!F17,'TIME TABLE 2015-16'!G17,'TIME TABLE 2015-16'!I17,'TIME TABLE 2015-16'!J17,'TIME TABLE 2015-16'!K17,'TIME TABLE 2015-16'!L17,'TIME TABLE 2015-16'!M17,'TIME TABLE 2015-16'!N17,'TIME TABLE 2015-16'!O17,'TIME TABLE 2015-16'!H17)","v":"---"},{"$f":"TT('TIME TABLE 2015-16'!$A$44,'TIME TABLE 2015-16'!F23,'TIME TABLE 2015-16'!G23,'TIME TABLE 2015-16'!I23,'TIME TABLE 2015-16'!J23,'TIME TABLE 2015-16'!K23,'TIME TABLE 2015-16'!L23,'TIME TABLE 2015-16'!M23,'TIME TABLE 2015-16'!N23,'TIME TABLE 2015-16'!O23,'TIME TABLE 2015-16'!H23)","v":"---"},{"$f":"TT('TIME TABLE 2015-16'!$A$44,'TIME TABLE 2015-16'!F29,'TIME TABLE 2015-16'!G29,'TIME TABLE 2015-16'!I29,'TIME TABLE 2015-16'!J29,'TIME TABLE 2015-16'!K29,'TIME TABLE 2015-16'!L29,'TIME TABLE 2015-16'!M29,'TIME TABLE 2015-16'!N29,'TIME TABLE 2015-16'!O29,'TIME TABLE 2015-16'!H29)","v":"---"},{"$f":"TT('TIME TABLE 2015-16'!$A$44,'TIME TABLE 2015-16'!F35,'TIME TABLE 2015-16'!G35,'TIME TABLE 2015-16'!I35,'TIME TABLE 2015-16'!J35,'TIME TABLE 2015-16'!K35,'TIME TABLE 2015-16'!L35,'TIME TABLE 2015-16'!M35,'TIME TABLE 2015-16'!N35,'TIME TABLE 2015-16'!O35,'TIME TABLE 2015-16'!H35)","v":"---"},null,null,null,null,null,null,13]
["08:20:00",{"$f":"TT('TIME TABLE 2015-16'!$A$44,'TIME TABLE 2015-16'!F6,'TIME TABLE 2015-16'!G6,'TIME TABLE 2015-16'!I6,'TIME TABLE 2015-16'!J6,'TIME TABLE 2015-16'!K6,'TIME TABLE 2015-16'!L6,'TIME TABLE 2015-16'!M6,'TIME TABLE 2015-16'!N6,'TIME TABLE 2015-16'!O6,'TIME TABLE 2015-16'!H6)","v":"FYBCOM C"},{"$f":"TT('TIME TABLE 2015-16'!$A$44,'TIME TABLE 2015-16'!F12,'TIME TABLE 2015-16'!G12,'TIME TABLE 2015-16'!I12,'TIME TABLE 2015-16'!J12,'TIME TABLE 2015-16'!K12,'TIME TABLE 2015-16'!L12,'TIME TABLE 2015-16'!M12,'TIME TABLE 2015-16'!N12,'TIME TABLE 2015-16'!O12,'TIME TABLE 2015-16'!H12)","v":"---"},{"$f":"TT('TIME TABLE 2015-16'!$A$44,'TIME TABLE 2015-16'!F18,'TIME TABLE 2015-16'!G18,'TIME TABLE 2015-16'!I18,'TIME TABLE 2015-16'!J18,'TIME TABLE 2015-16'!K18,'TIME TABLE 2015-16'!L18,'TIME TABLE 2015-16'!M18,'TIME TABLE 2015-16'!N18,'TIME TABLE 2015-16'!O18,'TIME TABLE 2015-16'!H18)","v":"---"},{"$f":"TT('TIME TABLE 2015-16'!$A$44,'TIME TABLE 2015-16'!F24,'TIME TABLE 2015-16'!G24,'TIME TABLE 2015-16'!I24,'TIME TABLE 2015-16'!J24,'TIME TABLE 2015-16'!K24,'TIME TABLE 2015-16'!L24,'TIME TABLE 2015-16'!M24,'TIME TABLE 2015-16'!N24,'TIME TABLE 2015-16'!O24,'TIME TABLE 2015-16'!H24)","v":"FYBCOM C"},{"$f":"TT('TIME TABLE 2015-16'!$A$44,'TIME TABLE 2015-16'!F30,'TIME TABLE 2015-16'!G30,'TIME TABLE 2015-16'!I30,'TIME TABLE 2015-16'!J30,'TIME TABLE 2015-16'!K30,'TIME TABLE 2015-16'!L30,'TIME TABLE 2015-16'!M30,'TIME TABLE 2015-16'!N30,'TIME TABLE 2015-16'!O30,'TIME TABLE 2015-16'!H30)","v":"---"},{"$f":"TT('TIME TABLE 2015-16'!$A$44,'TIME TABLE 2015-16'!F36,'TIME TABLE 2015-16'!G36,'TIME TABLE 2015-16'!I36,'TIME TABLE 2015-16'!J36,'TIME TABLE 2015-16'!K36,'TIME TABLE 2015-16'!L36,'TIME TABLE 2015-16'!M36,'TIME TABLE 2015-16'!N36,'TIME TABLE 2015-16'!O36,'TIME TABLE 2015-16'!H36)","v":"---"},null,null,null,null,null,null,14]
["09:10:00",{"$f":"TT('TIME TABLE 2015-16'!$A$44,'TIME TABLE 2015-16'!F7,'TIME TABLE 2015-16'!G7,'TIME TABLE 2015-16'!I7,'TIME TABLE 2015-16'!J7,'TIME TABLE 2015-16'!K7,'TIME TABLE 2015-16'!L7,'TIME TABLE 2015-16'!M7,'TIME TABLE 2015-16'!N7,'TIME TABLE 2015-16'!O7,'TIME TABLE 2015-16'!H7)","v":"---"},{"$f":"TT('TIME TABLE 2015-16'!$A$44,'TIME TABLE 2015-16'!F13,'TIME TABLE 2015-16'!G13,'TIME TABLE 2015-16'!I13,'TIME TABLE 2015-16'!J13,'TIME TABLE 2015-16'!K13,'TIME TABLE 2015-16'!L13,'TIME TABLE 2015-16'!M13,'TIME TABLE 2015-16'!N13,'TIME TABLE 2015-16'!O13,'TIME TABLE 2015-16'!H13)","v":"---"},{"$f":"TT('TIME TABLE 2015-16'!$A$44,'TIME TABLE 2015-16'!F19,'TIME TABLE 2015-16'!G19,'TIME TABLE 2015-16'!I19,'TIME TABLE 2015-16'!J19,'TIME TABLE 2015-16'!K19,'TIME TABLE 2015-16'!L19,'TIME TABLE 2015-16'!M19,'TIME TABLE 2015-16'!N19,'TIME TABLE 2015-16'!O19,'TIME TABLE 2015-16'!H19)","v":"---"},{"$f":"TT('TIME TABLE 2015-16'!$A$44,'TIME TABLE 2015-16'!F25,'TIME TABLE 2015-16'!G25,'TIME TABLE 2015-16'!I25,'TIME TABLE 2015-16'!J25,'TIME TABLE 2015-16'!K25,'TIME TABLE 2015-16'!L25,'TIME TABLE 2015-16'!M25,'TIME TABLE 2015-16'!N25,'TIME TABLE 2015-16'!O25,'TIME TABLE 2015-16'!H25)","v":"---"},{"$f":"TT('TIME TABLE 2015-16'!$A$44,'TIME TABLE 2015-16'!F31,'TIME TABLE 2015-16'!G31,'TIME TABLE 2015-16'!I31,'TIME TABLE 2015-16'!J31,'TIME TABLE 2015-16'!K31,'TIME TABLE 2015-16'!L31,'TIME TABLE 2015-16'!M31,'TIME TABLE 2015-16'!N31,'TIME TABLE 2015-16'!O31,'TIME TABLE 2015-16'!H31)","v":"---"},{"$f":"TT('TIME TABLE 2015-16'!$A$44,'TIME TABLE 2015-16'!F37,'TIME TABLE 2015-16'!G37,'TIME TABLE 2015-16'!I37,'TIME TABLE 2015-16'!J37,'TIME TABLE 2015-16'!K37,'TIME TABLE 2015-16'!L37,'TIME TABLE 2015-16'!M37,'TIME TABLE 2015-16'!N37,'TIME TABLE 2015-16'!O37,'TIME TABLE 2015-16'!H37)","v":"---"},{"$f":"36-(COUNTIF(B12:G17,\"---\"))","v":3},null,null,null,null,null,15]
[null,null,null,null,null,null,null,null,null,null,null,null,null,16]
[null,"Aghav",null,null,null,null,null,null,null,null,null,null,null,17]
[null,"M","T","W","T","F","S",null,null,null,null,null,null,18]
["04:50:00",{"$f":"TT('TIME TABLE 2015-16'!$A$41,'TIME TABLE 2015-16'!F2,'TIME TABLE 2015-16'!G2,'TIME TABLE 2015-16'!I2,'TIME TABLE 2015-16'!J2,'TIME TABLE 2015-16'!K2,'TIME TABLE 2015-16'!L2,'TIME TABLE 2015-16'!M2,'TIME TABLE 2015-16'!N2,'TIME TABLE 2015-16'!O2,'TIME TABLE 2015-16'!H2)","v":"---"},{"$f":"TT('TIME TABLE 2015-16'!$A$41,'TIME TABLE 2015-16'!F8,'TIME TABLE 2015-16'!G8,'TIME TABLE 2015-16'!I8,'TIME TABLE 2015-16'!J8,'TIME TABLE 2015-16'!K8,'TIME TABLE 2015-16'!L8,'TIME TABLE 2015-16'!M8,'TIME TABLE 2015-16'!N8,'TIME TABLE 2015-16'!O8,'TIME TABLE 2015-16'!H8)","v":"---"},{"$f":"TT('TIME TABLE 2015-16'!$A$41,'TIME TABLE 2015-16'!F14,'TIME TABLE 2015-16'!G14,'TIME TABLE 2015-16'!I14,'TIME TABLE 2015-16'!J14,'TIME TABLE 2015-16'!K14,'TIME TABLE 2015-16'!L14,'TIME TABLE 2015-16'!M14,'TIME TABLE 2015-16'!N14,'TIME TABLE 2015-16'!O14,'TIME TABLE 2015-16'!H14)","v":"---"},{"$f":"TT('TIME TABLE 2015-16'!$A$41,'TIME TABLE 2015-16'!F20,'TIME TABLE 2015-16'!G20,'TIME TABLE 2015-16'!I20,'TIME TABLE 2015-16'!J20,'TIME TABLE 2015-16'!K20,'TIME TABLE 2015-16'!L20,'TIME TABLE 2015-16'!M20,'TIME TABLE 2015-16'!N20,'TIME TABLE 2015-16'!O20,'TIME TABLE 2015-16'!H20)","v":"---"},{"$f":"TT('TIME TABLE 2015-16'!$A$41,'TIME TABLE 2015-16'!F26,'TIME TABLE 2015-16'!G26,'TIME TABLE 2015-16'!I26,'TIME TABLE 2015-16'!J26,'TIME TABLE 2015-16'!K26,'TIME TABLE 2015-16'!L26,'TIME TABLE 2015-16'!M26,'TIME TABLE 2015-16'!N26,'TIME TABLE 2015-16'!O26,'TIME TABLE 2015-16'!H26)","v":"---"},{"$f":"TT('TIME TABLE 2015-16'!$A$41,'TIME TABLE 2015-16'!F32,'TIME TABLE 2015-16'!G32,'TIME TABLE 2015-16'!I32,'TIME TABLE 2015-16'!J32,'TIME TABLE 2015-16'!K32,'TIME TABLE 2015-16'!L32,'TIME TABLE 2015-16'!M32,'TIME TABLE 2015-16'!N32,'TIME TABLE 2015-16'!O32,'TIME TABLE 2015-16'!H32)","v":"---"},null,null,null,null,null,null,19]
["05:40:00",{"$f":"TT('TIME TABLE 2015-16'!$A$41,'TIME TABLE 2015-16'!F3,'TIME TABLE 2015-16'!G3,'TIME TABLE 2015-16'!I3,'TIME TABLE 2015-16'!J3,'TIME TABLE 2015-16'!K3,'TIME TABLE 2015-16'!L3,'TIME TABLE 2015-16'!M3,'TIME TABLE 2015-16'!N3,'TIME TABLE 2015-16'!O3,'TIME TABLE 2015-16'!H3)","v":"---"},{"$f":"TT('TIME TABLE 2015-16'!$A$41,'TIME TABLE 2015-16'!F9,'TIME TABLE 2015-16'!G9,'TIME TABLE 2015-16'!I9,'TIME TABLE 2015-16'!J9,'TIME TABLE 2015-16'!K9,'TIME TABLE 2015-16'!L9,'TIME TABLE 2015-16'!M9,'TIME TABLE 2015-16'!N9,'TIME TABLE 2015-16'!O9,'TIME TABLE 2015-16'!H9)","v":"---"},{"$f":"TT('TIME TABLE 2015-16'!$A$41,'TIME TABLE 2015-16'!F15,'TIME TABLE 2015-16'!G15,'TIME TABLE 2015-16'!I15,'TIME TABLE 2015-16'!J15,'TIME TABLE 2015-16'!K15,'TIME TABLE 2015-16'!L15,'TIME TABLE 2015-16'!M15,'TIME TABLE 2015-16'!N15,'TIME TABLE 2015-16'!O15,'TIME TABLE 2015-16'!H15)","v":"---"},{"$f":"TT('TIME TABLE 2015-16'!$A$41,'TIME TABLE 2015-16'!F21,'TIME TABLE 2015-16'!G21,'TIME TABLE 2015-16'!I21,'TIME TABLE 2015-16'!J21,'TIME TABLE 2015-16'!K21,'TIME TABLE 2015-16'!L21,'TIME TABLE 2015-16'!M21,'TIME TABLE 2015-16'!N21,'TIME TABLE 2015-16'!O21,'TIME TABLE 2015-16'!H21)","v":"---"},{"$f":"TT('TIME TABLE 2015-16'!$A$41,'TIME TABLE 2015-16'!F27,'TIME TABLE 2015-16'!G27,'TIME TABLE 2015-16'!I27,'TIME TABLE 2015-16'!J27,'TIME TABLE 2015-16'!K27,'TIME TABLE 2015-16'!L27,'TIME TABLE 2015-16'!M27,'TIME TABLE 2015-16'!N27,'TIME TABLE 2015-16'!O27,'TIME TABLE 2015-16'!H27)","v":"---"},{"$f":"TT('TIME TABLE 2015-16'!$A$41,'TIME TABLE 2015-16'!F33,'TIME TABLE 2015-16'!G33,'TIME TABLE 2015-16'!I33,'TIME TABLE 2015-16'!J33,'TIME TABLE 2015-16'!K33,'TIME TABLE 2015-16'!L33,'TIME TABLE 2015-16'!M33,'TIME TABLE 2015-16'!N33,'TIME TABLE 2015-16'!O33,'TIME TABLE 2015-16'!H33)","v":"---"},null,null,null,null,null,null,20]
["06:30:00",{"$f":"TT('TIME TABLE 2015-16'!$A$41,'TIME TABLE 2015-16'!F4,'TIME TABLE 2015-16'!G4,'TIME TABLE 2015-16'!I4,'TIME TABLE 2015-16'!J4,'TIME TABLE 2015-16'!K4,'TIME TABLE 2015-16'!L4,'TIME TABLE 2015-16'!M4,'TIME TABLE 2015-16'!N4,'TIME TABLE 2015-16'!O4,'TIME TABLE 2015-16'!H4)","v":"FYBCOM B"},{"$f":"TT('TIME TABLE 2015-16'!$A$41,'TIME TABLE 2015-16'!F10,'TIME TABLE 2015-16'!G10,'TIME TABLE 2015-16'!I10,'TIME TABLE 2015-16'!J10,'TIME TABLE 2015-16'!K10,'TIME TABLE 2015-16'!L10,'TIME TABLE 2015-16'!M10,'TIME TABLE 2015-16'!N10,'TIME TABLE 2015-16'!O10,'TIME TABLE 2015-16'!H10)","v":"FYBCOM C"},{"$f":"TT('TIME TABLE 2015-16'!$A$41,'TIME TABLE 2015-16'!F16,'TIME TABLE 2015-16'!G16,'TIME TABLE 2015-16'!I16,'TIME TABLE 2015-16'!J16,'TIME TABLE 2015-16'!K16,'TIME TABLE 2015-16'!L16,'TIME TABLE 2015-16'!M16,'TIME TABLE 2015-16'!N16,'TIME TABLE 2015-16'!O16,'TIME TABLE 2015-16'!H16)","v":"---"},{"$f":"TT('TIME TABLE 2015-16'!$A$41,'TIME TABLE 2015-16'!F22,'TIME TABLE 2015-16'!G22,'TIME TABLE 2015-16'!I22,'TIME TABLE 2015-16'!J22,'TIME TABLE 2015-16'!K22,'TIME TABLE 2015-16'!L22,'TIME TABLE 2015-16'!M22,'TIME TABLE 2015-16'!N22,'TIME TABLE 2015-16'!O22,'TIME TABLE 2015-16'!H22)","v":"---"},{"$f":"TT('TIME TABLE 2015-16'!$A$41,'TIME TABLE 2015-16'!F28,'TIME TABLE 2015-16'!G28,'TIME TABLE 2015-16'!I28,'TIME TABLE 2015-16'!J28,'TIME TABLE 2015-16'!K28,'TIME TABLE 2015-16'!L28,'TIME TABLE 2015-16'!M28,'TIME TABLE 2015-16'!N28,'TIME TABLE 2015-16'!O28,'TIME TABLE 2015-16'!H28)","v":"FYBCOM A"},{"$f":"TT('TIME TABLE 2015-16'!$A$41,'TIME TABLE 2015-16'!F34,'TIME TABLE 2015-16'!G34,'TIME TABLE 2015-16'!I34,'TIME TABLE 2015-16'!J34,'TIME TABLE 2015-16'!K34,'TIME TABLE 2015-16'!L34,'TIME TABLE 2015-16'!M34,'TIME TABLE 2015-16'!N34,'TIME TABLE 2015-16'!O34,'TIME TABLE 2015-16'!H34)","v":"---"},null,null,null,null,null,null,21]
["07:20:00",{"$f":"TT('TIME TABLE 2015-16'!$A$41,'TIME TABLE 2015-16'!F5,'TIME TABLE 2015-16'!G5,'TIME TABLE 2015-16'!I5,'TIME TABLE 2015-16'!J5,'TIME TABLE 2015-16'!K5,'TIME TABLE 2015-16'!L5,'TIME TABLE 2015-16'!M5,'TIME TABLE 2015-16'!N5,'TIME TABLE 2015-16'!O5,'TIME TABLE 2015-16'!H5)","v":"FYBCOM B"},{"$f":"TT('TIME TABLE 2015-16'!$A$41,'TIME TABLE 2015-16'!F11,'TIME TABLE 2015-16'!G11,'TIME TABLE 2015-16'!I11,'TIME TABLE 2015-16'!J11,'TIME TABLE 2015-16'!K11,'TIME TABLE 2015-16'!L11,'TIME TABLE 2015-16'!M11,'TIME TABLE 2015-16'!N11,'TIME TABLE 2015-16'!O11,'TIME TABLE 2015-16'!H11)","v":"FYBCOM C"},{"$f":"TT('TIME TABLE 2015-16'!$A$41,'TIME TABLE 2015-16'!F17,'TIME TABLE 2015-16'!G17,'TIME TABLE 2015-16'!I17,'TIME TABLE 2015-16'!J17,'TIME TABLE 2015-16'!K17,'TIME TABLE 2015-16'!L17,'TIME TABLE 2015-16'!M17,'TIME TABLE 2015-16'!N17,'TIME TABLE 2015-16'!O17,'TIME TABLE 2015-16'!H17)","v":"---"},{"$f":"TT('TIME TABLE 2015-16'!$A$41,'TIME TABLE 2015-16'!F23,'TIME TABLE 2015-16'!G23,'TIME TABLE 2015-16'!I23,'TIME TABLE 2015-16'!J23,'TIME TABLE 2015-16'!K23,'TIME TABLE 2015-16'!L23,'TIME TABLE 2015-16'!M23,'TIME TABLE 2015-16'!N23,'TIME TABLE 2015-16'!O23,'TIME TABLE 2015-16'!H23)","v":"---"},{"$f":"TT('TIME TABLE 2015-16'!$A$41,'TIME TABLE 2015-16'!F29,'TIME TABLE 2015-16'!G29,'TIME TABLE 2015-16'!I29,'TIME TABLE 2015-16'!J29,'TIME TABLE 2015-16'!K29,'TIME TABLE 2015-16'!L29,'TIME TABLE 2015-16'!M29,'TIME TABLE 2015-16'!N29,'TIME TABLE 2015-16'!O29,'TIME TABLE 2015-16'!H29)","v":"FYBCOM A"},{"$f":"TT('TIME TABLE 2015-16'!$A$41,'TIME TABLE 2015-16'!F35,'TIME TABLE 2015-16'!G35,'TIME TABLE 2015-16'!I35,'TIME TABLE 2015-16'!J35,'TIME TABLE 2015-16'!K35,'TIME TABLE 2015-16'!L35,'TIME TABLE 2015-16'!M35,'TIME TABLE 2015-16'!N35,'TIME TABLE 2015-16'!O35,'TIME TABLE 2015-16'!H35)","v":"---"},null,null,null,null,null,null,22]
["08:20:00",{"$f":"TT('TIME TABLE 2015-16'!$A$41,'TIME TABLE 2015-16'!F6,'TIME TABLE 2015-16'!G6,'TIME TABLE 2015-16'!I6,'TIME TABLE 2015-16'!J6,'TIME TABLE 2015-16'!K6,'TIME TABLE 2015-16'!L6,'TIME TABLE 2015-16'!M6,'TIME TABLE 2015-16'!N6,'TIME TABLE 2015-16'!O6,'TIME TABLE 2015-16'!H6)","v":"FYBCOM A"},{"$f":"TT('TIME TABLE 2015-16'!$A$41,'TIME TABLE 2015-16'!F12,'TIME TABLE 2015-16'!G12,'TIME TABLE 2015-16'!I12,'TIME TABLE 2015-16'!J12,'TIME TABLE 2015-16'!K12,'TIME TABLE 2015-16'!L12,'TIME TABLE 2015-16'!M12,'TIME TABLE 2015-16'!N12,'TIME TABLE 2015-16'!O12,'TIME TABLE 2015-16'!H12)","v":"FYBCOM B"},{"$f":"TT('TIME TABLE 2015-16'!$A$41,'TIME TABLE 2015-16'!F18,'TIME TABLE 2015-16'!G18,'TIME TABLE 2015-16'!I18,'TIME TABLE 2015-16'!J18,'TIME TABLE 2015-16'!K18,'TIME TABLE 2015-16'!L18,'TIME TABLE 2015-16'!M18,'TIME TABLE 2015-16'!N18,'TIME TABLE 2015-16'!O18,'TIME TABLE 2015-16'!H18)","v":"---"},{"$f":"TT('TIME TABLE 2015-16'!$A$41,'TIME TABLE 2015-16'!F24,'TIME TABLE 2015-16'!G24,'TIME TABLE 2015-16'!I24,'TIME TABLE 2015-16'!J24,'TIME TABLE 2015-16'!K24,'TIME TABLE 2015-16'!L24,'TIME TABLE 2015-16'!M24,'TIME TABLE 2015-16'!N24,'TIME TABLE 2015-16'!O24,'TIME TABLE 2015-16'!H24)","v":"---"},{"$f":"TT('TIME TABLE 2015-16'!$A$41,'TIME TABLE 2015-16'!F30,'TIME TABLE 2015-16'!G30,'TIME TABLE 2015-16'!I30,'TIME TABLE 2015-16'!J30,'TIME TABLE 2015-16'!K30,'TIME TABLE 2015-16'!L30,'TIME TABLE 2015-16'!M30,'TIME TABLE 2015-16'!N30,'TIME TABLE 2015-16'!O30,'TIME TABLE 2015-16'!H30)","v":"FYBCOM C"},{"$f":"TT('TIME TABLE 2015-16'!$A$41,'TIME TABLE 2015-16'!F36,'TIME TABLE 2015-16'!G36,'TIME TABLE 2015-16'!I36,'TIME TABLE 2015-16'!J36,'TIME TABLE 2015-16'!K36,'TIME TABLE 2015-16'!L36,'TIME TABLE 2015-16'!M36,'TIME TABLE 2015-16'!N36,'TIME TABLE 2015-16'!O36,'TIME TABLE 2015-16'!H36)","v":"---"},null,null,null,null,null,null,23]
["09:10:00",{"$f":"TT('TIME TABLE 2015-16'!$A$41,'TIME TABLE 2015-16'!F7,'TIME TABLE 2015-16'!G7,'TIME TABLE 2015-16'!I7,'TIME TABLE 2015-16'!J7,'TIME TABLE 2015-16'!K7,'TIME TABLE 2015-16'!L7,'TIME TABLE 2015-16'!M7,'TIME TABLE 2015-16'!N7,'TIME TABLE 2015-16'!O7,'TIME TABLE 2015-16'!H7)","v":"FYBCOM A"},{"$f":"TT('TIME TABLE 2015-16'!$A$41,'TIME TABLE 2015-16'!F13,'TIME TABLE 2015-16'!G13,'TIME TABLE 2015-16'!I13,'TIME TABLE 2015-16'!J13,'TIME TABLE 2015-16'!K13,'TIME TABLE 2015-16'!L13,'TIME TABLE 2015-16'!M13,'TIME TABLE 2015-16'!N13,'TIME TABLE 2015-16'!O13,'TIME TABLE 2015-16'!H13)","v":"FYBCOM B"},{"$f":"TT('TIME TABLE 2015-16'!$A$41,'TIME TABLE 2015-16'!F19,'TIME TABLE 2015-16'!G19,'TIME TABLE 2015-16'!I19,'TIME TABLE 2015-16'!J19,'TIME TABLE 2015-16'!K19,'TIME TABLE 2015-16'!L19,'TIME TABLE 2015-16'!M19,'TIME TABLE 2015-16'!N19,'TIME TABLE 2015-16'!O19,'TIME TABLE 2015-16'!H19)","v":"---"},{"$f":"TT('TIME TABLE 2015-16'!$A$41,'TIME TABLE 2015-16'!F25,'TIME TABLE 2015-16'!G25,'TIME TABLE 2015-16'!I25,'TIME TABLE 2015-16'!J25,'TIME TABLE 2015-16'!K25,'TIME TABLE 2015-16'!L25,'TIME TABLE 2015-16'!M25,'TIME TABLE 2015-16'!N25,'TIME TABLE 2015-16'!O25,'TIME TABLE 2015-16'!H25)","v":"---"},{"$f":"TT('TIME TABLE 2015-16'!$A$41,'TIME TABLE 2015-16'!F31,'TIME TABLE 2015-16'!G31,'TIME TABLE 2015-16'!I31,'TIME TABLE 2015-16'!J31,'TIME TABLE 2015-16'!K31,'TIME TABLE 2015-16'!L31,'TIME TABLE 2015-16'!M31,'TIME TABLE 2015-16'!N31,'TIME TABLE 2015-16'!O31,'TIME TABLE 2015-16'!H31)","v":"FYBCOM C"},{"$f":"TT('TIME TABLE 2015-16'!$A$41,'TIME TABLE 2015-16'!F37,'TIME TABLE 2015-16'!G37,'TIME TABLE 2015-16'!I37,'TIME TABLE 2015-16'!J37,'TIME TABLE 2015-16'!K37,'TIME TABLE 2015-16'!L37,'TIME TABLE 2015-16'!M37,'TIME TABLE 2015-16'!N37,'TIME TABLE 2015-16'!O37,'TIME TABLE 2015-16'!H37)","v":"---"},{"$f":"36-(COUNTIF(B21:G26,\"---\"))","v":12},null,null,null,null,null,24]
[null,null,null,null,null,null,null,null,null,null,null,null,null,25]
[null,"Law",null,null,null,null,null,null,null,null,null,null,null,26]
[null,"M","T","W","T","F","S",null,null,null,null,null,null,27]
["04:50:00",{"$f":"TT('TIME TABLE 2015-16'!$A$42,'TIME TABLE 2015-16'!F2,'TIME TABLE 2015-16'!G2,'TIME TABLE 2015-16'!I2,'TIME TABLE 2015-16'!J2,'TIME TABLE 2015-16'!K2,'TIME TABLE 2015-16'!L2,'TIME TABLE 2015-16'!M2,'TIME TABLE 2015-16'!N2,'TIME TABLE 2015-16'!O2,'TIME TABLE 2015-16'!H2)","v":"---"},{"$f":"TT('TIME TABLE 2015-16'!$A$42,'TIME TABLE 2015-16'!F8,'TIME TABLE 2015-16'!G8,'TIME TABLE 2015-16'!I8,'TIME TABLE 2015-16'!J8,'TIME TABLE 2015-16'!K8,'TIME TABLE 2015-16'!L8,'TIME TABLE 2015-16'!M8,'TIME TABLE 2015-16'!N8,'TIME TABLE 2015-16'!O8,'TIME TABLE 2015-16'!H8)","v":"---"},{"$f":"TT('TIME TABLE 2015-16'!$A$42,'TIME TABLE 2015-16'!F14,'TIME TABLE 2015-16'!G14,'TIME TABLE 2015-16'!I14,'TIME TABLE 2015-16'!J14,'TIME TABLE 2015-16'!K14,'TIME TABLE 2015-16'!L14,'TIME TABLE 2015-16'!M14,'TIME TABLE 2015-16'!N14,'TIME TABLE 2015-16'!O14,'TIME TABLE 2015-16'!H14)","v":"---"},{"$f":"TT('TIME TABLE 2015-16'!$A$42,'TIME TABLE 2015-16'!F20,'TIME TABLE 2015-16'!G20,'TIME TABLE 2015-16'!I20,'TIME TABLE 2015-16'!J20,'TIME TABLE 2015-16'!K20,'TIME TABLE 2015-16'!L20,'TIME TABLE 2015-16'!M20,'TIME TABLE 2015-16'!N20,'TIME TABLE 2015-16'!O20,'TIME TABLE 2015-16'!H20)","v":"---"},{"$f":"TT('TIME TABLE 2015-16'!$A$42,'TIME TABLE 2015-16'!F26,'TIME TABLE 2015-16'!G26,'TIME TABLE 2015-16'!I26,'TIME TABLE 2015-16'!J26,'TIME TABLE 2015-16'!K26,'TIME TABLE 2015-16'!L26,'TIME TABLE 2015-16'!M26,'TIME TABLE 2015-16'!N26,'TIME TABLE 2015-16'!O26,'TIME TABLE 2015-16'!H26)","v":"---"},{"$f":"TT('TIME TABLE 2015-16'!$A$42,'TIME TABLE 2015-16'!F32,'TIME TABLE 2015-16'!G32,'TIME TABLE 2015-16'!I32,'TIME TABLE 2015-16'!J32,'TIME TABLE 2015-16'!K32,'TIME TABLE 2015-16'!L32,'TIME TABLE 2015-16'!M32,'TIME TABLE 2015-16'!N32,'TIME TABLE 2015-16'!O32,'TIME TABLE 2015-16'!H32)","v":"---"},null,null,null,null,null,null,28]
["05:40:00",{"$f":"TT('TIME TABLE 2015-16'!$A$42,'TIME TABLE 2015-16'!F3,'TIME TABLE 2015-16'!G3,'TIME TABLE 2015-16'!I3,'TIME TABLE 2015-16'!J3,'TIME TABLE 2015-16'!K3,'TIME TABLE 2015-16'!L3,'TIME TABLE 2015-16'!M3,'TIME TABLE 2015-16'!N3,'TIME TABLE 2015-16'!O3,'TIME TABLE 2015-16'!H3)","v":"---"},{"$f":"TT('TIME TABLE 2015-16'!$A$42,'TIME TABLE 2015-16'!F9,'TIME TABLE 2015-16'!G9,'TIME TABLE 2015-16'!I9,'TIME TABLE 2015-16'!J9,'TIME TABLE 2015-16'!K9,'TIME TABLE 2015-16'!L9,'TIME TABLE 2015-16'!M9,'TIME TABLE 2015-16'!N9,'TIME TABLE 2015-16'!O9,'TIME TABLE 2015-16'!H9)","v":"---"},{"$f":"TT('TIME TABLE 2015-16'!$A$42,'TIME TABLE 2015-16'!F15,'TIME TABLE 2015-16'!G15,'TIME TABLE 2015-16'!I15,'TIME TABLE 2015-16'!J15,'TIME TABLE 2015-16'!K15,'TIME TABLE 2015-16'!L15,'TIME TABLE 2015-16'!M15,'TIME TABLE 2015-16'!N15,'TIME TABLE 2015-16'!O15,'TIME TABLE 2015-16'!H15)","v":"---"},{"$f":"TT('TIME TABLE 2015-16'!$A$42,'TIME TABLE 2015-16'!F21,'TIME TABLE 2015-16'!G21,'TIME TABLE 2015-16'!I21,'TIME TABLE 2015-16'!J21,'TIME TABLE 2015-16'!K21,'TIME TABLE 2015-16'!L21,'TIME TABLE 2015-16'!M21,'TIME TABLE 2015-16'!N21,'TIME TABLE 2015-16'!O21,'TIME TABLE 2015-16'!H21)","v":"---"},{"$f":"TT('TIME TABLE 2015-16'!$A$42,'TIME TABLE 2015-16'!F27,'TIME TABLE 2015-16'!G27,'TIME TABLE 2015-16'!I27,'TIME TABLE 2015-16'!J27,'TIME TABLE 2015-16'!K27,'TIME TABLE 2015-16'!L27,'TIME TABLE 2015-16'!M27,'TIME TABLE 2015-16'!N27,'TIME TABLE 2015-16'!O27,'TIME TABLE 2015-16'!H27)","v":"---"},{"$f":"TT('TIME TABLE 2015-16'!$A$42,'TIME TABLE 2015-16'!F33,'TIME TABLE 2015-16'!G33,'TIME TABLE 2015-16'!I33,'TIME TABLE 2015-16'!J33,'TIME TABLE 2015-16'!K33,'TIME TABLE 2015-16'!L33,'TIME TABLE 2015-16'!M33,'TIME TABLE 2015-16'!N33,'TIME TABLE 2015-16'!O33,'TIME TABLE 2015-16'!H33)","v":"---"},null,null,null,null,null,null,29]
["06:30:00",{"$f":"TT('TIME TABLE 2015-16'!$A$42,'TIME TABLE 2015-16'!F4,'TIME TABLE 2015-16'!G4,'TIME TABLE 2015-16'!I4,'TIME TABLE 2015-16'!J4,'TIME TABLE 2015-16'!K4,'TIME TABLE 2015-16'!L4,'TIME TABLE 2015-16'!M4,'TIME TABLE 2015-16'!N4,'TIME TABLE 2015-16'!O4,'TIME TABLE 2015-16'!H4)","v":"---"},{"$f":"TT('TIME TABLE 2015-16'!$A$42,'TIME TABLE 2015-16'!F10,'TIME TABLE 2015-16'!G10,'TIME TABLE 2015-16'!I10,'TIME TABLE 2015-16'!J10,'TIME TABLE 2015-16'!K10,'TIME TABLE 2015-16'!L10,'TIME TABLE 2015-16'!M10,'TIME TABLE 2015-16'!N10,'TIME TABLE 2015-16'!O10,'TIME TABLE 2015-16'!H10)","v":"---"},{"$f":"TT('TIME TABLE 2015-16'!$A$42,'TIME TABLE 2015-16'!F16,'TIME TABLE 2015-16'!G16,'TIME TABLE 2015-16'!I16,'TIME TABLE 2015-16'!J16,'TIME TABLE 2015-16'!K16,'TIME TABLE 2015-16'!L16,'TIME TABLE 2015-16'!M16,'TIME TABLE 2015-16'!N16,'TIME TABLE 2015-16'!O16,'TIME TABLE 2015-16'!H16)","v":"---"},{"$f":"TT('TIME TABLE 2015-16'!$A$42,'TIME TABLE 2015-16'!F22,'TIME TABLE 2015-16'!G22,'TIME TABLE 2015-16'!I22,'TIME TABLE 2015-16'!J22,'TIME TABLE 2015-16'!K22,'TIME TABLE 2015-16'!L22,'TIME TABLE 2015-16'!M22,'TIME TABLE 2015-16'!N22,'TIME TABLE 2015-16'!O22,'TIME TABLE 2015-16'!H22)","v":"---"},{"$f":"TT('TIME TABLE 2015-16'!$A$42,'TIME TABLE 2015-16'!F28,'TIME TABLE 2015-16'!G28,'TIME TABLE 2015-16'!I28,'TIME TABLE 2015-16'!J28,'TIME TABLE 2015-16'!K28,'TIME TABLE 2015-16'!L28,'TIME TABLE 2015-16'!M28,'TIME TABLE 2015-16'!N28,'TIME TABLE 2015-16'!O28,'TIME TABLE 2015-16'!H28)","v":"---"},{"$f":"TT('TIME TABLE 2015-16'!$A$42,'TIME TABLE 2015-16'!F34,'TIME TABLE 2015-16'!G34,'TIME TABLE 2015-16'!I34,'TIME TABLE 2015-16'!J34,'TIME TABLE 2015-16'!K34,'TIME TABLE 2015-16'!L34,'TIME TABLE 2015-16'!M34,'TIME TABLE 2015-16'!N34,'TIME TABLE 2015-16'!O34,'TIME TABLE 2015-16'!H34)","v":"---"},null,null,null,null,null,null,30]
["07:20:00",{"$f":"TT('TIME TABLE 2015-16'!$A$42,'TIME TABLE 2015-16'!F5,'TIME TABLE 2015-16'!G5,'TIME TABLE 2015-16'!I5,'TIME TABLE 2015-16'!J5,'TIME TABLE 2015-16'!K5,'TIME TABLE 2015-16'!L5,'TIME TABLE 2015-16'!M5,'TIME TABLE 2015-16'!N5,'TIME TABLE 2015-16'!O5,'TIME TABLE 2015-16'!H5)","v":"---"},{"$f":"TT('TIME TABLE 2015-16'!$A$42,'TIME TABLE 2015-16'!F11,'TIME TABLE 2015-16'!G11,'TIME TABLE 2015-16'!I11,'TIME TABLE 2015-16'!J11,'TIME TABLE 2015-16'!K11,'TIME TABLE 2015-16'!L11,'TIME TABLE 2015-16'!M11,'TIME TABLE 2015-16'!N11,'TIME TABLE 2015-16'!O11,'TIME TABLE 2015-16'!H11)","v":"---"},{"$f":"TT('TIME TABLE 2015-16'!$A$42,'TIME TABLE 2015-16'!F17,'TIME TABLE 2015-16'!G17,'TIME TABLE 2015-16'!I17,'TIME TABLE 2015-16'!J17,'TIME TABLE 2015-16'!K17,'TIME TABLE 2015-16'!L17,'TIME TABLE 2015-16'!M17,'TIME TABLE 2015-16'!N17,'TIME TABLE 2015-16'!O17,'TIME TABLE 2015-16'!H17)","v":"---"},{"$f":"TT('TIME TABLE 2015-16'!$A$42,'TIME TABLE 2015-16'!F23,'TIME TABLE 2015-16'!G23,'TIME TABLE 2015-16'!I23,'TIME TABLE 2015-16'!J23,'TIME TABLE 2015-16'!K23,'TIME TABLE 2015-16'!L23,'TIME TABLE 2015-16'!M23,'TIME TABLE 2015-16'!N23,'TIME TABLE 2015-16'!O23,'TIME TABLE 2015-16'!H23)","v":"---"},{"$f":"TT('TIME TABLE 2015-16'!$A$42,'TIME TABLE 2015-16'!F29,'TIME TABLE 2015-16'!G29,'TIME TABLE 2015-16'!I29,'TIME TABLE 2015-16'!J29,'TIME TABLE 2015-16'!K29,'TIME TABLE 2015-16'!L29,'TIME TABLE 2015-16'!M29,'TIME TABLE 2015-16'!N29,'TIME TABLE 2015-16'!O29,'TIME TABLE 2015-16'!H29)","v":"---"},{"$f":"TT('TIME TABLE 2015-16'!$A$42,'TIME TABLE 2015-16'!F35,'TIME TABLE 2015-16'!G35,'TIME TABLE 2015-16'!I35,'TIME TABLE 2015-16'!J35,'TIME TABLE 2015-16'!K35,'TIME TABLE 2015-16'!L35,'TIME TABLE 2015-16'!M35,'TIME TABLE 2015-16'!N35,'TIME TABLE 2015-16'!O35,'TIME TABLE 2015-16'!H35)","v":"---"},null,null,null,null,null,null,31]
["08:20:00",{"$f":"TT('TIME TABLE 2015-16'!$A$42,'TIME TABLE 2015-16'!F6,'TIME TABLE 2015-16'!G6,'TIME TABLE 2015-16'!I6,'TIME TABLE 2015-16'!J6,'TIME TABLE 2015-16'!K6,'TIME TABLE 2015-16'!L6,'TIME TABLE 2015-16'!M6,'TIME TABLE 2015-16'!N6,'TIME TABLE 2015-16'!O6,'TIME TABLE 2015-16'!H6)","v":"---"},{"$f":"TT('TIME TABLE 2015-16'!$A$42,'TIME TABLE 2015-16'!F12,'TIME TABLE 2015-16'!G12,'TIME TABLE 2015-16'!I12,'TIME TABLE 2015-16'!J12,'TIME TABLE 2015-16'!K12,'TIME TABLE 2015-16'!L12,'TIME TABLE 2015-16'!M12,'TIME TABLE 2015-16'!N12,'TIME TABLE 2015-16'!O12,'TIME TABLE 2015-16'!H12)","v":"---"},{"$f":"TT('TIME TABLE 2015-16'!$A$42,'TIME TABLE 2015-16'!F18,'TIME TABLE 2015-16'!G18,'TIME TABLE 2015-16'!I18,'TIME TABLE 2015-16'!J18,'TIME TABLE 2015-16'!K18,'TIME TABLE 2015-16'!L18,'TIME TABLE 2015-16'!M18,'TIME TABLE 2015-16'!N18,'TIME TABLE 2015-16'!O18,'TIME TABLE 2015-16'!H18)","v":"SYBCOM A"},{"$f":"TT('TIME TABLE 2015-16'!$A$42,'TIME TABLE 2015-16'!F24,'TIME TABLE 2015-16'!G24,'TIME TABLE 2015-16'!I24,'TIME TABLE 2015-16'!J24,'TIME TABLE 2015-16'!K24,'TIME TABLE 2015-16'!L24,'TIME TABLE 2015-16'!M24,'TIME TABLE 2015-16'!N24,'TIME TABLE 2015-16'!O24,'TIME TABLE 2015-16'!H24)","v":"---"},{"$f":"TT('TIME TABLE 2015-16'!$A$42,'TIME TABLE 2015-16'!F30,'TIME TABLE 2015-16'!G30,'TIME TABLE 2015-16'!I30,'TIME TABLE 2015-16'!J30,'TIME TABLE 2015-16'!K30,'TIME TABLE 2015-16'!L30,'TIME TABLE 2015-16'!M30,'TIME TABLE 2015-16'!N30,'TIME TABLE 2015-16'!O30,'TIME TABLE 2015-16'!H30)","v":"SYBCOM A"},{"$f":"TT('TIME TABLE 2015-16'!$A$42,'TIME TABLE 2015-16'!F36,'TIME TABLE 2015-16'!G36,'TIME TABLE 2015-16'!I36,'TIME TABLE 2015-16'!J36,'TIME TABLE 2015-16'!K36,'TIME TABLE 2015-16'!L36,'TIME TABLE 2015-16'!M36,'TIME TABLE 2015-16'!N36,'TIME TABLE 2015-16'!O36,'TIME TABLE 2015-16'!H36)","v":"SYBCOM B"},null,null,null,null,null,null,32]
["09:10:00",{"$f":"TT('TIME TABLE 2015-16'!$A$42,'TIME TABLE 2015-16'!F7,'TIME TABLE 2015-16'!G7,'TIME TABLE 2015-16'!I7,'TIME TABLE 2015-16'!J7,'TIME TABLE 2015-16'!K7,'TIME TABLE 2015-16'!L7,'TIME TABLE 2015-16'!M7,'TIME TABLE 2015-16'!N7,'TIME TABLE 2015-16'!O7,'TIME TABLE 2015-16'!H7)","v":"---"},{"$f":"TT('TIME TABLE 2015-16'!$A$42,'TIME TABLE 2015-16'!F13,'TIME TABLE 2015-16'!G13,'TIME TABLE 2015-16'!I13,'TIME TABLE 2015-16'!J13,'TIME TABLE 2015-16'!K13,'TIME TABLE 2015-16'!L13,'TIME TABLE 2015-16'!M13,'TIME TABLE 2015-16'!N13,'TIME TABLE 2015-16'!O13,'TIME TABLE 2015-16'!H13)","v":"---"},{"$f":"TT('TIME TABLE 2015-16'!$A$42,'TIME TABLE 2015-16'!F19,'TIME TABLE 2015-16'!G19,'TIME TABLE 2015-16'!I19,'TIME TABLE 2015-16'!J19,'TIME TABLE 2015-16'!K19,'TIME TABLE 2015-16'!L19,'TIME TABLE 2015-16'!M19,'TIME TABLE 2015-16'!N19,'TIME TABLE 2015-16'!O19,'TIME TABLE 2015-16'!H19)","v":"SYBCOM B"},{"$f":"TT('TIME TABLE 2015-16'!$A$42,'TIME TABLE 2015-16'!F25,'TIME TABLE 2015-16'!G25,'TIME TABLE 2015-16'!I25,'TIME TABLE 2015-16'!J25,'TIME TABLE 2015-16'!K25,'TIME TABLE 2015-16'!L25,'TIME TABLE 2015-16'!M25,'TIME TABLE 2015-16'!N25,'TIME TABLE 2015-16'!O25,'TIME TABLE 2015-16'!H25)","v":"---"},{"$f":"TT('TIME TABLE 2015-16'!$A$42,'TIME TABLE 2015-16'!F31,'TIME TABLE 2015-16'!G31,'TIME TABLE 2015-16'!I31,'TIME TABLE 2015-16'!J31,'TIME TABLE 2015-16'!K31,'TIME TABLE 2015-16'!L31,'TIME TABLE 2015-16'!M31,'TIME TABLE 2015-16'!N31,'TIME TABLE 2015-16'!O31,'TIME TABLE 2015-16'!H31)","v":"SYBCOM A"},{"$f":"TT('TIME TABLE 2015-16'!$A$42,'TIME TABLE 2015-16'!F37,'TIME TABLE 2015-16'!G37,'TIME TABLE 2015-16'!I37,'TIME TABLE 2015-16'!J37,'TIME TABLE 2015-16'!K37,'TIME TABLE 2015-16'!L37,'TIME TABLE 2015-16'!M37,'TIME TABLE 2015-16'!N37,'TIME TABLE 2015-16'!O37,'TIME TABLE 2015-16'!H37)","v":"SYBCOM B"},{"$f":"36-(COUNTIF(B30:G35,\"---\"))","v":6},null,null,null,null,null,33]
[null,null,null,null,null,null,null,null,null,null,null,null,null,34]
[null,"Lab",null,null,null,null,null,null,null,null,null,null,null,35]
[null,"M","T","W","T","F","S",null,null,null,null,null,null,36]
["04:50:00",{"$f":"TT('TIME TABLE 2015-16'!$A$43,'TIME TABLE 2015-16'!F2,'TIME TABLE 2015-16'!G2,'TIME TABLE 2015-16'!I2,'TIME TABLE 2015-16'!J2,'TIME TABLE 2015-16'!K2,'TIME TABLE 2015-16'!L2,'TIME TABLE 2015-16'!M2,'TIME TABLE 2015-16'!N2,'TIME TABLE 2015-16'!O2,'TIME TABLE 2015-16'!H2)","v":"TYBCOM A"},{"$f":"TT('TIME TABLE 2015-16'!$A$43,'TIME TABLE 2015-16'!F8,'TIME TABLE 2015-16'!G8,'TIME TABLE 2015-16'!I8,'TIME TABLE 2015-16'!J8,'TIME TABLE 2015-16'!K8,'TIME TABLE 2015-16'!L8,'TIME TABLE 2015-16'!M8,'TIME TABLE 2015-16'!N8,'TIME TABLE 2015-16'!O8,'TIME TABLE 2015-16'!H8)","v":"TYBCOM A"},{"$f":"TT('TIME TABLE 2015-16'!$A$43,'TIME TABLE 2015-16'!F14,'TIME TABLE 2015-16'!G14,'TIME TABLE 2015-16'!I14,'TIME TABLE 2015-16'!J14,'TIME TABLE 2015-16'!K14,'TIME TABLE 2015-16'!L14,'TIME TABLE 2015-16'!M14,'TIME TABLE 2015-16'!N14,'TIME TABLE 2015-16'!O14,'TIME TABLE 2015-16'!H14)","v":"TYBCOM A"},{"$f":"TT('TIME TABLE 2015-16'!$A$43,'TIME TABLE 2015-16'!F20,'TIME TABLE 2015-16'!G20,'TIME TABLE 2015-16'!I20,'TIME TABLE 2015-16'!J20,'TIME TABLE 2015-16'!K20,'TIME TABLE 2015-16'!L20,'TIME TABLE 2015-16'!M20,'TIME TABLE 2015-16'!N20,'TIME TABLE 2015-16'!O20,'TIME TABLE 2015-16'!H20)","v":"TYBCOM A"},{"$f":"TT('TIME TABLE 2015-16'!$A$43,'TIME TABLE 2015-16'!F26,'TIME TABLE 2015-16'!G26,'TIME TABLE 2015-16'!I26,'TIME TABLE 2015-16'!J26,'TIME TABLE 2015-16'!K26,'TIME TABLE 2015-16'!L26,'TIME TABLE 2015-16'!M26,'TIME TABLE 2015-16'!N26,'TIME TABLE 2015-16'!O26,'TIME TABLE 2015-16'!H26)","v":"TYBCOM A"},{"$f":"TT('TIME TABLE 2015-16'!$A$43,'TIME TABLE 2015-16'!F32,'TIME TABLE 2015-16'!G32,'TIME TABLE 2015-16'!I32,'TIME TABLE 2015-16'!J32,'TIME TABLE 2015-16'!K32,'TIME TABLE 2015-16'!L32,'TIME TABLE 2015-16'!M32,'TIME TABLE 2015-16'!N32,'TIME TABLE 2015-16'!O32,'TIME TABLE 2015-16'!H32)","v":"---"}]
["05:40:00",{"$f":"TT('TIME TABLE 2015-16'!$A$43,'TIME TABLE 2015-16'!F3,'TIME TABLE 2015-16'!G3,'TIME TABLE 2015-16'!I3,'TIME TABLE 2015-16'!J3,'TIME TABLE 2015-16'!K3,'TIME TABLE 2015-16'!L3,'TIME TABLE 2015-16'!M3,'TIME TABLE 2015-16'!N3,'TIME TABLE 2015-16'!O3,'TIME TABLE 2015-16'!H3)","v":"TYBCOM A"},{"$f":"TT('TIME TABLE 2015-16'!$A$43,'TIME TABLE 2015-16'!F9,'TIME TABLE 2015-16'!G9,'TIME TABLE 2015-16'!I9,'TIME TABLE 2015-16'!J9,'TIME TABLE 2015-16'!K9,'TIME TABLE 2015-16'!L9,'TIME TABLE 2015-16'!M9,'TIME TABLE 2015-16'!N9,'TIME TABLE 2015-16'!O9,'TIME TABLE 2015-16'!H9)","v":"TYBCOM A"},{"$f":"TT('TIME TABLE 2015-16'!$A$43,'TIME TABLE 2015-16'!F15,'TIME TABLE 2015-16'!G15,'TIME TABLE 2015-16'!I15,'TIME TABLE 2015-16'!J15,'TIME TABLE 2015-16'!K15,'TIME TABLE 2015-16'!L15,'TIME TABLE 2015-16'!M15,'TIME TABLE 2015-16'!N15,'TIME TABLE 2015-16'!O15,'TIME TABLE 2015-16'!H15)","v":"TYBCOM A"},{"$f":"TT('TIME TABLE 2015-16'!$A$43,'TIME TABLE 2015-16'!F21,'TIME TABLE 2015-16'!G21,'TIME TABLE 2015-16'!I21,'TIME TABLE 2015-16'!J21,'TIME TABLE 2015-16'!K21,'TIME TABLE 2015-16'!L21,'TIME TABLE 2015-16'!M21,'TIME TABLE 2015-16'!N21,'TIME TABLE 2015-16'!O21,'TIME TABLE 2015-16'!H21)","v":"TYBCOM A"},{"$f":"TT('TIME TABLE 2015-16'!$A$43,'TIME TABLE 2015-16'!F27,'TIME TABLE 2015-16'!G27,'TIME TABLE 2015-16'!I27,'TIME TABLE 2015-16'!J27,'TIME TABLE 2015-16'!K27,'TIME TABLE 2015-16'!L27,'TIME TABLE 2015-16'!M27,'TIME TABLE 2015-16'!N27,'TIME TABLE 2015-16'!O27,'TIME TABLE 2015-16'!H27)","v":"---"},{"$f":"TT('TIME TABLE 2015-16'!$A$43,'TIME TABLE 2015-16'!F33,'TIME TABLE 2015-16'!G33,'TIME TABLE 2015-16'!I33,'TIME TABLE 2015-16'!J33,'TIME TABLE 2015-16'!K33,'TIME TABLE 2015-16'!L33,'TIME TABLE 2015-16'!M33,'TIME TABLE 2015-16'!N33,'TIME TABLE 2015-16'!O33,'TIME TABLE 2015-16'!H33)","v":"---"}]
["06:30:00",{"$f":"TT('TIME TABLE 2015-16'!$A$43,'TIME TABLE 2015-16'!F4,'TIME TABLE 2015-16'!G4,'TIME TABLE 2015-16'!I4,'TIME TABLE 2015-16'!J4,'TIME TABLE 2015-16'!K4,'TIME TABLE 2015-16'!L4,'TIME TABLE 2015-16'!M4,'TIME TABLE 2015-16'!N4,'TIME TABLE 2015-16'!O4,'TIME TABLE 2015-16'!H4)","v":"---"},{"$f":"TT('TIME TABLE 2015-16'!$A$43,'TIME TABLE 2015-16'!F10,'TIME TABLE 2015-16'!G10,'TIME TABLE 2015-16'!I10,'TIME TABLE 2015-16'!J10,'TIME TABLE 2015-16'!K10,'TIME TABLE 2015-16'!L10,'TIME TABLE 2015-16'!M10,'TIME TABLE 2015-16'!N10,'TIME TABLE 2015-16'!O10,'TIME TABLE 2015-16'!H10)","v":"---"},{"$f":"TT('TIME TABLE 2015-16'!$A$43,'TIME TABLE 2015-16'!F16,'TIME TABLE 2015-16'!G16,'TIME TABLE 2015-16'!I16,'TIME TABLE 2015-16'!J16,'TIME TABLE 2015-16'!K16,'TIME TABLE 2015-16'!L16,'TIME TABLE 2015-16'!M16,'TIME TABLE 2015-16'!N16,'TIME TABLE 2015-16'!O16,'TIME TABLE 2015-16'!H16)","v":"---"},{"$f":"TT('TIME TABLE 2015-16'!$A$43,'TIME TABLE 2015-16'!F22,'TIME TABLE 2015-16'!G22,'TIME TABLE 2015-16'!I22,'TIME TABLE 2015-16'!J22,'TIME TABLE 2015-16'!K22,'TIME TABLE 2015-16'!L22,'TIME TABLE 2015-16'!M22,'TIME TABLE 2015-16'!N22,'TIME TABLE 2015-16'!O22,'TIME TABLE 2015-16'!H22)","v":"---"},{"$f":"TT('TIME TABLE 2015-16'!$A$43,'TIME TABLE 2015-16'!F28,'TIME TABLE 2015-16'!G28,'TIME TABLE 2015-16'!I28,'TIME TABLE 2015-16'!J28,'TIME TABLE 2015-16'!K28,'TIME TABLE 2015-16'!L28,'TIME TABLE 2015-16'!M28,'TIME TABLE 2015-16'!N28,'TIME TABLE 2015-16'!O28,'TIME TABLE 2015-16'!H28)","v":"---"},{"$f":"TT('TIME TABLE 2015-16'!$A$43,'TIME TABLE 2015-16'!F34,'TIME TABLE 2015-16'!G34,'TIME TABLE 2015-16'!I34,'TIME TABLE 2015-16'!J34,'TIME TABLE 2015-16'!K34,'TIME TABLE 2015-16'!L34,'TIME TABLE 2015-16'!M34,'TIME TABLE 2015-16'!N34,'TIME TABLE 2015-16'!O34,'TIME TABLE 2015-16'!H34)","v":"---"}]
["07:20:00",{"$f":"TT('TIME TABLE 2015-16'!$A$43,'TIME TABLE 2015-16'!F5,'TIME TABLE 2015-16'!G5,'TIME TABLE 2015-16'!I5,'TIME TABLE 2015-16'!J5,'TIME TABLE 2015-16'!K5,'TIME TABLE 2015-16'!L5,'TIME TABLE 2015-16'!M5,'TIME TABLE 2015-16'!N5,'TIME TABLE 2015-16'!O5,'TIME TABLE 2015-16'!H5)","v":"---"},{"$f":"TT('TIME TABLE 2015-16'!$A$43,'TIME TABLE 2015-16'!F11,'TIME TABLE 2015-16'!G11,'TIME TABLE 2015-16'!I11,'TIME TABLE 2015-16'!J11,'TIME TABLE 2015-16'!K11,'TIME TABLE 2015-16'!L11,'TIME TABLE 2015-16'!M11,'TIME TABLE 2015-16'!N11,'TIME TABLE 2015-16'!O11,'TIME TABLE 2015-16'!H11)","v":"---"},{"$f":"TT('TIME TABLE 2015-16'!$A$43,'TIME TABLE 2015-16'!F17,'TIME TABLE 2015-16'!G17,'TIME TABLE 2015-16'!I17,'TIME TABLE 2015-16'!J17,'TIME TABLE 2015-16'!K17,'TIME TABLE 2015-16'!L17,'TIME TABLE 2015-16'!M17,'TIME TABLE 2015-16'!N17,'TIME TABLE 2015-16'!O17,'TIME TABLE 2015-16'!H17)","v":"---"},{"$f":"TT('TIME TABLE 2015-16'!$A$43,'TIME TABLE 2015-16'!F23,'TIME TABLE 2015-16'!G23,'TIME TABLE 2015-16'!I23,'TIME TABLE 2015-16'!J23,'TIME TABLE 2015-16'!K23,'TIME TABLE 2015-16'!L23,'TIME TABLE 2015-16'!M23,'TIME TABLE 2015-16'!N23,'TIME TABLE 2015-16'!O23,'TIME TABLE 2015-16'!H23)","v":"---"},{"$f":"TT('TIME TABLE 2015-16'!$A$43,'TIME TABLE 2015-16'!F29,'TIME TABLE 2015-16'!G29,'TIME TABLE 2015-16'!I29,'TIME TABLE 2015-16'!J29,'TIME TABLE 2015-16'!K29,'TIME TABLE 2015-16'!L29,'TIME TABLE 2015-16'!M29,'TIME TABLE 2015-16'!N29,'TIME TABLE 2015-16'!O29,'TIME TABLE 2015-16'!H29)","v":"---"},{"$f":"TT('TIME TABLE 2015-16'!$A$43,'TIME TABLE 2015-16'!F35,'TIME TABLE 2015-16'!G35,'TIME TABLE 2015-16'!I35,'TIME TABLE 2015-16'!J35,'TIME TABLE 2015-16'!K35,'TIME TABLE 2015-16'!L35,'TIME TABLE 2015-16'!M35,'TIME TABLE 2015-16'!N35,'TIME TABLE 2015-16'!O35,'TIME TABLE 2015-16'!H35)","v":"---"}]
["08:20:00",{"$f":"TT('TIME TABLE 2015-16'!$A$43,'TIME TABLE 2015-16'!F6,'TIME TABLE 2015-16'!G6,'TIME TABLE 2015-16'!I6,'TIME TABLE 2015-16'!J6,'TIME TABLE 2015-16'!K6,'TIME TABLE 2015-16'!L6,'TIME TABLE 2015-16'!M6,'TIME TABLE 2015-16'!N6,'TIME TABLE 2015-16'!O6,'TIME TABLE 2015-16'!H6)","v":"---"},{"$f":"TT('TIME TABLE 2015-16'!$A$43,'TIME TABLE 2015-16'!F12,'TIME TABLE 2015-16'!G12,'TIME TABLE 2015-16'!I12,'TIME TABLE 2015-16'!J12,'TIME TABLE 2015-16'!K12,'TIME TABLE 2015-16'!L12,'TIME TABLE 2015-16'!M12,'TIME TABLE 2015-16'!N12,'TIME TABLE 2015-16'!O12,'TIME TABLE 2015-16'!H12)","v":"---"},{"$f":"TT('TIME TABLE 2015-16'!$A$43,'TIME TABLE 2015-16'!F18,'TIME TABLE 2015-16'!G18,'TIME TABLE 2015-16'!I18,'TIME TABLE 2015-16'!J18,'TIME TABLE 2015-16'!K18,'TIME TABLE 2015-16'!L18,'TIME TABLE 2015-16'!M18,'TIME TABLE 2015-16'!N18,'TIME TABLE 2015-16'!O18,'TIME TABLE 2015-16'!H18)","v":"---"},{"$f":"TT('TIME TABLE 2015-16'!$A$43,'TIME TABLE 2015-16'!F24,'TIME TABLE 2015-16'!G24,'TIME TABLE 2015-16'!I24,'TIME TABLE 2015-16'!J24,'TIME TABLE 2015-16'!K24,'TIME TABLE 2015-16'!L24,'TIME TABLE 2015-16'!M24,'TIME TABLE 2015-16'!N24,'TIME TABLE 2015-16'!O24,'TIME TABLE 2015-16'!H24)","v":"---"},{"$f":"TT('TIME TABLE 2015-16'!$A$43,'TIME TABLE 2015-16'!F30,'TIME TABLE 2015-16'!G30,'TIME TABLE 2015-16'!I30,'TIME TABLE 2015-16'!J30,'TIME TABLE 2015-16'!K30,'TIME TABLE 2015-16'!L30,'TIME TABLE 2015-16'!M30,'TIME TABLE 2015-16'!N30,'TIME TABLE 2015-16'!O30,'TIME TABLE 2015-16'!H30)","v":"---"},{"$f":"TT('TIME TABLE 2015-16'!$A$43,'TIME TABLE 2015-16'!F36,'TIME TABLE 2015-16'!G36,'TIME TABLE 2015-16'!I36,'TIME TABLE 2015-16'!J36,'TIME TABLE 2015-16'!K36,'TIME TABLE 2015-16'!L36,'TIME TABLE 2015-16'!M36,'TIME TABLE 2015-16'!N36,'TIME TABLE 2015-16'!O36,'TIME TABLE 2015-16'!H36)","v":"---"}]
["09:10:00",{"$f":"TT('TIME TABLE 2015-16'!$A$43,'TIME TABLE 2015-16'!F7,'TIME TABLE 2015-16'!G7,'TIME TABLE 2015-16'!I7,'TIME TABLE 2015-16'!J7,'TIME TABLE 2015-16'!K7,'TIME TABLE 2015-16'!L7,'TIME TABLE 2015-16'!M7,'TIME TABLE 2015-16'!N7,'TIME TABLE 2015-16'!O7,'TIME TABLE 2015-16'!H7)","v":"---"},{"$f":"TT('TIME TABLE 2015-16'!$A$43,'TIME TABLE 2015-16'!F13,'TIME TABLE 2015-16'!G13,'TIME TABLE 2015-16'!I13,'TIME TABLE 2015-16'!J13,'TIME TABLE 2015-16'!K13,'TIME TABLE 2015-16'!L13,'TIME TABLE 2015-16'!M13,'TIME TABLE 2015-16'!N13,'TIME TABLE 2015-16'!O13,'TIME TABLE 2015-16'!H13)","v":"---"},{"$f":"TT('TIME TABLE 2015-16'!$A$43,'TIME TABLE 2015-16'!F19,'TIME TABLE 2015-16'!G19,'TIME TABLE 2015-16'!I19,'TIME TABLE 2015-16'!J19,'TIME TABLE 2015-16'!K19,'TIME TABLE 2015-16'!L19,'TIME TABLE 2015-16'!M19,'TIME TABLE 2015-16'!N19,'TIME TABLE 2015-16'!O19,'TIME TABLE 2015-16'!H19)","v":"---"},{"$f":"TT('TIME TABLE 2015-16'!$A$43,'TIME TABLE 2015-16'!F25,'TIME TABLE 2015-16'!G25,'TIME TABLE 2015-16'!I25,'TIME TABLE 2015-16'!J25,'TIME TABLE 2015-16'!K25,'TIME TABLE 2015-16'!L25,'TIME TABLE 2015-16'!M25,'TIME TABLE 2015-16'!N25,'TIME TABLE 2015-16'!O25,'TIME TABLE 2015-16'!H25)","v":"---"},{"$f":"TT('TIME TABLE 2015-16'!$A$43,'TIME TABLE 2015-16'!F31,'TIME TABLE 2015-16'!G31,'TIME TABLE 2015-16'!I31,'TIME TABLE 2015-16'!J31,'TIME TABLE 2015-16'!K31,'TIME TABLE 2015-16'!L31,'TIME TABLE 2015-16'!M31,'TIME TABLE 2015-16'!N31,'TIME TABLE 2015-16'!O31,'TIME TABLE 2015-16'!H31)","v":"---"},{"$f":"TT('TIME TABLE 2015-16'!$A$43,'TIME TABLE 2015-16'!F37,'TIME TABLE 2015-16'!G37,'TIME TABLE 2015-16'!I37,'TIME TABLE 2015-16'!J37,'TIME TABLE 2015-16'!K37,'TIME TABLE 2015-16'!L37,'TIME TABLE 2015-16'!M37,'TIME TABLE 2015-16'!N37,'TIME TABLE 2015-16'!O37,'TIME TABLE 2015-16'!H37)","v":"---"},{"$f":"36-(COUNTIF(B39:G44,\"---\"))","v":9}]
[]
[null,"Suryawanshi"]
[null,"M","T","W","T","F","S"]
["04:50:00",{"$f":"TT('TIME TABLE 2015-16'!$A$45,'TIME TABLE 2015-16'!F2,'TIME TABLE 2015-16'!G2,'TIME TABLE 2015-16'!I2,'TIME TABLE 2015-16'!J2,'TIME TABLE 2015-16'!K2,'TIME TABLE 2015-16'!L2,'TIME TABLE 2015-16'!M2,'TIME TABLE 2015-16'!N2,'TIME TABLE 2015-16'!O2,'TIME TABLE 2015-16'!H2)","v":"---"},{"$f":"TT('TIME TABLE 2015-16'!$A$45,'TIME TABLE 2015-16'!F8,'TIME TABLE 2015-16'!G8,'TIME TABLE 2015-16'!I8,'TIME TABLE 2015-16'!J8,'TIME TABLE 2015-16'!K8,'TIME TABLE 2015-16'!L8,'TIME TABLE 2015-16'!M8,'TIME TABLE 2015-16'!N8,'TIME TABLE 2015-16'!O8,'TIME TABLE 2015-16'!H8)","v":"---"},{"$f":"TT('TIME TABLE 2015-16'!$A$45,'TIME TABLE 2015-16'!F14,'TIME TABLE 2015-16'!G14,'TIME TABLE 2015-16'!I14,'TIME TABLE 2015-16'!J14,'TIME TABLE 2015-16'!K14,'TIME TABLE 2015-16'!L14,'TIME TABLE 2015-16'!M14,'TIME TABLE 2015-16'!N14,'TIME TABLE 2015-16'!O14,'TIME TABLE 2015-16'!H14)","v":"---"},{"$f":"TT('TIME TABLE 2015-16'!$A$45,'TIME TABLE 2015-16'!F20,'TIME TABLE 2015-16'!G20,'TIME TABLE 2015-16'!I20,'TIME TABLE 2015-16'!J20,'TIME TABLE 2015-16'!K20,'TIME TABLE 2015-16'!L20,'TIME TABLE 2015-16'!M20,'TIME TABLE 2015-16'!N20,'TIME TABLE 2015-16'!O20,'TIME TABLE 2015-16'!H20)","v":"---"},{"$f":"TT('TIME TABLE 2015-16'!$A$45,'TIME TABLE 2015-16'!F26,'TIME TABLE 2015-16'!G26,'TIME TABLE 2015-16'!I26,'TIME TABLE 2015-16'!J26,'TIME TABLE 2015-16'!K26,'TIME TABLE 2015-16'!L26,'TIME TABLE 2015-16'!M26,'TIME TABLE 2015-16'!N26,'TIME TABLE 2015-16'!O26,'TIME TABLE 2015-16'!H26)","v":"---"},{"$f":"TT('TIME TABLE 2015-16'!$A$45,'TIME TABLE 2015-16'!F32,'TIME TABLE 2015-16'!G32,'TIME TABLE 2015-16'!I32,'TIME TABLE 2015-16'!J32,'TIME TABLE 2015-16'!K32,'TIME TABLE 2015-16'!L32,'TIME TABLE 2015-16'!M32,'TIME TABLE 2015-16'!N32,'TIME TABLE 2015-16'!O32,'TIME TABLE 2015-16'!H32)","v":"---"}]
["05:40:00",{"$f":"TT('TIME TABLE 2015-16'!$A$45,'TIME TABLE 2015-16'!F3,'TIME TABLE 2015-16'!G3,'TIME TABLE 2015-16'!I3,'TIME TABLE 2015-16'!J3,'TIME TABLE 2015-16'!K3,'TIME TABLE 2015-16'!L3,'TIME TABLE 2015-16'!M3,'TIME TABLE 2015-16'!N3,'TIME TABLE 2015-16'!O3,'TIME TABLE 2015-16'!H3)","v":"---"},{"$f":"TT('TIME TABLE 2015-16'!$A$45,'TIME TABLE 2015-16'!F9,'TIME TABLE 2015-16'!G9,'TIME TABLE 2015-16'!I9,'TIME TABLE 2015-16'!J9,'TIME TABLE 2015-16'!K9,'TIME TABLE 2015-16'!L9,'TIME TABLE 2015-16'!M9,'TIME TABLE 2015-16'!N9,'TIME TABLE 2015-16'!O9,'TIME TABLE 2015-16'!H9)","v":"---"},{"$f":"TT('TIME TABLE 2015-16'!$A$45,'TIME TABLE 2015-16'!F15,'TIME TABLE 2015-16'!G15,'TIME TABLE 2015-16'!I15,'TIME TABLE 2015-16'!J15,'TIME TABLE 2015-16'!K15,'TIME TABLE 2015-16'!L15,'TIME TABLE 2015-16'!M15,'TIME TABLE 2015-16'!N15,'TIME TABLE 2015-16'!O15,'TIME TABLE 2015-16'!H15)","v":"---"},{"$f":"TT('TIME TABLE 2015-16'!$A$45,'TIME TABLE 2015-16'!F21,'TIME TABLE 2015-16'!G21,'TIME TABLE 2015-16'!I21,'TIME TABLE 2015-16'!J21,'TIME TABLE 2015-16'!K21,'TIME TABLE 2015-16'!L21,'TIME TABLE 2015-16'!M21,'TIME TABLE 2015-16'!N21,'TIME TABLE 2015-16'!O21,'TIME TABLE 2015-16'!H21)","v":"FYBCOM A"},{"$f":"TT('TIME TABLE 2015-16'!$A$45,'TIME TABLE 2015-16'!F27,'TIME TABLE 2015-16'!G27,'TIME TABLE 2015-16'!I27,'TIME TABLE 2015-16'!J27,'TIME TABLE 2015-16'!K27,'TIME TABLE 2015-16'!L27,'TIME TABLE 2015-16'!M27,'TIME TABLE 2015-16'!N27,'TIME TABLE 2015-16'!O27,'TIME TABLE 2015-16'!H27)","v":"FYBCOM B"},{"$f":"TT('TIME TABLE 2015-16'!$A$45,'TIME TABLE 2015-16'!F33,'TIME TABLE 2015-16'!G33,'TIME TABLE 2015-16'!I33,'TIME TABLE 2015-16'!J33,'TIME TABLE 2015-16'!K33,'TIME TABLE 2015-16'!L33,'TIME TABLE 2015-16'!M33,'TIME TABLE 2015-16'!N33,'TIME TABLE 2015-16'!O33,'TIME TABLE 2015-16'!H33)","v":"---"}]
["06:30:00",{"$f":"TT('TIME TABLE 2015-16'!$A$45,'TIME TABLE 2015-16'!F4,'TIME TABLE 2015-16'!G4,'TIME TABLE 2015-16'!I4,'TIME TABLE 2015-16'!J4,'TIME TABLE 2015-16'!K4,'TIME TABLE 2015-16'!L4,'TIME TABLE 2015-16'!M4,'TIME TABLE 2015-16'!N4,'TIME TABLE 2015-16'!O4,'TIME TABLE 2015-16'!H4)","v":"SYBCOM A"},{"$f":"TT('TIME TABLE 2015-16'!$A$45,'TIME TABLE 2015-16'!F10,'TIME TABLE 2015-16'!G10,'TIME TABLE 2015-16'!I10,'TIME TABLE 2015-16'!J10,'TIME TABLE 2015-16'!K10,'TIME TABLE 2015-16'!L10,'TIME TABLE 2015-16'!M10,'TIME TABLE 2015-16'!N10,'TIME TABLE 2015-16'!O10,'TIME TABLE 2015-16'!H10)","v":"FYBCOM A"},{"$f":"TT('TIME TABLE 2015-16'!$A$45,'TIME TABLE 2015-16'!F16,'TIME TABLE 2015-16'!G16,'TIME TABLE 2015-16'!I16,'TIME TABLE 2015-16'!J16,'TIME TABLE 2015-16'!K16,'TIME TABLE 2015-16'!L16,'TIME TABLE 2015-16'!M16,'TIME TABLE 2015-16'!N16,'TIME TABLE 2015-16'!O16,'TIME TABLE 2015-16'!H16)","v":"SYBCOM A"},{"$f":"TT('TIME TABLE 2015-16'!$A$45,'TIME TABLE 2015-16'!F22,'TIME TABLE 2015-16'!G22,'TIME TABLE 2015-16'!I22,'TIME TABLE 2015-16'!J22,'TIME TABLE 2015-16'!K22,'TIME TABLE 2015-16'!L22,'TIME TABLE 2015-16'!M22,'TIME TABLE 2015-16'!N22,'TIME TABLE 2015-16'!O22,'TIME TABLE 2015-16'!H22)","v":"FYBCOM A"},{"$f":"TT('TIME TABLE 2015-16'!$A$45,'TIME TABLE 2015-16'!F28,'TIME TABLE 2015-16'!G28,'TIME TABLE 2015-16'!I28,'TIME TABLE 2015-16'!J28,'TIME TABLE 2015-16'!K28,'TIME TABLE 2015-16'!L28,'TIME TABLE 2015-16'!M28,'TIME TABLE 2015-16'!N28,'TIME TABLE 2015-16'!O28,'TIME TABLE 2015-16'!H28)","v":"---"},{"$f":"TT('TIME TABLE 2015-16'!$A$45,'TIME TABLE 2015-16'!F34,'TIME TABLE 2015-16'!G34,'TIME TABLE 2015-16'!I34,'TIME TABLE 2015-16'!J34,'TIME TABLE 2015-16'!K34,'TIME TABLE 2015-16'!L34,'TIME TABLE 2015-16'!M34,'TIME TABLE 2015-16'!N34,'TIME TABLE 2015-16'!O34,'TIME TABLE 2015-16'!H34)","v":"SYBCOM B"}]
["07:20:00",{"$f":"TT('TIME TABLE 2015-16'!$A$45,'TIME TABLE 2015-16'!F5,'TIME TABLE 2015-16'!G5,'TIME TABLE 2015-16'!I5,'TIME TABLE 2015-16'!J5,'TIME TABLE 2015-16'!K5,'TIME TABLE 2015-16'!L5,'TIME TABLE 2015-16'!M5,'TIME TABLE 2015-16'!N5,'TIME TABLE 2015-16'!O5,'TIME TABLE 2015-16'!H5)","v":"FYBCOM A"},{"$f":"TT('TIME TABLE 2015-16'!$A$45,'TIME TABLE 2015-16'!F11,'TIME TABLE 2015-16'!G11,'TIME TABLE 2015-16'!I11,'TIME TABLE 2015-16'!J11,'TIME TABLE 2015-16'!K11,'TIME TABLE 2015-16'!L11,'TIME TABLE 2015-16'!M11,'TIME TABLE 2015-16'!N11,'TIME TABLE 2015-16'!O11,'TIME TABLE 2015-16'!H11)","v":"---"},{"$f":"TT('TIME TABLE 2015-16'!$A$45,'TIME TABLE 2015-16'!F17,'TIME TABLE 2015-16'!G17,'TIME TABLE 2015-16'!I17,'TIME TABLE 2015-16'!J17,'TIME TABLE 2015-16'!K17,'TIME TABLE 2015-16'!L17,'TIME TABLE 2015-16'!M17,'TIME TABLE 2015-16'!N17,'TIME TABLE 2015-16'!O17,'TIME TABLE 2015-16'!H17)","v":"---"},{"$f":"TT('TIME TABLE 2015-16'!$A$45,'TIME TABLE 2015-16'!F23,'TIME TABLE 2015-16'!G23,'TIME TABLE 2015-16'!I23,'TIME TABLE 2015-16'!J23,'TIME TABLE 2015-16'!K23,'TIME TABLE 2015-16'!L23,'TIME TABLE 2015-16'!M23,'TIME TABLE 2015-16'!N23,'TIME TABLE 2015-16'!O23,'TIME TABLE 2015-16'!H23)","v":"SYBCOM A"},{"$f":"TT('TIME TABLE 2015-16'!$A$45,'TIME TABLE 2015-16'!F29,'TIME TABLE 2015-16'!G29,'TIME TABLE 2015-16'!I29,'TIME TABLE 2015-16'!J29,'TIME TABLE 2015-16'!K29,'TIME TABLE 2015-16'!L29,'TIME TABLE 2015-16'!M29,'TIME TABLE 2015-16'!N29,'TIME TABLE 2015-16'!O29,'TIME TABLE 2015-16'!H29)","v":"SYBCOM B"},{"$f":"TT('TIME TABLE 2015-16'!$A$45,'TIME TABLE 2015-16'!F35,'TIME TABLE 2015-16'!G35,'TIME TABLE 2015-16'!I35,'TIME TABLE 2015-16'!J35,'TIME TABLE 2015-16'!K35,'TIME TABLE 2015-16'!L35,'TIME TABLE 2015-16'!M35,'TIME TABLE 2015-16'!N35,'TIME TABLE 2015-16'!O35,'TIME TABLE 2015-16'!H35)","v":"FYBCOM A"}]
["08:20:00",{"$f":"TT('TIME TABLE 2015-16'!$A$45,'TIME TABLE 2015-16'!F6,'TIME TABLE 2015-16'!G6,'TIME TABLE 2015-16'!I6,'TIME TABLE 2015-16'!J6,'TIME TABLE 2015-16'!K6,'TIME TABLE 2015-16'!L6,'TIME TABLE 2015-16'!M6,'TIME TABLE 2015-16'!N6,'TIME TABLE 2015-16'!O6,'TIME TABLE 2015-16'!H6)","v":"---"},{"$f":"TT('TIME TABLE 2015-16'!$A$45,'TIME TABLE 2015-16'!F12,'TIME TABLE 2015-16'!G12,'TIME TABLE 2015-16'!I12,'TIME TABLE 2015-16'!J12,'TIME TABLE 2015-16'!K12,'TIME TABLE 2015-16'!L12,'TIME TABLE 2015-16'!M12,'TIME TABLE 2015-16'!N12,'TIME TABLE 2015-16'!O12,'TIME TABLE 2015-16'!H12)","v":"SYBCOM B"},{"$f":"TT('TIME TABLE 2015-16'!$A$45,'TIME TABLE 2015-16'!F18,'TIME TABLE 2015-16'!G18,'TIME TABLE 2015-16'!I18,'TIME TABLE 2015-16'!J18,'TIME TABLE 2015-16'!K18,'TIME TABLE 2015-16'!L18,'TIME TABLE 2015-16'!M18,'TIME TABLE 2015-16'!N18,'TIME TABLE 2015-16'!O18,'TIME TABLE 2015-16'!H18)","v":"FYBCOM A"},{"$f":"TT('TIME TABLE 2015-16'!$A$45,'TIME TABLE 2015-16'!F24,'TIME TABLE 2015-16'!G24,'TIME TABLE 2015-16'!I24,'TIME TABLE 2015-16'!J24,'TIME TABLE 2015-16'!K24,'TIME TABLE 2015-16'!L24,'TIME TABLE 2015-16'!M24,'TIME TABLE 2015-16'!N24,'TIME TABLE 2015-16'!O24,'TIME TABLE 2015-16'!H24)","v":"FYBCOM B"},{"$f":"TT('TIME TABLE 2015-16'!$A$45,'TIME TABLE 2015-16'!F30,'TIME TABLE 2015-16'!G30,'TIME TABLE 2015-16'!I30,'TIME TABLE 2015-16'!J30,'TIME TABLE 2015-16'!K30,'TIME TABLE 2015-16'!L30,'TIME TABLE 2015-16'!M30,'TIME TABLE 2015-16'!N30,'TIME TABLE 2015-16'!O30,'TIME TABLE 2015-16'!H30)","v":"FYBCOM B"},{"$f":"TT('TIME TABLE 2015-16'!$A$45,'TIME TABLE 2015-16'!F36,'TIME TABLE 2015-16'!G36,'TIME TABLE 2015-16'!I36,'TIME TABLE 2015-16'!J36,'TIME TABLE 2015-16'!K36,'TIME TABLE 2015-16'!L36,'TIME TABLE 2015-16'!M36,'TIME TABLE 2015-16'!N36,'TIME TABLE 2015-16'!O36,'TIME TABLE 2015-16'!H36)","v":"FYBCOM B"}]
["09:10:00",{"$f":"TT('TIME TABLE 2015-16'!$A$45,'TIME TABLE 2015-16'!F7,'TIME TABLE 2015-16'!G7,'TIME TABLE 2015-16'!I7,'TIME TABLE 2015-16'!J7,'TIME TABLE 2015-16'!K7,'TIME TABLE 2015-16'!L7,'TIME TABLE 2015-16'!M7,'TIME TABLE 2015-16'!N7,'TIME TABLE 2015-16'!O7,'TIME TABLE 2015-16'!H7)","v":"---"},{"$f":"TT('TIME TABLE 2015-16'!$A$45,'TIME TABLE 2015-16'!F13,'TIME TABLE 2015-16'!G13,'TIME TABLE 2015-16'!I13,'TIME TABLE 2015-16'!J13,'TIME TABLE 2015-16'!K13,'TIME TABLE 2015-16'!L13,'TIME TABLE 2015-16'!M13,'TIME TABLE 2015-16'!N13,'TIME TABLE 2015-16'!O13,'TIME TABLE 2015-16'!H13)","v":"---"},{"$f":"TT('TIME TABLE 2015-16'!$A$45,'TIME TABLE 2015-16'!F19,'TIME TABLE 2015-16'!G19,'TIME TABLE 2015-16'!I19,'TIME TABLE 2015-16'!J19,'TIME TABLE 2015-16'!K19,'TIME TABLE 2015-16'!L19,'TIME TABLE 2015-16'!M19,'TIME TABLE 2015-16'!N19,'TIME TABLE 2015-16'!O19,'TIME TABLE 2015-16'!H19)","v":"FYBA"},{"$f":"TT('TIME TABLE 2015-16'!$A$45,'TIME TABLE 2015-16'!F25,'TIME TABLE 2015-16'!G25,'TIME TABLE 2015-16'!I25,'TIME TABLE 2015-16'!J25,'TIME TABLE 2015-16'!K25,'TIME TABLE 2015-16'!L25,'TIME TABLE 2015-16'!M25,'TIME TABLE 2015-16'!N25,'TIME TABLE 2015-16'!O25,'TIME TABLE 2015-16'!H25)","v":"FYBA"},{"$f":"TT('TIME TABLE 2015-16'!$A$45,'TIME TABLE 2015-16'!F31,'TIME TABLE 2015-16'!G31,'TIME TABLE 2015-16'!I31,'TIME TABLE 2015-16'!J31,'TIME TABLE 2015-16'!K31,'TIME TABLE 2015-16'!L31,'TIME TABLE 2015-16'!M31,'TIME TABLE 2015-16'!N31,'TIME TABLE 2015-16'!O31,'TIME TABLE 2015-16'!H31)","v":"FYBCOM B"},{"$f":"TT('TIME TABLE 2015-16'!$A$45,'TIME TABLE 2015-16'!F37,'TIME TABLE 2015-16'!G37,'TIME TABLE 2015-16'!I37,'TIME TABLE 2015-16'!J37,'TIME TABLE 2015-16'!K37,'TIME TABLE 2015-16'!L37,'TIME TABLE 2015-16'!M37,'TIME TABLE 2015-16'!N37,'TIME TABLE 2015-16'!O37,'TIME TABLE 2015-16'!H37)","v":"FYBCOM B"},{"$f":"36-(COUNTIF(B48:G53,\"---\"))","v":20}]
[]
[null,"Bhave"]
[null,"M","T","W","T","F","S"]
["04:50:00",{"$f":"TT('TIME TABLE 2015-16'!$A$48,'TIME TABLE 2015-16'!F2,'TIME TABLE 2015-16'!G2,'TIME TABLE 2015-16'!I2,'TIME TABLE 2015-16'!J2,'TIME TABLE 2015-16'!K2,'TIME TABLE 2015-16'!L2,'TIME TABLE 2015-16'!M2,'TIME TABLE 2015-16'!N2,'TIME TABLE 2015-16'!O2,'TIME TABLE 2015-16'!H2)","v":"---"},{"$f":"TT('TIME TABLE 2015-16'!$A$48,'TIME TABLE 2015-16'!F8,'TIME TABLE 2015-16'!G8,'TIME TABLE 2015-16'!I8,'TIME TABLE 2015-16'!J8,'TIME TABLE 2015-16'!K8,'TIME TABLE 2015-16'!L8,'TIME TABLE 2015-16'!M8,'TIME TABLE 2015-16'!N8,'TIME TABLE 2015-16'!O8,'TIME TABLE 2015-16'!H8)","v":"---"},{"$f":"TT('TIME TABLE 2015-16'!$A$48,'TIME TABLE 2015-16'!F14,'TIME TABLE 2015-16'!G14,'TIME TABLE 2015-16'!I14,'TIME TABLE 2015-16'!J14,'TIME TABLE 2015-16'!K14,'TIME TABLE 2015-16'!L14,'TIME TABLE 2015-16'!M14,'TIME TABLE 2015-16'!N14,'TIME TABLE 2015-16'!O14,'TIME TABLE 2015-16'!H14)","v":"---"},{"$f":"TT('TIME TABLE 2015-16'!$A$48,'TIME TABLE 2015-16'!F20,'TIME TABLE 2015-16'!G20,'TIME TABLE 2015-16'!I20,'TIME TABLE 2015-16'!J20,'TIME TABLE 2015-16'!K20,'TIME TABLE 2015-16'!L20,'TIME TABLE 2015-16'!M20,'TIME TABLE 2015-16'!N20,'TIME TABLE 2015-16'!O20,'TIME TABLE 2015-16'!H20)","v":"---"},{"$f":"TT('TIME TABLE 2015-16'!$A$48,'TIME TABLE 2015-16'!F26,'TIME TABLE 2015-16'!G26,'TIME TABLE 2015-16'!I26,'TIME TABLE 2015-16'!J26,'TIME TABLE 2015-16'!K26,'TIME TABLE 2015-16'!L26,'TIME TABLE 2015-16'!M26,'TIME TABLE 2015-16'!N26,'TIME TABLE 2015-16'!O26,'TIME TABLE 2015-16'!H26)","v":"---"},{"$f":"TT('TIME TABLE 2015-16'!$A$48,'TIME TABLE 2015-16'!F32,'TIME TABLE 2015-16'!G32,'TIME TABLE 2015-16'!I32,'TIME TABLE 2015-16'!J32,'TIME TABLE 2015-16'!K32,'TIME TABLE 2015-16'!L32,'TIME TABLE 2015-16'!M32,'TIME TABLE 2015-16'!N32,'TIME TABLE 2015-16'!O32,'TIME TABLE 2015-16'!H32)","v":"---"}]
["05:40:00",{"$f":"TT('TIME TABLE 2015-16'!$A$48,'TIME TABLE 2015-16'!F3,'TIME TABLE 2015-16'!G3,'TIME TABLE 2015-16'!I3,'TIME TABLE 2015-16'!J3,'TIME TABLE 2015-16'!K3,'TIME TABLE 2015-16'!L3,'TIME TABLE 2015-16'!M3,'TIME TABLE 2015-16'!N3,'TIME TABLE 2015-16'!O3,'TIME TABLE 2015-16'!H3)","v":"---"},{"$f":"TT('TIME TABLE 2015-16'!$A$48,'TIME TABLE 2015-16'!F9,'TIME TABLE 2015-16'!G9,'TIME TABLE 2015-16'!I9,'TIME TABLE 2015-16'!J9,'TIME TABLE 2015-16'!K9,'TIME TABLE 2015-16'!L9,'TIME TABLE 2015-16'!M9,'TIME TABLE 2015-16'!N9,'TIME TABLE 2015-16'!O9,'TIME TABLE 2015-16'!H9)","v":"SYBA"},{"$f":"TT('TIME TABLE 2015-16'!$A$48,'TIME TABLE 2015-16'!F15,'TIME TABLE 2015-16'!G15,'TIME TABLE 2015-16'!I15,'TIME TABLE 2015-16'!J15,'TIME TABLE 2015-16'!K15,'TIME TABLE 2015-16'!L15,'TIME TABLE 2015-16'!M15,'TIME TABLE 2015-16'!N15,'TIME TABLE 2015-16'!O15,'TIME TABLE 2015-16'!H15)","v":"---"},{"$f":"TT('TIME TABLE 2015-16'!$A$48,'TIME TABLE 2015-16'!F21,'TIME TABLE 2015-16'!G21,'TIME TABLE 2015-16'!I21,'TIME TABLE 2015-16'!J21,'TIME TABLE 2015-16'!K21,'TIME TABLE 2015-16'!L21,'TIME TABLE 2015-16'!M21,'TIME TABLE 2015-16'!N21,'TIME TABLE 2015-16'!O21,'TIME TABLE 2015-16'!H21)","v":"---"},{"$f":"TT('TIME TABLE 2015-16'!$A$48,'TIME TABLE 2015-16'!F27,'TIME TABLE 2015-16'!G27,'TIME TABLE 2015-16'!I27,'TIME TABLE 2015-16'!J27,'TIME TABLE 2015-16'!K27,'TIME TABLE 2015-16'!L27,'TIME TABLE 2015-16'!M27,'TIME TABLE 2015-16'!N27,'TIME TABLE 2015-16'!O27,'TIME TABLE 2015-16'!H27)","v":"---"},{"$f":"TT('TIME TABLE 2015-16'!$A$48,'TIME TABLE 2015-16'!F33,'TIME TABLE 2015-16'!G33,'TIME TABLE 2015-16'!I33,'TIME TABLE 2015-16'!J33,'TIME TABLE 2015-16'!K33,'TIME TABLE 2015-16'!L33,'TIME TABLE 2015-16'!M33,'TIME TABLE 2015-16'!N33,'TIME TABLE 2015-16'!O33,'TIME TABLE 2015-16'!H33)","v":"---"}]
["06:30:00",{"$f":"TT('TIME TABLE 2015-16'!$A$48,'TIME TABLE 2015-16'!F4,'TIME TABLE 2015-16'!G4,'TIME TABLE 2015-16'!I4,'TIME TABLE 2015-16'!J4,'TIME TABLE 2015-16'!K4,'TIME TABLE 2015-16'!L4,'TIME TABLE 2015-16'!M4,'TIME TABLE 2015-16'!N4,'TIME TABLE 2015-16'!O4,'TIME TABLE 2015-16'!H4)","v":"TYBCOM A"},{"$f":"TT('TIME TABLE 2015-16'!$A$48,'TIME TABLE 2015-16'!F10,'TIME TABLE 2015-16'!G10,'TIME TABLE 2015-16'!I10,'TIME TABLE 2015-16'!J10,'TIME TABLE 2015-16'!K10,'TIME TABLE 2015-16'!L10,'TIME TABLE 2015-16'!M10,'TIME TABLE 2015-16'!N10,'TIME TABLE 2015-16'!O10,'TIME TABLE 2015-16'!H10)","v":"TYBCOM A"},{"$f":"TT('TIME TABLE 2015-16'!$A$48,'TIME TABLE 2015-16'!F16,'TIME TABLE 2015-16'!G16,'TIME TABLE 2015-16'!I16,'TIME TABLE 2015-16'!J16,'TIME TABLE 2015-16'!K16,'TIME TABLE 2015-16'!L16,'TIME TABLE 2015-16'!M16,'TIME TABLE 2015-16'!N16,'TIME TABLE 2015-16'!O16,'TIME TABLE 2015-16'!H16)","v":"TYBCOM A"},{"$f":"TT('TIME TABLE 2015-16'!$A$48,'TIME TABLE 2015-16'!F22,'TIME TABLE 2015-16'!G22,'TIME TABLE 2015-16'!I22,'TIME TABLE 2015-16'!J22,'TIME TABLE 2015-16'!K22,'TIME TABLE 2015-16'!L22,'TIME TABLE 2015-16'!M22,'TIME TABLE 2015-16'!N22,'TIME TABLE 2015-16'!O22,'TIME TABLE 2015-16'!H22)","v":"TYBCOM A"},{"$f":"TT('TIME TABLE 2015-16'!$A$48,'TIME TABLE 2015-16'!F28,'TIME TABLE 2015-16'!G28,'TIME TABLE 2015-16'!I28,'TIME TABLE 2015-16'!J28,'TIME TABLE 2015-16'!K28,'TIME TABLE 2015-16'!L28,'TIME TABLE 2015-16'!M28,'TIME TABLE 2015-16'!N28,'TIME TABLE 2015-16'!O28,'TIME TABLE 2015-16'!H28)","v":"---"},{"$f":"TT('TIME TABLE 2015-16'!$A$48,'TIME TABLE 2015-16'!F34,'TIME TABLE 2015-16'!G34,'TIME TABLE 2015-16'!I34,'TIME TABLE 2015-16'!J34,'TIME TABLE 2015-16'!K34,'TIME TABLE 2015-16'!L34,'TIME TABLE 2015-16'!M34,'TIME TABLE 2015-16'!N34,'TIME TABLE 2015-16'!O34,'TIME TABLE 2015-16'!H34)","v":"SYBCOM A"}]
["07:20:00",{"$f":"TT('TIME TABLE 2015-16'!$A$48,'TIME TABLE 2015-16'!F5,'TIME TABLE 2015-16'!G5,'TIME TABLE 2015-16'!I5,'TIME TABLE 2015-16'!J5,'TIME TABLE 2015-16'!K5,'TIME TABLE 2015-16'!L5,'TIME TABLE 2015-16'!M5,'TIME TABLE 2015-16'!N5,'TIME TABLE 2015-16'!O5,'TIME TABLE 2015-16'!H5)","v":"SYBCOM A"},{"$f":"TT('TIME TABLE 2015-16'!$A$48,'TIME TABLE 2015-16'!F11,'TIME TABLE 2015-16'!G11,'TIME TABLE 2015-16'!I11,'TIME TABLE 2015-16'!J11,'TIME TABLE 2015-16'!K11,'TIME TABLE 2015-16'!L11,'TIME TABLE 2015-16'!M11,'TIME TABLE 2015-16'!N11,'TIME TABLE 2015-16'!O11,'TIME TABLE 2015-16'!H11)","v":"SYBCOM A"},{"$f":"TT('TIME TABLE 2015-16'!$A$48,'TIME TABLE 2015-16'!F17,'TIME TABLE 2015-16'!G17,'TIME TABLE 2015-16'!I17,'TIME TABLE 2015-16'!J17,'TIME TABLE 2015-16'!K17,'TIME TABLE 2015-16'!L17,'TIME TABLE 2015-16'!M17,'TIME TABLE 2015-16'!N17,'TIME TABLE 2015-16'!O17,'TIME TABLE 2015-16'!H17)","v":"SYBCOM B"},{"$f":"TT('TIME TABLE 2015-16'!$A$48,'TIME TABLE 2015-16'!F23,'TIME TABLE 2015-16'!G23,'TIME TABLE 2015-16'!I23,'TIME TABLE 2015-16'!J23,'TIME TABLE 2015-16'!K23,'TIME TABLE 2015-16'!L23,'TIME TABLE 2015-16'!M23,'TIME TABLE 2015-16'!N23,'TIME TABLE 2015-16'!O23,'TIME TABLE 2015-16'!H23)","v":"SYBCOM B"},{"$f":"TT('TIME TABLE 2015-16'!$A$48,'TIME TABLE 2015-16'!F29,'TIME TABLE 2015-16'!G29,'TIME TABLE 2015-16'!I29,'TIME TABLE 2015-16'!J29,'TIME TABLE 2015-16'!K29,'TIME TABLE 2015-16'!L29,'TIME TABLE 2015-16'!M29,'TIME TABLE 2015-16'!N29,'TIME TABLE 2015-16'!O29,'TIME TABLE 2015-16'!H29)","v":"TYBCOM B"},{"$f":"TT('TIME TABLE 2015-16'!$A$48,'TIME TABLE 2015-16'!F35,'TIME TABLE 2015-16'!G35,'TIME TABLE 2015-16'!I35,'TIME TABLE 2015-16'!J35,'TIME TABLE 2015-16'!K35,'TIME TABLE 2015-16'!L35,'TIME TABLE 2015-16'!M35,'TIME TABLE 2015-16'!N35,'TIME TABLE 2015-16'!O35,'TIME TABLE 2015-16'!H35)","v":"SYBCOM B"}]
["08:20:00",{"$f":"TT('TIME TABLE 2015-16'!$A$48,'TIME TABLE 2015-16'!F6,'TIME TABLE 2015-16'!G6,'TIME TABLE 2015-16'!I6,'TIME TABLE 2015-16'!J6,'TIME TABLE 2015-16'!K6,'TIME TABLE 2015-16'!L6,'TIME TABLE 2015-16'!M6,'TIME TABLE 2015-16'!N6,'TIME TABLE 2015-16'!O6,'TIME TABLE 2015-16'!H6)","v":"TYBCOM B"},{"$f":"TT('TIME TABLE 2015-16'!$A$48,'TIME TABLE 2015-16'!F12,'TIME TABLE 2015-16'!G12,'TIME TABLE 2015-16'!I12,'TIME TABLE 2015-16'!J12,'TIME TABLE 2015-16'!K12,'TIME TABLE 2015-16'!L12,'TIME TABLE 2015-16'!M12,'TIME TABLE 2015-16'!N12,'TIME TABLE 2015-16'!O12,'TIME TABLE 2015-16'!H12)","v":"---"},{"$f":"TT('TIME TABLE 2015-16'!$A$48,'TIME TABLE 2015-16'!F18,'TIME TABLE 2015-16'!G18,'TIME TABLE 2015-16'!I18,'TIME TABLE 2015-16'!J18,'TIME TABLE 2015-16'!K18,'TIME TABLE 2015-16'!L18,'TIME TABLE 2015-16'!M18,'TIME TABLE 2015-16'!N18,'TIME TABLE 2015-16'!O18,'TIME TABLE 2015-16'!H18)","v":"---"},{"$f":"TT('TIME TABLE 2015-16'!$A$48,'TIME TABLE 2015-16'!F24,'TIME TABLE 2015-16'!G24,'TIME TABLE 2015-16'!I24,'TIME TABLE 2015-16'!J24,'TIME TABLE 2015-16'!K24,'TIME TABLE 2015-16'!L24,'TIME TABLE 2015-16'!M24,'TIME TABLE 2015-16'!N24,'TIME TABLE 2015-16'!O24,'TIME TABLE 2015-16'!H24)","v":"SYBA"},{"$f":"TT('TIME TABLE 2015-16'!$A$48,'TIME TABLE 2015-16'!F30,'TIME TABLE 2015-16'!G30,'TIME TABLE 2015-16'!I30,'TIME TABLE 2015-16'!J30,'TIME TABLE 2015-16'!K30,'TIME TABLE 2015-16'!L30,'TIME TABLE 2015-16'!M30,'TIME TABLE 2015-16'!N30,'TIME TABLE 2015-16'!O30,'TIME TABLE 2015-16'!H30)","v":"SYBA"},{"$f":"TT('TIME TABLE 2015-16'!$A$48,'TIME TABLE 2015-16'!F36,'TIME TABLE 2015-16'!G36,'TIME TABLE 2015-16'!I36,'TIME TABLE 2015-16'!J36,'TIME TABLE 2015-16'!K36,'TIME TABLE 2015-16'!L36,'TIME TABLE 2015-16'!M36,'TIME TABLE 2015-16'!N36,'TIME TABLE 2015-16'!O36,'TIME TABLE 2015-16'!H36)","v":"SYBA"}]
["09:10:00",{"$f":"TT('TIME TABLE 2015-16'!$A$48,'TIME TABLE 2015-16'!F7,'TIME TABLE 2015-16'!G7,'TIME TABLE 2015-16'!I7,'TIME TABLE 2015-16'!J7,'TIME TABLE 2015-16'!K7,'TIME TABLE 2015-16'!L7,'TIME TABLE 2015-16'!M7,'TIME TABLE 2015-16'!N7,'TIME TABLE 2015-16'!O7,'TIME TABLE 2015-16'!H7)","v":"---"},{"$f":"TT('TIME TABLE 2015-16'!$A$48,'TIME TABLE 2015-16'!F13,'TIME TABLE 2015-16'!G13,'TIME TABLE 2015-16'!I13,'TIME TABLE 2015-16'!J13,'TIME TABLE 2015-16'!K13,'TIME TABLE 2015-16'!L13,'TIME TABLE 2015-16'!M13,'TIME TABLE 2015-16'!N13,'TIME TABLE 2015-16'!O13,'TIME TABLE 2015-16'!H13)","v":"TYBCOM B"},{"$f":"TT('TIME TABLE 2015-16'!$A$48,'TIME TABLE 2015-16'!F19,'TIME TABLE 2015-16'!G19,'TIME TABLE 2015-16'!I19,'TIME TABLE 2015-16'!J19,'TIME TABLE 2015-16'!K19,'TIME TABLE 2015-16'!L19,'TIME TABLE 2015-16'!M19,'TIME TABLE 2015-16'!N19,'TIME TABLE 2015-16'!O19,'TIME TABLE 2015-16'!H19)","v":"TYBCOM B"},{"$f":"TT('TIME TABLE 2015-16'!$A$48,'TIME TABLE 2015-16'!F25,'TIME TABLE 2015-16'!G25,'TIME TABLE 2015-16'!I25,'TIME TABLE 2015-16'!J25,'TIME TABLE 2015-16'!K25,'TIME TABLE 2015-16'!L25,'TIME TABLE 2015-16'!M25,'TIME TABLE 2015-16'!N25,'TIME TABLE 2015-16'!O25,'TIME TABLE 2015-16'!H25)","v":"---"},{"$f":"TT('TIME TABLE 2015-16'!$A$48,'TIME TABLE 2015-16'!F31,'TIME TABLE 2015-16'!G31,'TIME TABLE 2015-16'!I31,'TIME TABLE 2015-16'!J31,'TIME TABLE 2015-16'!K31,'TIME TABLE 2015-16'!L31,'TIME TABLE 2015-16'!M31,'TIME TABLE 2015-16'!N31,'TIME TABLE 2015-16'!O31,'TIME TABLE 2015-16'!H31)","v":"---"},{"$f":"TT('TIME TABLE 2015-16'!$A$48,'TIME TABLE 2015-16'!F37,'TIME TABLE 2015-16'!G37,'TIME TABLE 2015-16'!I37,'TIME TABLE 2015-16'!J37,'TIME TABLE 2015-16'!K37,'TIME TABLE 2015-16'!L37,'TIME TABLE 2015-16'!M37,'TIME TABLE 2015-16'!N37,'TIME TABLE 2015-16'!O37,'TIME TABLE 2015-16'!H37)","v":"---"},{"$f":"36-(COUNTIF(B57:G62,\"---\"))","v":18}]
[]
[null,"Jambhule"]
[null,"M","T","W","T","F","S"]
["04:50:00",{"$f":"TT('TIME TABLE 2015-16'!$A$46,'TIME TABLE 2015-16'!F2,'TIME TABLE 2015-16'!G2,'TIME TABLE 2015-16'!I2,'TIME TABLE 2015-16'!J2,'TIME TABLE 2015-16'!K2,'TIME TABLE 2015-16'!L2,'TIME TABLE 2015-16'!M2,'TIME TABLE 2015-16'!N2,'TIME TABLE 2015-16'!O2,'TIME TABLE 2015-16'!H2)","v":"---"},{"$f":"TT('TIME TABLE 2015-16'!$A$46,'TIME TABLE 2015-16'!F8,'TIME TABLE 2015-16'!G8,'TIME TABLE 2015-16'!I8,'TIME TABLE 2015-16'!J8,'TIME TABLE 2015-16'!K8,'TIME TABLE 2015-16'!L8,'TIME TABLE 2015-16'!M8,'TIME TABLE 2015-16'!N8,'TIME TABLE 2015-16'!O8,'TIME TABLE 2015-16'!H8)","v":"---"},{"$f":"TT('TIME TABLE 2015-16'!$A$46,'TIME TABLE 2015-16'!F14,'TIME TABLE 2015-16'!G14,'TIME TABLE 2015-16'!I14,'TIME TABLE 2015-16'!J14,'TIME TABLE 2015-16'!K14,'TIME TABLE 2015-16'!L14,'TIME TABLE 2015-16'!M14,'TIME TABLE 2015-16'!N14,'TIME TABLE 2015-16'!O14,'TIME TABLE 2015-16'!H14)","v":"---"},{"$f":"TT('TIME TABLE 2015-16'!$A$46,'TIME TABLE 2015-16'!F20,'TIME TABLE 2015-16'!G20,'TIME TABLE 2015-16'!I20,'TIME TABLE 2015-16'!J20,'TIME TABLE 2015-16'!K20,'TIME TABLE 2015-16'!L20,'TIME TABLE 2015-16'!M20,'TIME TABLE 2015-16'!N20,'TIME TABLE 2015-16'!O20,'TIME TABLE 2015-16'!H20)","v":"---"},{"$f":"TT('TIME TABLE 2015-16'!$A$46,'TIME TABLE 2015-16'!F26,'TIME TABLE 2015-16'!G26,'TIME TABLE 2015-16'!I26,'TIME TABLE 2015-16'!J26,'TIME TABLE 2015-16'!K26,'TIME TABLE 2015-16'!L26,'TIME TABLE 2015-16'!M26,'TIME TABLE 2015-16'!N26,'TIME TABLE 2015-16'!O26,'TIME TABLE 2015-16'!H26)","v":"---"},{"$f":"TT('TIME TABLE 2015-16'!$A$46,'TIME TABLE 2015-16'!F32,'TIME TABLE 2015-16'!G32,'TIME TABLE 2015-16'!I32,'TIME TABLE 2015-16'!J32,'TIME TABLE 2015-16'!K32,'TIME TABLE 2015-16'!L32,'TIME TABLE 2015-16'!M32,'TIME TABLE 2015-16'!N32,'TIME TABLE 2015-16'!O32,'TIME TABLE 2015-16'!H32)","v":"---"}]
["05:40:00",{"$f":"TT('TIME TABLE 2015-16'!$A$46,'TIME TABLE 2015-16'!F3,'TIME TABLE 2015-16'!G3,'TIME TABLE 2015-16'!I3,'TIME TABLE 2015-16'!J3,'TIME TABLE 2015-16'!K3,'TIME TABLE 2015-16'!L3,'TIME TABLE 2015-16'!M3,'TIME TABLE 2015-16'!N3,'TIME TABLE 2015-16'!O3,'TIME TABLE 2015-16'!H3)","v":"---"},{"$f":"TT('TIME TABLE 2015-16'!$A$46,'TIME TABLE 2015-16'!F9,'TIME TABLE 2015-16'!G9,'TIME TABLE 2015-16'!I9,'TIME TABLE 2015-16'!J9,'TIME TABLE 2015-16'!K9,'TIME TABLE 2015-16'!L9,'TIME TABLE 2015-16'!M9,'TIME TABLE 2015-16'!N9,'TIME TABLE 2015-16'!O9,'TIME TABLE 2015-16'!H9)","v":"---"},{"$f":"TT('TIME TABLE 2015-16'!$A$46,'TIME TABLE 2015-16'!F15,'TIME TABLE 2015-16'!G15,'TIME TABLE 2015-16'!I15,'TIME TABLE 2015-16'!J15,'TIME TABLE 2015-16'!K15,'TIME TABLE 2015-16'!L15,'TIME TABLE 2015-16'!M15,'TIME TABLE 2015-16'!N15,'TIME TABLE 2015-16'!O15,'TIME TABLE 2015-16'!H15)","v":"---"},{"$f":"TT('TIME TABLE 2015-16'!$A$46,'TIME TABLE 2015-16'!F21,'TIME TABLE 2015-16'!G21,'TIME TABLE 2015-16'!I21,'TIME TABLE 2015-16'!J21,'TIME TABLE 2015-16'!K21,'TIME TABLE 2015-16'!L21,'TIME TABLE 2015-16'!M21,'TIME TABLE 2015-16'!N21,'TIME TABLE 2015-16'!O21,'TIME TABLE 2015-16'!H21)","v":"---"},{"$f":"TT('TIME TABLE 2015-16'!$A$46,'TIME TABLE 2015-16'!F27,'TIME TABLE 2015-16'!G27,'TIME TABLE 2015-16'!I27,'TIME TABLE 2015-16'!J27,'TIME TABLE 2015-16'!K27,'TIME TABLE 2015-16'!L27,'TIME TABLE 2015-16'!M27,'TIME TABLE 2015-16'!N27,'TIME TABLE 2015-16'!O27,'TIME TABLE 2015-16'!H27)","v":"---"},{"$f":"TT('TIME TABLE 2015-16'!$A$46,'TIME TABLE 2015-16'!F33,'TIME TABLE 2015-16'!G33,'TIME TABLE 2015-16'!I33,'TIME TABLE 2015-16'!J33,'TIME TABLE 2015-16'!K33,'TIME TABLE 2015-16'!L33,'TIME TABLE 2015-16'!M33,'TIME TABLE 2015-16'!N33,'TIME TABLE 2015-16'!O33,'TIME TABLE 2015-16'!H33)","v":"---"}]
["06:30:00",{"$f":"TT('TIME TABLE 2015-16'!$A$46,'TIME TABLE 2015-16'!F4,'TIME TABLE 2015-16'!G4,'TIME TABLE 2015-16'!I4,'TIME TABLE 2015-16'!J4,'TIME TABLE 2015-16'!K4,'TIME TABLE 2015-16'!L4,'TIME TABLE 2015-16'!M4,'TIME TABLE 2015-16'!N4,'TIME TABLE 2015-16'!O4,'TIME TABLE 2015-16'!H4)","v":"SYBCOM B"},{"$f":"TT('TIME TABLE 2015-16'!$A$46,'TIME TABLE 2015-16'!F10,'TIME TABLE 2015-16'!G10,'TIME TABLE 2015-16'!I10,'TIME TABLE 2015-16'!J10,'TIME TABLE 2015-16'!K10,'TIME TABLE 2015-16'!L10,'TIME TABLE 2015-16'!M10,'TIME TABLE 2015-16'!N10,'TIME TABLE 2015-16'!O10,'TIME TABLE 2015-16'!H10)","v":"FYBA"},{"$f":"TT('TIME TABLE 2015-16'!$A$46,'TIME TABLE 2015-16'!F16,'TIME TABLE 2015-16'!G16,'TIME TABLE 2015-16'!I16,'TIME TABLE 2015-16'!J16,'TIME TABLE 2015-16'!K16,'TIME TABLE 2015-16'!L16,'TIME TABLE 2015-16'!M16,'TIME TABLE 2015-16'!N16,'TIME TABLE 2015-16'!O16,'TIME TABLE 2015-16'!H16)","v":"SYBCOM B"},{"$f":"TT('TIME TABLE 2015-16'!$A$46,'TIME TABLE 2015-16'!F22,'TIME TABLE 2015-16'!G22,'TIME TABLE 2015-16'!I22,'TIME TABLE 2015-16'!J22,'TIME TABLE 2015-16'!K22,'TIME TABLE 2015-16'!L22,'TIME TABLE 2015-16'!M22,'TIME TABLE 2015-16'!N22,'TIME TABLE 2015-16'!O22,'TIME TABLE 2015-16'!H22)","v":"SYBA"},{"$f":"TT('TIME TABLE 2015-16'!$A$46,'TIME TABLE 2015-16'!F28,'TIME TABLE 2015-16'!G28,'TIME TABLE 2015-16'!I28,'TIME TABLE 2015-16'!J28,'TIME TABLE 2015-16'!K28,'TIME TABLE 2015-16'!L28,'TIME TABLE 2015-16'!M28,'TIME TABLE 2015-16'!N28,'TIME TABLE 2015-16'!O28,'TIME TABLE 2015-16'!H28)","v":"FYBA"},{"$f":"TT('TIME TABLE 2015-16'!$A$46,'TIME TABLE 2015-16'!F34,'TIME TABLE 2015-16'!G34,'TIME TABLE 2015-16'!I34,'TIME TABLE 2015-16'!J34,'TIME TABLE 2015-16'!K34,'TIME TABLE 2015-16'!L34,'TIME TABLE 2015-16'!M34,'TIME TABLE 2015-16'!N34,'TIME TABLE 2015-16'!O34,'TIME TABLE 2015-16'!H34)","v":"SYBA"}]
["07:20:00",{"$f":"TT('TIME TABLE 2015-16'!$A$46,'TIME TABLE 2015-16'!F5,'TIME TABLE 2015-16'!G5,'TIME TABLE 2015-16'!I5,'TIME TABLE 2015-16'!J5,'TIME TABLE 2015-16'!K5,'TIME TABLE 2015-16'!L5,'TIME TABLE 2015-16'!M5,'TIME TABLE 2015-16'!N5,'TIME TABLE 2015-16'!O5,'TIME TABLE 2015-16'!H5)","v":"SYBA"},{"$f":"TT('TIME TABLE 2015-16'!$A$46,'TIME TABLE 2015-16'!F11,'TIME TABLE 2015-16'!G11,'TIME TABLE 2015-16'!I11,'TIME TABLE 2015-16'!J11,'TIME TABLE 2015-16'!K11,'TIME TABLE 2015-16'!L11,'TIME TABLE 2015-16'!M11,'TIME TABLE 2015-16'!N11,'TIME TABLE 2015-16'!O11,'TIME TABLE 2015-16'!H11)","v":"---"},{"$f":"TT('TIME TABLE 2015-16'!$A$46,'TIME TABLE 2015-16'!F17,'TIME TABLE 2015-16'!G17,'TIME TABLE 2015-16'!I17,'TIME TABLE 2015-16'!J17,'TIME TABLE 2015-16'!K17,'TIME TABLE 2015-16'!L17,'TIME TABLE 2015-16'!M17,'TIME TABLE 2015-16'!N17,'TIME TABLE 2015-16'!O17,'TIME TABLE 2015-16'!H17)","v":"SYBCOM A"},{"$f":"TT('TIME TABLE 2015-16'!$A$46,'TIME TABLE 2015-16'!F23,'TIME TABLE 2015-16'!G23,'TIME TABLE 2015-16'!I23,'TIME TABLE 2015-16'!J23,'TIME TABLE 2015-16'!K23,'TIME TABLE 2015-16'!L23,'TIME TABLE 2015-16'!M23,'TIME TABLE 2015-16'!N23,'TIME TABLE 2015-16'!O23,'TIME TABLE 2015-16'!H23)","v":"SYBA"},{"$f":"TT('TIME TABLE 2015-16'!$A$46,'TIME TABLE 2015-16'!F29,'TIME TABLE 2015-16'!G29,'TIME TABLE 2015-16'!I29,'TIME TABLE 2015-16'!J29,'TIME TABLE 2015-16'!K29,'TIME TABLE 2015-16'!L29,'TIME TABLE 2015-16'!M29,'TIME TABLE 2015-16'!N29,'TIME TABLE 2015-16'!O29,'TIME TABLE 2015-16'!H29)","v":"FYBCOM C"},{"$f":"TT('TIME TABLE 2015-16'!$A$46,'TIME TABLE 2015-16'!F35,'TIME TABLE 2015-16'!G35,'TIME TABLE 2015-16'!I35,'TIME TABLE 2015-16'!J35,'TIME TABLE 2015-16'!K35,'TIME TABLE 2015-16'!L35,'TIME TABLE 2015-16'!M35,'TIME TABLE 2015-16'!N35,'TIME TABLE 2015-16'!O35,'TIME TABLE 2015-16'!H35)","v":"SYBA"}]
["08:20:00",{"$f":"TT('TIME TABLE 2015-16'!$A$46,'TIME TABLE 2015-16'!F6,'TIME TABLE 2015-16'!G6,'TIME TABLE 2015-16'!I6,'TIME TABLE 2015-16'!J6,'TIME TABLE 2015-16'!K6,'TIME TABLE 2015-16'!L6,'TIME TABLE 2015-16'!M6,'TIME TABLE 2015-16'!N6,'TIME TABLE 2015-16'!O6,'TIME TABLE 2015-16'!H6)","v":"FYBA"},{"$f":"TT('TIME TABLE 2015-16'!$A$46,'TIME TABLE 2015-16'!F12,'TIME TABLE 2015-16'!G12,'TIME TABLE 2015-16'!I12,'TIME TABLE 2015-16'!J12,'TIME TABLE 2015-16'!K12,'TIME TABLE 2015-16'!L12,'TIME TABLE 2015-16'!M12,'TIME TABLE 2015-16'!N12,'TIME TABLE 2015-16'!O12,'TIME TABLE 2015-16'!H12)","v":"SYBA"},{"$f":"TT('TIME TABLE 2015-16'!$A$46,'TIME TABLE 2015-16'!F18,'TIME TABLE 2015-16'!G18,'TIME TABLE 2015-16'!I18,'TIME TABLE 2015-16'!J18,'TIME TABLE 2015-16'!K18,'TIME TABLE 2015-16'!L18,'TIME TABLE 2015-16'!M18,'TIME TABLE 2015-16'!N18,'TIME TABLE 2015-16'!O18,'TIME TABLE 2015-16'!H18)","v":"FYBA"},{"$f":"TT('TIME TABLE 2015-16'!$A$46,'TIME TABLE 2015-16'!F24,'TIME TABLE 2015-16'!G24,'TIME TABLE 2015-16'!I24,'TIME TABLE 2015-16'!J24,'TIME TABLE 2015-16'!K24,'TIME TABLE 2015-16'!L24,'TIME TABLE 2015-16'!M24,'TIME TABLE 2015-16'!N24,'TIME TABLE 2015-16'!O24,'TIME TABLE 2015-16'!H24)","v":"SYBCOM B"},{"$f":"TT('TIME TABLE 2015-16'!$A$46,'TIME TABLE 2015-16'!F30,'TIME TABLE 2015-16'!G30,'TIME TABLE 2015-16'!I30,'TIME TABLE 2015-16'!J30,'TIME TABLE 2015-16'!K30,'TIME TABLE 2015-16'!L30,'TIME TABLE 2015-16'!M30,'TIME TABLE 2015-16'!N30,'TIME TABLE 2015-16'!O30,'TIME TABLE 2015-16'!H30)","v":"---"},{"$f":"TT('TIME TABLE 2015-16'!$A$46,'TIME TABLE 2015-16'!F36,'TIME TABLE 2015-16'!G36,'TIME TABLE 2015-16'!I36,'TIME TABLE 2015-16'!J36,'TIME TABLE 2015-16'!K36,'TIME TABLE 2015-16'!L36,'TIME TABLE 2015-16'!M36,'TIME TABLE 2015-16'!N36,'TIME TABLE 2015-16'!O36,'TIME TABLE 2015-16'!H36)","v":"SYBCOM A"}]
["09:10:00",{"$f":"TT('TIME TABLE 2015-16'!$A$46,'TIME TABLE 2015-16'!F7,'TIME TABLE 2015-16'!G7,'TIME TABLE 2015-16'!I7,'TIME TABLE 2015-16'!J7,'TIME TABLE 2015-16'!K7,'TIME TABLE 2015-16'!L7,'TIME TABLE 2015-16'!M7,'TIME TABLE 2015-16'!N7,'TIME TABLE 2015-16'!O7,'TIME TABLE 2015-16'!H7)","v":"FYBCOM C"},{"$f":"TT('TIME TABLE 2015-16'!$A$46,'TIME TABLE 2015-16'!F13,'TIME TABLE 2015-16'!G13,'TIME TABLE 2015-16'!I13,'TIME TABLE 2015-16'!J13,'TIME TABLE 2015-16'!K13,'TIME TABLE 2015-16'!L13,'TIME TABLE 2015-16'!M13,'TIME TABLE 2015-16'!N13,'TIME TABLE 2015-16'!O13,'TIME TABLE 2015-16'!H13)","v":"SYBA"},{"$f":"TT('TIME TABLE 2015-16'!$A$46,'TIME TABLE 2015-16'!F19,'TIME TABLE 2015-16'!G19,'TIME TABLE 2015-16'!I19,'TIME TABLE 2015-16'!J19,'TIME TABLE 2015-16'!K19,'TIME TABLE 2015-16'!L19,'TIME TABLE 2015-16'!M19,'TIME TABLE 2015-16'!N19,'TIME TABLE 2015-16'!O19,'TIME TABLE 2015-16'!H19)","v":"SYBA"},{"$f":"TT('TIME TABLE 2015-16'!$A$46,'TIME TABLE 2015-16'!F25,'TIME TABLE 2015-16'!G25,'TIME TABLE 2015-16'!I25,'TIME TABLE 2015-16'!J25,'TIME TABLE 2015-16'!K25,'TIME TABLE 2015-16'!L25,'TIME TABLE 2015-16'!M25,'TIME TABLE 2015-16'!N25,'TIME TABLE 2015-16'!O25,'TIME TABLE 2015-16'!H25)","v":"SYBCOM A"},{"$f":"TT('TIME TABLE 2015-16'!$A$46,'TIME TABLE 2015-16'!F31,'TIME TABLE 2015-16'!G31,'TIME TABLE 2015-16'!I31,'TIME TABLE 2015-16'!J31,'TIME TABLE 2015-16'!K31,'TIME TABLE 2015-16'!L31,'TIME TABLE 2015-16'!M31,'TIME TABLE 2015-16'!N31,'TIME TABLE 2015-16'!O31,'TIME TABLE 2015-16'!H31)","v":"SYBA"},{"$f":"TT('TIME TABLE 2015-16'!$A$46,'TIME TABLE 2015-16'!F37,'TIME TABLE 2015-16'!G37,'TIME TABLE 2015-16'!I37,'TIME TABLE 2015-16'!J37,'TIME TABLE 2015-16'!K37,'TIME TABLE 2015-16'!L37,'TIME TABLE 2015-16'!M37,'TIME TABLE 2015-16'!N37,'TIME TABLE 2015-16'!O37,'TIME TABLE 2015-16'!H37)","v":"FYBCOM C"},{"$f":"36-(COUNTIF(B66:G71,\"---\"))","v":22}]
[]
[null,"Kanase"]
[null,"M","T","W","T","F","S",null,null,null,{"$f":"TT('TIME TABLE 2015-16'!$A$45,'TIME TABLE 2015-16'!F38,'TIME TABLE 2015-16'!G38,'TIME TABLE 2015-16'!I38,'TIME TABLE 2015-16'!J38,'TIME TABLE 2015-16'!K38,'TIME TABLE 2015-16'!L38,'TIME TABLE 2015-16'!M38,'TIME TABLE 2015-16'!N38,'TIME TABLE 2015-16'!O38,'TIME TABLE 2015-16'!H38)","v":"---"}]
["04:50:00",{"$f":"TT('TIME TABLE 2015-16'!$A$50,'TIME TABLE 2015-16'!F2,'TIME TABLE 2015-16'!G2,'TIME TABLE 2015-16'!I2,'TIME TABLE 2015-16'!J2,'TIME TABLE 2015-16'!K2,'TIME TABLE 2015-16'!L2,'TIME TABLE 2015-16'!M2,'TIME TABLE 2015-16'!N2,'TIME TABLE 2015-16'!O2,'TIME TABLE 2015-16'!H2)","v":"FYBCOM B"},{"$f":"TT('TIME TABLE 2015-16'!$A$50,'TIME TABLE 2015-16'!F8,'TIME TABLE 2015-16'!G8,'TIME TABLE 2015-16'!I8,'TIME TABLE 2015-16'!J8,'TIME TABLE 2015-16'!K8,'TIME TABLE 2015-16'!L8,'TIME TABLE 2015-16'!M8,'TIME TABLE 2015-16'!N8,'TIME TABLE 2015-16'!O8,'TIME TABLE 2015-16'!H8)","v":"FYBCOM A"},{"$f":"TT('TIME TABLE 2015-16'!$A$50,'TIME TABLE 2015-16'!F14,'TIME TABLE 2015-16'!G14,'TIME TABLE 2015-16'!I14,'TIME TABLE 2015-16'!J14,'TIME TABLE 2015-16'!K14,'TIME TABLE 2015-16'!L14,'TIME TABLE 2015-16'!M14,'TIME TABLE 2015-16'!N14,'TIME TABLE 2015-16'!O14,'TIME TABLE 2015-16'!H14)","v":"FYBCOM A"},{"$f":"TT('TIME TABLE 2015-16'!$A$50,'TIME TABLE 2015-16'!F20,'TIME TABLE 2015-16'!G20,'TIME TABLE 2015-16'!I20,'TIME TABLE 2015-16'!J20,'TIME TABLE 2015-16'!K20,'TIME TABLE 2015-16'!L20,'TIME TABLE 2015-16'!M20,'TIME TABLE 2015-16'!N20,'TIME TABLE 2015-16'!O20,'TIME TABLE 2015-16'!H20)","v":"FYBCOM B"},{"$f":"TT('TIME TABLE 2015-16'!$A$50,'TIME TABLE 2015-16'!F26,'TIME TABLE 2015-16'!G26,'TIME TABLE 2015-16'!I26,'TIME TABLE 2015-16'!J26,'TIME TABLE 2015-16'!K26,'TIME TABLE 2015-16'!L26,'TIME TABLE 2015-16'!M26,'TIME TABLE 2015-16'!N26,'TIME TABLE 2015-16'!O26,'TIME TABLE 2015-16'!H26)","v":"FYBCOM B"},{"$f":"TT('TIME TABLE 2015-16'!$A$50,'TIME TABLE 2015-16'!F32,'TIME TABLE 2015-16'!G32,'TIME TABLE 2015-16'!I32,'TIME TABLE 2015-16'!J32,'TIME TABLE 2015-16'!K32,'TIME TABLE 2015-16'!L32,'TIME TABLE 2015-16'!M32,'TIME TABLE 2015-16'!N32,'TIME TABLE 2015-16'!O32,'TIME TABLE 2015-16'!H32)","v":"---"},null,null,null,{"$f":"TT('TIME TABLE 2015-16'!$A$45,'TIME TABLE 2015-16'!F39,'TIME TABLE 2015-16'!G39,'TIME TABLE 2015-16'!I39,'TIME TABLE 2015-16'!J39,'TIME TABLE 2015-16'!K39,'TIME TABLE 2015-16'!L39,'TIME TABLE 2015-16'!M39,'TIME TABLE 2015-16'!N39,'TIME TABLE 2015-16'!O39,'TIME TABLE 2015-16'!H39)","v":"---"}]
["05:40:00",{"$f":"TT('TIME TABLE 2015-16'!$A$50,'TIME TABLE 2015-16'!F3,'TIME TABLE 2015-16'!G3,'TIME TABLE 2015-16'!I3,'TIME TABLE 2015-16'!J3,'TIME TABLE 2015-16'!K3,'TIME TABLE 2015-16'!L3,'TIME TABLE 2015-16'!M3,'TIME TABLE 2015-16'!N3,'TIME TABLE 2015-16'!O3,'TIME TABLE 2015-16'!H3)","v":"FYBCOM A"},{"$f":"TT('TIME TABLE 2015-16'!$A$50,'TIME TABLE 2015-16'!F9,'TIME TABLE 2015-16'!G9,'TIME TABLE 2015-16'!I9,'TIME TABLE 2015-16'!J9,'TIME TABLE 2015-16'!K9,'TIME TABLE 2015-16'!L9,'TIME TABLE 2015-16'!M9,'TIME TABLE 2015-16'!N9,'TIME TABLE 2015-16'!O9,'TIME TABLE 2015-16'!H9)","v":"FYBCOM B"},{"$f":"TT('TIME TABLE 2015-16'!$A$50,'TIME TABLE 2015-16'!F15,'TIME TABLE 2015-16'!G15,'TIME TABLE 2015-16'!I15,'TIME TABLE 2015-16'!J15,'TIME TABLE 2015-16'!K15,'TIME TABLE 2015-16'!L15,'TIME TABLE 2015-16'!M15,'TIME TABLE 2015-16'!N15,'TIME TABLE 2015-16'!O15,'TIME TABLE 2015-16'!H15)","v":"FYBCOM B"},{"$f":"TT('TIME TABLE 2015-16'!$A$50,'TIME TABLE 2015-16'!F21,'TIME TABLE 2015-16'!G21,'TIME TABLE 2015-16'!I21,'TIME TABLE 2015-16'!J21,'TIME TABLE 2015-16'!K21,'TIME TABLE 2015-16'!L21,'TIME TABLE 2015-16'!M21,'TIME TABLE 2015-16'!N21,'TIME TABLE 2015-16'!O21,'TIME TABLE 2015-16'!H21)","v":"FYBCOM C"},{"$f":"TT('TIME TABLE 2015-16'!$A$50,'TIME TABLE 2015-16'!F27,'TIME TABLE 2015-16'!G27,'TIME TABLE 2015-16'!I27,'TIME TABLE 2015-16'!J27,'TIME TABLE 2015-16'!K27,'TIME TABLE 2015-16'!L27,'TIME TABLE 2015-16'!M27,'TIME TABLE 2015-16'!N27,'TIME TABLE 2015-16'!O27,'TIME TABLE 2015-16'!H27)","v":"FYBCOM A"},{"$f":"TT('TIME TABLE 2015-16'!$A$50,'TIME TABLE 2015-16'!F33,'TIME TABLE 2015-16'!G33,'TIME TABLE 2015-16'!I33,'TIME TABLE 2015-16'!J33,'TIME TABLE 2015-16'!K33,'TIME TABLE 2015-16'!L33,'TIME TABLE 2015-16'!M33,'TIME TABLE 2015-16'!N33,'TIME TABLE 2015-16'!O33,'TIME TABLE 2015-16'!H33)","v":"FYBCOM A"},null,null,null,{"$f":"TT('TIME TABLE 2015-16'!$A$45,'TIME TABLE 2015-16'!F40,'TIME TABLE 2015-16'!G40,'TIME TABLE 2015-16'!I40,'TIME TABLE 2015-16'!J40,'TIME TABLE 2015-16'!K40,'TIME TABLE 2015-16'!L40,'TIME TABLE 2015-16'!M40,'TIME TABLE 2015-16'!N40,'TIME TABLE 2015-16'!O40,'TIME TABLE 2015-16'!H40)","v":"---"}]
["06:30:00",{"$f":"TT('TIME TABLE 2015-16'!$A$50,'TIME TABLE 2015-16'!F4,'TIME TABLE 2015-16'!G4,'TIME TABLE 2015-16'!I4,'TIME TABLE 2015-16'!J4,'TIME TABLE 2015-16'!K4,'TIME TABLE 2015-16'!L4,'TIME TABLE 2015-16'!M4,'TIME TABLE 2015-16'!N4,'TIME TABLE 2015-16'!O4,'TIME TABLE 2015-16'!H4)","v":"FYBCOM C"},{"$f":"TT('TIME TABLE 2015-16'!$A$50,'TIME TABLE 2015-16'!F10,'TIME TABLE 2015-16'!G10,'TIME TABLE 2015-16'!I10,'TIME TABLE 2015-16'!J10,'TIME TABLE 2015-16'!K10,'TIME TABLE 2015-16'!L10,'TIME TABLE 2015-16'!M10,'TIME TABLE 2015-16'!N10,'TIME TABLE 2015-16'!O10,'TIME TABLE 2015-16'!H10)","v":"---"},{"$f":"TT('TIME TABLE 2015-16'!$A$50,'TIME TABLE 2015-16'!F16,'TIME TABLE 2015-16'!G16,'TIME TABLE 2015-16'!I16,'TIME TABLE 2015-16'!J16,'TIME TABLE 2015-16'!K16,'TIME TABLE 2015-16'!L16,'TIME TABLE 2015-16'!M16,'TIME TABLE 2015-16'!N16,'TIME TABLE 2015-16'!O16,'TIME TABLE 2015-16'!H16)","v":"---"},{"$f":"TT('TIME TABLE 2015-16'!$A$50,'TIME TABLE 2015-16'!F22,'TIME TABLE 2015-16'!G22,'TIME TABLE 2015-16'!I22,'TIME TABLE 2015-16'!J22,'TIME TABLE 2015-16'!K22,'TIME TABLE 2015-16'!L22,'TIME TABLE 2015-16'!M22,'TIME TABLE 2015-16'!N22,'TIME TABLE 2015-16'!O22,'TIME TABLE 2015-16'!H22)","v":"FYBCOM B"},{"$f":"TT('TIME TABLE 2015-16'!$A$50,'TIME TABLE 2015-16'!F28,'TIME TABLE 2015-16'!G28,'TIME TABLE 2015-16'!I28,'TIME TABLE 2015-16'!J28,'TIME TABLE 2015-16'!K28,'TIME TABLE 2015-16'!L28,'TIME TABLE 2015-16'!M28,'TIME TABLE 2015-16'!N28,'TIME TABLE 2015-16'!O28,'TIME TABLE 2015-16'!H28)","v":"FYBCOM C"},{"$f":"TT('TIME TABLE 2015-16'!$A$50,'TIME TABLE 2015-16'!F34,'TIME TABLE 2015-16'!G34,'TIME TABLE 2015-16'!I34,'TIME TABLE 2015-16'!J34,'TIME TABLE 2015-16'!K34,'TIME TABLE 2015-16'!L34,'TIME TABLE 2015-16'!M34,'TIME TABLE 2015-16'!N34,'TIME TABLE 2015-16'!O34,'TIME TABLE 2015-16'!H34)","v":"FYBCOM B"},null,null,null,{"$f":"TT('TIME TABLE 2015-16'!$A$45,'TIME TABLE 2015-16'!F41,'TIME TABLE 2015-16'!G41,'TIME TABLE 2015-16'!I41,'TIME TABLE 2015-16'!J41,'TIME TABLE 2015-16'!K41,'TIME TABLE 2015-16'!L41,'TIME TABLE 2015-16'!M41,'TIME TABLE 2015-16'!N41,'TIME TABLE 2015-16'!O41,'TIME TABLE 2015-16'!H41)","v":"---"}]
["07:20:00",{"$f":"TT('TIME TABLE 2015-16'!$A$50,'TIME TABLE 2015-16'!F5,'TIME TABLE 2015-16'!G5,'TIME TABLE 2015-16'!I5,'TIME TABLE 2015-16'!J5,'TIME TABLE 2015-16'!K5,'TIME TABLE 2015-16'!L5,'TIME TABLE 2015-16'!M5,'TIME TABLE 2015-16'!N5,'TIME TABLE 2015-16'!O5,'TIME TABLE 2015-16'!H5)","v":"FYBCOM C"},{"$f":"TT('TIME TABLE 2015-16'!$A$50,'TIME TABLE 2015-16'!F11,'TIME TABLE 2015-16'!G11,'TIME TABLE 2015-16'!I11,'TIME TABLE 2015-16'!J11,'TIME TABLE 2015-16'!K11,'TIME TABLE 2015-16'!L11,'TIME TABLE 2015-16'!M11,'TIME TABLE 2015-16'!N11,'TIME TABLE 2015-16'!O11,'TIME TABLE 2015-16'!H11)","v":"---"},{"$f":"TT('TIME TABLE 2015-16'!$A$50,'TIME TABLE 2015-16'!F17,'TIME TABLE 2015-16'!G17,'TIME TABLE 2015-16'!I17,'TIME TABLE 2015-16'!J17,'TIME TABLE 2015-16'!K17,'TIME TABLE 2015-16'!L17,'TIME TABLE 2015-16'!M17,'TIME TABLE 2015-16'!N17,'TIME TABLE 2015-16'!O17,'TIME TABLE 2015-16'!H17)","v":"FYBCOM B"},{"$f":"TT('TIME TABLE 2015-16'!$A$50,'TIME TABLE 2015-16'!F23,'TIME TABLE 2015-16'!G23,'TIME TABLE 2015-16'!I23,'TIME TABLE 2015-16'!J23,'TIME TABLE 2015-16'!K23,'TIME TABLE 2015-16'!L23,'TIME TABLE 2015-16'!M23,'TIME TABLE 2015-16'!N23,'TIME TABLE 2015-16'!O23,'TIME TABLE 2015-16'!H23)","v":"FYBCOM C"},{"$f":"TT('TIME TABLE 2015-16'!$A$50,'TIME TABLE 2015-16'!F29,'TIME TABLE 2015-16'!G29,'TIME TABLE 2015-16'!I29,'TIME TABLE 2015-16'!J29,'TIME TABLE 2015-16'!K29,'TIME TABLE 2015-16'!L29,'TIME TABLE 2015-16'!M29,'TIME TABLE 2015-16'!N29,'TIME TABLE 2015-16'!O29,'TIME TABLE 2015-16'!H29)","v":"---"},{"$f":"TT('TIME TABLE 2015-16'!$A$50,'TIME TABLE 2015-16'!F35,'TIME TABLE 2015-16'!G35,'TIME TABLE 2015-16'!I35,'TIME TABLE 2015-16'!J35,'TIME TABLE 2015-16'!K35,'TIME TABLE 2015-16'!L35,'TIME TABLE 2015-16'!M35,'TIME TABLE 2015-16'!N35,'TIME TABLE 2015-16'!O35,'TIME TABLE 2015-16'!H35)","v":"FYBCOM B"},null,null,null,{"$f":"TT('TIME TABLE 2015-16'!$A$45,'TIME TABLE 2015-16'!F42,'TIME TABLE 2015-16'!G42,'TIME TABLE 2015-16'!I42,'TIME TABLE 2015-16'!J42,'TIME TABLE 2015-16'!K42,'TIME TABLE 2015-16'!L42,'TIME TABLE 2015-16'!M42,'TIME TABLE 2015-16'!N42,'TIME TABLE 2015-16'!O42,'TIME TABLE 2015-16'!H42)","v":"---"}]
["08:20:00",{"$f":"TT('TIME TABLE 2015-16'!$A$50,'TIME TABLE 2015-16'!F6,'TIME TABLE 2015-16'!G6,'TIME TABLE 2015-16'!I6,'TIME TABLE 2015-16'!J6,'TIME TABLE 2015-16'!K6,'TIME TABLE 2015-16'!L6,'TIME TABLE 2015-16'!M6,'TIME TABLE 2015-16'!N6,'TIME TABLE 2015-16'!O6,'TIME TABLE 2015-16'!H6)","v":"---"},{"$f":"TT('TIME TABLE 2015-16'!$A$50,'TIME TABLE 2015-16'!F12,'TIME TABLE 2015-16'!G12,'TIME TABLE 2015-16'!I12,'TIME TABLE 2015-16'!J12,'TIME TABLE 2015-16'!K12,'TIME TABLE 2015-16'!L12,'TIME TABLE 2015-16'!M12,'TIME TABLE 2015-16'!N12,'TIME TABLE 2015-16'!O12,'TIME TABLE 2015-16'!H12)","v":"FYBCOM A"},{"$f":"TT('TIME TABLE 2015-16'!$A$50,'TIME TABLE 2015-16'!F18,'TIME TABLE 2015-16'!G18,'TIME TABLE 2015-16'!I18,'TIME TABLE 2015-16'!J18,'TIME TABLE 2015-16'!K18,'TIME TABLE 2015-16'!L18,'TIME TABLE 2015-16'!M18,'TIME TABLE 2015-16'!N18,'TIME TABLE 2015-16'!O18,'TIME TABLE 2015-16'!H18)","v":"---"},{"$f":"TT('TIME TABLE 2015-16'!$A$50,'TIME TABLE 2015-16'!F24,'TIME TABLE 2015-16'!G24,'TIME TABLE 2015-16'!I24,'TIME TABLE 2015-16'!J24,'TIME TABLE 2015-16'!K24,'TIME TABLE 2015-16'!L24,'TIME TABLE 2015-16'!M24,'TIME TABLE 2015-16'!N24,'TIME TABLE 2015-16'!O24,'TIME TABLE 2015-16'!H24)","v":"FYBCOM A"},{"$f":"TT('TIME TABLE 2015-16'!$A$50,'TIME TABLE 2015-16'!F30,'TIME TABLE 2015-16'!G30,'TIME TABLE 2015-16'!I30,'TIME TABLE 2015-16'!J30,'TIME TABLE 2015-16'!K30,'TIME TABLE 2015-16'!L30,'TIME TABLE 2015-16'!M30,'TIME TABLE 2015-16'!N30,'TIME TABLE 2015-16'!O30,'TIME TABLE 2015-16'!H30)","v":"---"},{"$f":"TT('TIME TABLE 2015-16'!$A$50,'TIME TABLE 2015-16'!F36,'TIME TABLE 2015-16'!G36,'TIME TABLE 2015-16'!I36,'TIME TABLE 2015-16'!J36,'TIME TABLE 2015-16'!K36,'TIME TABLE 2015-16'!L36,'TIME TABLE 2015-16'!M36,'TIME TABLE 2015-16'!N36,'TIME TABLE 2015-16'!O36,'TIME TABLE 2015-16'!H36)","v":"FYBCOM A"},null,null,null,{"$f":"TT('TIME TABLE 2015-16'!$A$45,'TIME TABLE 2015-16'!F43,'TIME TABLE 2015-16'!G43,'TIME TABLE 2015-16'!I43,'TIME TABLE 2015-16'!J43,'TIME TABLE 2015-16'!K43,'TIME TABLE 2015-16'!L43,'TIME TABLE 2015-16'!M43,'TIME TABLE 2015-16'!N43,'TIME TABLE 2015-16'!O43,'TIME TABLE 2015-16'!H43)","v":"---"}]
["09:10:00",{"$f":"TT('TIME TABLE 2015-16'!$A$50,'TIME TABLE 2015-16'!F7,'TIME TABLE 2015-16'!G7,'TIME TABLE 2015-16'!I7,'TIME TABLE 2015-16'!J7,'TIME TABLE 2015-16'!K7,'TIME TABLE 2015-16'!L7,'TIME TABLE 2015-16'!M7,'TIME TABLE 2015-16'!N7,'TIME TABLE 2015-16'!O7,'TIME TABLE 2015-16'!H7)","v":"FYBCOM B"},{"$f":"TT('TIME TABLE 2015-16'!$A$50,'TIME TABLE 2015-16'!F13,'TIME TABLE 2015-16'!G13,'TIME TABLE 2015-16'!I13,'TIME TABLE 2015-16'!J13,'TIME TABLE 2015-16'!K13,'TIME TABLE 2015-16'!L13,'TIME TABLE 2015-16'!M13,'TIME TABLE 2015-16'!N13,'TIME TABLE 2015-16'!O13,'TIME TABLE 2015-16'!H13)","v":"FYBCOM A"},{"$f":"TT('TIME TABLE 2015-16'!$A$50,'TIME TABLE 2015-16'!F19,'TIME TABLE 2015-16'!G19,'TIME TABLE 2015-16'!I19,'TIME TABLE 2015-16'!J19,'TIME TABLE 2015-16'!K19,'TIME TABLE 2015-16'!L19,'TIME TABLE 2015-16'!M19,'TIME TABLE 2015-16'!N19,'TIME TABLE 2015-16'!O19,'TIME TABLE 2015-16'!H19)","v":"---"},{"$f":"TT('TIME TABLE 2015-16'!$A$50,'TIME TABLE 2015-16'!F25,'TIME TABLE 2015-16'!G25,'TIME TABLE 2015-16'!I25,'TIME TABLE 2015-16'!J25,'TIME TABLE 2015-16'!K25,'TIME TABLE 2015-16'!L25,'TIME TABLE 2015-16'!M25,'TIME TABLE 2015-16'!N25,'TIME TABLE 2015-16'!O25,'TIME TABLE 2015-16'!H25)","v":"FYBCOM A"},{"$f":"TT('TIME TABLE 2015-16'!$A$50,'TIME TABLE 2015-16'!F31,'TIME TABLE 2015-16'!G31,'TIME TABLE 2015-16'!I31,'TIME TABLE 2015-16'!J31,'TIME TABLE 2015-16'!K31,'TIME TABLE 2015-16'!L31,'TIME TABLE 2015-16'!M31,'TIME TABLE 2015-16'!N31,'TIME TABLE 2015-16'!O31,'TIME TABLE 2015-16'!H31)","v":"---"},{"$f":"TT('TIME TABLE 2015-16'!$A$50,'TIME TABLE 2015-16'!F37,'TIME TABLE 2015-16'!G37,'TIME TABLE 2015-16'!I37,'TIME TABLE 2015-16'!J37,'TIME TABLE 2015-16'!K37,'TIME TABLE 2015-16'!L37,'TIME TABLE 2015-16'!M37,'TIME TABLE 2015-16'!N37,'TIME TABLE 2015-16'!O37,'TIME TABLE 2015-16'!H37)","v":"---"},{"$f":"36-(COUNTIF(B75:G80,\"---\"))","v":25},null,null,{"$f":"TT('TIME TABLE 2015-16'!$A$45,'TIME TABLE 2015-16'!F44,'TIME TABLE 2015-16'!G44,'TIME TABLE 2015-16'!I44,'TIME TABLE 2015-16'!J44,'TIME TABLE 2015-16'!K44,'TIME TABLE 2015-16'!L44,'TIME TABLE 2015-16'!M44,'TIME TABLE 2015-16'!N44,'TIME TABLE 2015-16'!O44,'TIME TABLE 2015-16'!H44)","v":"---"}]
[null,null,null,null,null,null,null,null,null,null,{"$f":"TT('TIME TABLE 2015-16'!$A$45,'TIME TABLE 2015-16'!F45,'TIME TABLE 2015-16'!G45,'TIME TABLE 2015-16'!I45,'TIME TABLE 2015-16'!J45,'TIME TABLE 2015-16'!K45,'TIME TABLE 2015-16'!L45,'TIME TABLE 2015-16'!M45,'TIME TABLE 2015-16'!N45,'TIME TABLE 2015-16'!O45,'TIME TABLE 2015-16'!H45)","v":"---"}]
[null,"Nandela",null,null,null,null,null,null,null,null,{"$f":"TT('TIME TABLE 2015-16'!$A$45,'TIME TABLE 2015-16'!F46,'TIME TABLE 2015-16'!G46,'TIME TABLE 2015-16'!I46,'TIME TABLE 2015-16'!J46,'TIME TABLE 2015-16'!K46,'TIME TABLE 2015-16'!L46,'TIME TABLE 2015-16'!M46,'TIME TABLE 2015-16'!N46,'TIME TABLE 2015-16'!O46,'TIME TABLE 2015-16'!H46)","v":"---"}]
[null,"M","T","W","T","F","S",null,null,null,{"$f":"TT('TIME TABLE 2015-16'!$A$45,'TIME TABLE 2015-16'!F47,'TIME TABLE 2015-16'!G47,'TIME TABLE 2015-16'!I47,'TIME TABLE 2015-16'!J47,'TIME TABLE 2015-16'!K47,'TIME TABLE 2015-16'!L47,'TIME TABLE 2015-16'!M47,'TIME TABLE 2015-16'!N47,'TIME TABLE 2015-16'!O47,'TIME TABLE 2015-16'!H47)","v":"---"}]
["04:50:00",{"$f":"TT('TIME TABLE 2015-16'!$A$47,'TIME TABLE 2015-16'!F2,'TIME TABLE 2015-16'!G2,'TIME TABLE 2015-16'!I2,'TIME TABLE 2015-16'!J2,'TIME TABLE 2015-16'!K2,'TIME TABLE 2015-16'!L2,'TIME TABLE 2015-16'!M2,'TIME TABLE 2015-16'!N2,'TIME TABLE 2015-16'!O2,'TIME TABLE 2015-16'!H2)","v":"TYBA"},{"$f":"TT('TIME TABLE 2015-16'!$A$47,'TIME TABLE 2015-16'!F8,'TIME TABLE 2015-16'!G8,'TIME TABLE 2015-16'!I8,'TIME TABLE 2015-16'!J8,'TIME TABLE 2015-16'!K8,'TIME TABLE 2015-16'!L8,'TIME TABLE 2015-16'!M8,'TIME TABLE 2015-16'!N8,'TIME TABLE 2015-16'!O8,'TIME TABLE 2015-16'!H8)","v":"TYBA"},{"$f":"TT('TIME TABLE 2015-16'!$A$47,'TIME TABLE 2015-16'!F14,'TIME TABLE 2015-16'!G14,'TIME TABLE 2015-16'!I14,'TIME TABLE 2015-16'!J14,'TIME TABLE 2015-16'!K14,'TIME TABLE 2015-16'!L14,'TIME TABLE 2015-16'!M14,'TIME TABLE 2015-16'!N14,'TIME TABLE 2015-16'!O14,'TIME TABLE 2015-16'!H14)","v":"TYBA"},{"$f":"TT('TIME TABLE 2015-16'!$A$47,'TIME TABLE 2015-16'!F20,'TIME TABLE 2015-16'!G20,'TIME TABLE 2015-16'!I20,'TIME TABLE 2015-16'!J20,'TIME TABLE 2015-16'!K20,'TIME TABLE 2015-16'!L20,'TIME TABLE 2015-16'!M20,'TIME TABLE 2015-16'!N20,'TIME TABLE 2015-16'!O20,'TIME TABLE 2015-16'!H20)","v":"---"},{"$f":"TT('TIME TABLE 2015-16'!$A$47,'TIME TABLE 2015-16'!F26,'TIME TABLE 2015-16'!G26,'TIME TABLE 2015-16'!I26,'TIME TABLE 2015-16'!J26,'TIME TABLE 2015-16'!K26,'TIME TABLE 2015-16'!L26,'TIME TABLE 2015-16'!M26,'TIME TABLE 2015-16'!N26,'TIME TABLE 2015-16'!O26,'TIME TABLE 2015-16'!H26)","v":"---"},{"$f":"TT('TIME TABLE 2015-16'!$A$47,'TIME TABLE 2015-16'!F32,'TIME TABLE 2015-16'!G32,'TIME TABLE 2015-16'!I32,'TIME TABLE 2015-16'!J32,'TIME TABLE 2015-16'!K32,'TIME TABLE 2015-16'!L32,'TIME TABLE 2015-16'!M32,'TIME TABLE 2015-16'!N32,'TIME TABLE 2015-16'!O32,'TIME TABLE 2015-16'!H32)","v":"---"},null,null,null,{"$f":"TT('TIME TABLE 2015-16'!$A$45,'TIME TABLE 2015-16'!F48,'TIME TABLE 2015-16'!G48,'TIME TABLE 2015-16'!I48,'TIME TABLE 2015-16'!J48,'TIME TABLE 2015-16'!K48,'TIME TABLE 2015-16'!L48,'TIME TABLE 2015-16'!M48,'TIME TABLE 2015-16'!N48,'TIME TABLE 2015-16'!O48,'TIME TABLE 2015-16'!H48)","v":"---"}]
["05:40:00",{"$f":"TT('TIME TABLE 2015-16'!$A$47,'TIME TABLE 2015-16'!F3,'TIME TABLE 2015-16'!G3,'TIME TABLE 2015-16'!I3,'TIME TABLE 2015-16'!J3,'TIME TABLE 2015-16'!K3,'TIME TABLE 2015-16'!L3,'TIME TABLE 2015-16'!M3,'TIME TABLE 2015-16'!N3,'TIME TABLE 2015-16'!O3,'TIME TABLE 2015-16'!H3)","v":"---"},{"$f":"TT('TIME TABLE 2015-16'!$A$47,'TIME TABLE 2015-16'!F9,'TIME TABLE 2015-16'!G9,'TIME TABLE 2015-16'!I9,'TIME TABLE 2015-16'!J9,'TIME TABLE 2015-16'!K9,'TIME TABLE 2015-16'!L9,'TIME TABLE 2015-16'!M9,'TIME TABLE 2015-16'!N9,'TIME TABLE 2015-16'!O9,'TIME TABLE 2015-16'!H9)","v":"---"},{"$f":"TT('TIME TABLE 2015-16'!$A$47,'TIME TABLE 2015-16'!F15,'TIME TABLE 2015-16'!G15,'TIME TABLE 2015-16'!I15,'TIME TABLE 2015-16'!J15,'TIME TABLE 2015-16'!K15,'TIME TABLE 2015-16'!L15,'TIME TABLE 2015-16'!M15,'TIME TABLE 2015-16'!N15,'TIME TABLE 2015-16'!O15,'TIME TABLE 2015-16'!H15)","v":"---"},{"$f":"TT('TIME TABLE 2015-16'!$A$47,'TIME TABLE 2015-16'!F21,'TIME TABLE 2015-16'!G21,'TIME TABLE 2015-16'!I21,'TIME TABLE 2015-16'!J21,'TIME TABLE 2015-16'!K21,'TIME TABLE 2015-16'!L21,'TIME TABLE 2015-16'!M21,'TIME TABLE 2015-16'!N21,'TIME TABLE 2015-16'!O21,'TIME TABLE 2015-16'!H21)","v":"---"},{"$f":"TT('TIME TABLE 2015-16'!$A$47,'TIME TABLE 2015-16'!F27,'TIME TABLE 2015-16'!G27,'TIME TABLE 2015-16'!I27,'TIME TABLE 2015-16'!J27,'TIME TABLE 2015-16'!K27,'TIME TABLE 2015-16'!L27,'TIME TABLE 2015-16'!M27,'TIME TABLE 2015-16'!N27,'TIME TABLE 2015-16'!O27,'TIME TABLE 2015-16'!H27)","v":"---"},{"$f":"TT('TIME TABLE 2015-16'!$A$47,'TIME TABLE 2015-16'!F33,'TIME TABLE 2015-16'!G33,'TIME TABLE 2015-16'!I33,'TIME TABLE 2015-16'!J33,'TIME TABLE 2015-16'!K33,'TIME TABLE 2015-16'!L33,'TIME TABLE 2015-16'!M33,'TIME TABLE 2015-16'!N33,'TIME TABLE 2015-16'!O33,'TIME TABLE 2015-16'!H33)","v":"---"},null,null,null,{"$f":"TT('TIME TABLE 2015-16'!$A$45,'TIME TABLE 2015-16'!F49,'TIME TABLE 2015-16'!G49,'TIME TABLE 2015-16'!I49,'TIME TABLE 2015-16'!J49,'TIME TABLE 2015-16'!K49,'TIME TABLE 2015-16'!L49,'TIME TABLE 2015-16'!M49,'TIME TABLE 2015-16'!N49,'TIME TABLE 2015-16'!O49,'TIME TABLE 2015-16'!H49)","v":"---"}]
["06:30:00",{"$f":"TT('TIME TABLE 2015-16'!$A$47,'TIME TABLE 2015-16'!F4,'TIME TABLE 2015-16'!G4,'TIME TABLE 2015-16'!I4,'TIME TABLE 2015-16'!J4,'TIME TABLE 2015-16'!K4,'TIME TABLE 2015-16'!L4,'TIME TABLE 2015-16'!M4,'TIME TABLE 2015-16'!N4,'TIME TABLE 2015-16'!O4,'TIME TABLE 2015-16'!H4)","v":"TYBA"},{"$f":"TT('TIME TABLE 2015-16'!$A$47,'TIME TABLE 2015-16'!F10,'TIME TABLE 2015-16'!G10,'TIME TABLE 2015-16'!I10,'TIME TABLE 2015-16'!J10,'TIME TABLE 2015-16'!K10,'TIME TABLE 2015-16'!L10,'TIME TABLE 2015-16'!M10,'TIME TABLE 2015-16'!N10,'TIME TABLE 2015-16'!O10,'TIME TABLE 2015-16'!H10)","v":"TYBA"},{"$f":"TT('TIME TABLE 2015-16'!$A$47,'TIME TABLE 2015-16'!F16,'TIME TABLE 2015-16'!G16,'TIME TABLE 2015-16'!I16,'TIME TABLE 2015-16'!J16,'TIME TABLE 2015-16'!K16,'TIME TABLE 2015-16'!L16,'TIME TABLE 2015-16'!M16,'TIME TABLE 2015-16'!N16,'TIME TABLE 2015-16'!O16,'TIME TABLE 2015-16'!H16)","v":"---"},{"$f":"TT('TIME TABLE 2015-16'!$A$47,'TIME TABLE 2015-16'!F22,'TIME TABLE 2015-16'!G22,'TIME TABLE 2015-16'!I22,'TIME TABLE 2015-16'!J22,'TIME TABLE 2015-16'!K22,'TIME TABLE 2015-16'!L22,'TIME TABLE 2015-16'!M22,'TIME TABLE 2015-16'!N22,'TIME TABLE 2015-16'!O22,'TIME TABLE 2015-16'!H22)","v":"---"},{"$f":"TT('TIME TABLE 2015-16'!$A$47,'TIME TABLE 2015-16'!F28,'TIME TABLE 2015-16'!G28,'TIME TABLE 2015-16'!I28,'TIME TABLE 2015-16'!J28,'TIME TABLE 2015-16'!K28,'TIME TABLE 2015-16'!L28,'TIME TABLE 2015-16'!M28,'TIME TABLE 2015-16'!N28,'TIME TABLE 2015-16'!O28,'TIME TABLE 2015-16'!H28)","v":"TYBCOM B"},{"$f":"TT('TIME TABLE 2015-16'!$A$47,'TIME TABLE 2015-16'!F34,'TIME TABLE 2015-16'!G34,'TIME TABLE 2015-16'!I34,'TIME TABLE 2015-16'!J34,'TIME TABLE 2015-16'!K34,'TIME TABLE 2015-16'!L34,'TIME TABLE 2015-16'!M34,'TIME TABLE 2015-16'!N34,'TIME TABLE 2015-16'!O34,'TIME TABLE 2015-16'!H34)","v":"FYBA"},null,null,null,{"$f":"TT('TIME TABLE 2015-16'!$A$45,'TIME TABLE 2015-16'!F50,'TIME TABLE 2015-16'!G50,'TIME TABLE 2015-16'!I50,'TIME TABLE 2015-16'!J50,'TIME TABLE 2015-16'!K50,'TIME TABLE 2015-16'!L50,'TIME TABLE 2015-16'!M50,'TIME TABLE 2015-16'!N50,'TIME TABLE 2015-16'!O50,'TIME TABLE 2015-16'!H50)","v":"---"}]
["07:20:00",{"$f":"TT('TIME TABLE 2015-16'!$A$47,'TIME TABLE 2015-16'!F5,'TIME TABLE 2015-16'!G5,'TIME TABLE 2015-16'!I5,'TIME TABLE 2015-16'!J5,'TIME TABLE 2015-16'!K5,'TIME TABLE 2015-16'!L5,'TIME TABLE 2015-16'!M5,'TIME TABLE 2015-16'!N5,'TIME TABLE 2015-16'!O5,'TIME TABLE 2015-16'!H5)","v":"TYBCOM A"},{"$f":"TT('TIME TABLE 2015-16'!$A$47,'TIME TABLE 2015-16'!F11,'TIME TABLE 2015-16'!G11,'TIME TABLE 2015-16'!I11,'TIME TABLE 2015-16'!J11,'TIME TABLE 2015-16'!K11,'TIME TABLE 2015-16'!L11,'TIME TABLE 2015-16'!M11,'TIME TABLE 2015-16'!N11,'TIME TABLE 2015-16'!O11,'TIME TABLE 2015-16'!H11)","v":"TYBA"},{"$f":"TT('TIME TABLE 2015-16'!$A$47,'TIME TABLE 2015-16'!F17,'TIME TABLE 2015-16'!G17,'TIME TABLE 2015-16'!I17,'TIME TABLE 2015-16'!J17,'TIME TABLE 2015-16'!K17,'TIME TABLE 2015-16'!L17,'TIME TABLE 2015-16'!M17,'TIME TABLE 2015-16'!N17,'TIME TABLE 2015-16'!O17,'TIME TABLE 2015-16'!H17)","v":"TYBCOM A"},{"$f":"TT('TIME TABLE 2015-16'!$A$47,'TIME TABLE 2015-16'!F23,'TIME TABLE 2015-16'!G23,'TIME TABLE 2015-16'!I23,'TIME TABLE 2015-16'!J23,'TIME TABLE 2015-16'!K23,'TIME TABLE 2015-16'!L23,'TIME TABLE 2015-16'!M23,'TIME TABLE 2015-16'!N23,'TIME TABLE 2015-16'!O23,'TIME TABLE 2015-16'!H23)","v":"TYBCOM A"},{"$f":"TT('TIME TABLE 2015-16'!$A$47,'TIME TABLE 2015-16'!F29,'TIME TABLE 2015-16'!G29,'TIME TABLE 2015-16'!I29,'TIME TABLE 2015-16'!J29,'TIME TABLE 2015-16'!K29,'TIME TABLE 2015-16'!L29,'TIME TABLE 2015-16'!M29,'TIME TABLE 2015-16'!N29,'TIME TABLE 2015-16'!O29,'TIME TABLE 2015-16'!H29)","v":"TYBA"},{"$f":"TT('TIME TABLE 2015-16'!$A$47,'TIME TABLE 2015-16'!F35,'TIME TABLE 2015-16'!G35,'TIME TABLE 2015-16'!I35,'TIME TABLE 2015-16'!J35,'TIME TABLE 2015-16'!K35,'TIME TABLE 2015-16'!L35,'TIME TABLE 2015-16'!M35,'TIME TABLE 2015-16'!N35,'TIME TABLE 2015-16'!O35,'TIME TABLE 2015-16'!H35)","v":"---"},null,null,null,{"$f":"TT('TIME TABLE 2015-16'!$A$45,'TIME TABLE 2015-16'!F51,'TIME TABLE 2015-16'!G51,'TIME TABLE 2015-16'!I51,'TIME TABLE 2015-16'!J51,'TIME TABLE 2015-16'!K51,'TIME TABLE 2015-16'!L51,'TIME TABLE 2015-16'!M51,'TIME TABLE 2015-16'!N51,'TIME TABLE 2015-16'!O51,'TIME TABLE 2015-16'!H51)","v":"---"}]
["08:20:00",{"$f":"TT('TIME TABLE 2015-16'!$A$47,'TIME TABLE 2015-16'!F6,'TIME TABLE 2015-16'!G6,'TIME TABLE 2015-16'!I6,'TIME TABLE 2015-16'!J6,'TIME TABLE 2015-16'!K6,'TIME TABLE 2015-16'!L6,'TIME TABLE 2015-16'!M6,'TIME TABLE 2015-16'!N6,'TIME TABLE 2015-16'!O6,'TIME TABLE 2015-16'!H6)","v":"---"},{"$f":"TT('TIME TABLE 2015-16'!$A$47,'TIME TABLE 2015-16'!F12,'TIME TABLE 2015-16'!G12,'TIME TABLE 2015-16'!I12,'TIME TABLE 2015-16'!J12,'TIME TABLE 2015-16'!K12,'TIME TABLE 2015-16'!L12,'TIME TABLE 2015-16'!M12,'TIME TABLE 2015-16'!N12,'TIME TABLE 2015-16'!O12,'TIME TABLE 2015-16'!H12)","v":"---"},{"$f":"TT('TIME TABLE 2015-16'!$A$47,'TIME TABLE 2015-16'!F18,'TIME TABLE 2015-16'!G18,'TIME TABLE 2015-16'!I18,'TIME TABLE 2015-16'!J18,'TIME TABLE 2015-16'!K18,'TIME TABLE 2015-16'!L18,'TIME TABLE 2015-16'!M18,'TIME TABLE 2015-16'!N18,'TIME TABLE 2015-16'!O18,'TIME TABLE 2015-16'!H18)","v":"TYBCOM B"},{"$f":"TT('TIME TABLE 2015-16'!$A$47,'TIME TABLE 2015-16'!F24,'TIME TABLE 2015-16'!G24,'TIME TABLE 2015-16'!I24,'TIME TABLE 2015-16'!J24,'TIME TABLE 2015-16'!K24,'TIME TABLE 2015-16'!L24,'TIME TABLE 2015-16'!M24,'TIME TABLE 2015-16'!N24,'TIME TABLE 2015-16'!O24,'TIME TABLE 2015-16'!H24)","v":"TYBCOM B"},{"$f":"TT('TIME TABLE 2015-16'!$A$47,'TIME TABLE 2015-16'!F30,'TIME TABLE 2015-16'!G30,'TIME TABLE 2015-16'!I30,'TIME TABLE 2015-16'!J30,'TIME TABLE 2015-16'!K30,'TIME TABLE 2015-16'!L30,'TIME TABLE 2015-16'!M30,'TIME TABLE 2015-16'!N30,'TIME TABLE 2015-16'!O30,'TIME TABLE 2015-16'!H30)","v":"---"},{"$f":"TT('TIME TABLE 2015-16'!$A$47,'TIME TABLE 2015-16'!F36,'TIME TABLE 2015-16'!G36,'TIME TABLE 2015-16'!I36,'TIME TABLE 2015-16'!J36,'TIME TABLE 2015-16'!K36,'TIME TABLE 2015-16'!L36,'TIME TABLE 2015-16'!M36,'TIME TABLE 2015-16'!N36,'TIME TABLE 2015-16'!O36,'TIME TABLE 2015-16'!H36)","v":"TYBA"},null,null,null,{"$f":"TT('TIME TABLE 2015-16'!$A$45,'TIME TABLE 2015-16'!F52,'TIME TABLE 2015-16'!G52,'TIME TABLE 2015-16'!I52,'TIME TABLE 2015-16'!J52,'TIME TABLE 2015-16'!K52,'TIME TABLE 2015-16'!L52,'TIME TABLE 2015-16'!M52,'TIME TABLE 2015-16'!N52,'TIME TABLE 2015-16'!O52,'TIME TABLE 2015-16'!H52)","v":"---"}]
["09:10:00",{"$f":"TT('TIME TABLE 2015-16'!$A$47,'TIME TABLE 2015-16'!F7,'TIME TABLE 2015-16'!G7,'TIME TABLE 2015-16'!I7,'TIME TABLE 2015-16'!J7,'TIME TABLE 2015-16'!K7,'TIME TABLE 2015-16'!L7,'TIME TABLE 2015-16'!M7,'TIME TABLE 2015-16'!N7,'TIME TABLE 2015-16'!O7,'TIME TABLE 2015-16'!H7)","v":"---"},{"$f":"TT('TIME TABLE 2015-16'!$A$47,'TIME TABLE 2015-16'!F13,'TIME TABLE 2015-16'!G13,'TIME TABLE 2015-16'!I13,'TIME TABLE 2015-16'!J13,'TIME TABLE 2015-16'!K13,'TIME TABLE 2015-16'!L13,'TIME TABLE 2015-16'!M13,'TIME TABLE 2015-16'!N13,'TIME TABLE 2015-16'!O13,'TIME TABLE 2015-16'!H13)","v":"---"},{"$f":"TT('TIME TABLE 2015-16'!$A$47,'TIME TABLE 2015-16'!F19,'TIME TABLE 2015-16'!G19,'TIME TABLE 2015-16'!I19,'TIME TABLE 2015-16'!J19,'TIME TABLE 2015-16'!K19,'TIME TABLE 2015-16'!L19,'TIME TABLE 2015-16'!M19,'TIME TABLE 2015-16'!N19,'TIME TABLE 2015-16'!O19,'TIME TABLE 2015-16'!H19)","v":"---"},{"$f":"TT('TIME TABLE 2015-16'!$A$47,'TIME TABLE 2015-16'!F25,'TIME TABLE 2015-16'!G25,'TIME TABLE 2015-16'!I25,'TIME TABLE 2015-16'!J25,'TIME TABLE 2015-16'!K25,'TIME TABLE 2015-16'!L25,'TIME TABLE 2015-16'!M25,'TIME TABLE 2015-16'!N25,'TIME TABLE 2015-16'!O25,'TIME TABLE 2015-16'!H25)","v":"TYBA"},{"$f":"TT('TIME TABLE 2015-16'!$A$47,'TIME TABLE 2015-16'!F31,'TIME TABLE 2015-16'!G31,'TIME TABLE 2015-16'!I31,'TIME TABLE 2015-16'!J31,'TIME TABLE 2015-16'!K31,'TIME TABLE 2015-16'!L31,'TIME TABLE 2015-16'!M31,'TIME TABLE 2015-16'!N31,'TIME TABLE 2015-16'!O31,'TIME TABLE 2015-16'!H31)","v":"TYBA"},{"$f":"TT('TIME TABLE 2015-16'!$A$47,'TIME TABLE 2015-16'!F37,'TIME TABLE 2015-16'!G37,'TIME TABLE 2015-16'!I37,'TIME TABLE 2015-16'!J37,'TIME TABLE 2015-16'!K37,'TIME TABLE 2015-16'!L37,'TIME TABLE 2015-16'!M37,'TIME TABLE 2015-16'!N37,'TIME TABLE 2015-16'!O37,'TIME TABLE 2015-16'!H37)","v":"TYBA"},{"$f":"36-(COUNTIF(B84:G89,\"---\"))","v":18},null,null,{"$f":"TT('TIME TABLE 2015-16'!$A$45,'TIME TABLE 2015-16'!F53,'TIME TABLE 2015-16'!G53,'TIME TABLE 2015-16'!I53,'TIME TABLE 2015-16'!J53,'TIME TABLE 2015-16'!K53,'TIME TABLE 2015-16'!L53,'TIME TABLE 2015-16'!M53,'TIME TABLE 2015-16'!N53,'TIME TABLE 2015-16'!O53,'TIME TABLE 2015-16'!H53)","v":"---"}]
[null,null,null,null,null,null,null,null,null,null,{"$f":"TT('TIME TABLE 2015-16'!$A$45,'TIME TABLE 2015-16'!#REF!,'TIME TABLE 2015-16'!#REF!,'TIME TABLE 2015-16'!#REF!,'TIME TABLE 2015-16'!#REF!,'TIME TABLE 2015-16'!#REF!,'TIME TABLE 2015-16'!#REF!,'TIME TABLE 2015-16'!#REF!,'TIME TABLE 2015-16'!#REF!,'TIME TABLE 2015-16'!#REF!,'TIME TABLE 2015-16'!#REF!)","v":{"$error":"#VALUE!"}}]
[null,"Torane",null,null,null,null,null,null,null,null,{"$f":"TT('TIME TABLE 2015-16'!$A$45,'TIME TABLE 2015-16'!F54,'TIME TABLE 2015-16'!G54,'TIME TABLE 2015-16'!I54,'TIME TABLE 2015-16'!J54,'TIME TABLE 2015-16'!K54,'TIME TABLE 2015-16'!L54,'TIME TABLE 2015-16'!M54,'TIME TABLE 2015-16'!N54,'TIME TABLE 2015-16'!O54,'TIME TABLE 2015-16'!H54)","v":"---"}]
[null,"M","T","W","T","F","S",null,null,null,{"$f":"TT('TIME TABLE 2015-16'!$A$45,'TIME TABLE 2015-16'!#REF!,'TIME TABLE 2015-16'!#REF!,'TIME TABLE 2015-16'!#REF!,'TIME TABLE 2015-16'!#REF!,'TIME TABLE 2015-16'!#REF!,'TIME TABLE 2015-16'!#REF!,'TIME TABLE 2015-16'!#REF!,'TIME TABLE 2015-16'!#REF!,'TIME TABLE 2015-16'!#REF!,'TIME TABLE 2015-16'!#REF!)","v":{"$error":"#VALUE!"}}]
["04:50:00",{"$f":"TT('TIME TABLE 2015-16'!$A$40,'TIME TABLE 2015-16'!F2,'TIME TABLE 2015-16'!G2,'TIME TABLE 2015-16'!I2,'TIME TABLE 2015-16'!J2,'TIME TABLE 2015-16'!K2,'TIME TABLE 2015-16'!L2,'TIME TABLE 2015-16'!M2,'TIME TABLE 2015-16'!N2,'TIME TABLE 2015-16'!O2,'TIME TABLE 2015-16'!H2)","v":"---"},{"$f":"TT('TIME TABLE 2015-16'!$A$40,'TIME TABLE 2015-16'!F8,'TIME TABLE 2015-16'!G8,'TIME TABLE 2015-16'!I8,'TIME TABLE 2015-16'!J8,'TIME TABLE 2015-16'!K8,'TIME TABLE 2015-16'!L8,'TIME TABLE 2015-16'!M8,'TIME TABLE 2015-16'!N8,'TIME TABLE 2015-16'!O8,'TIME TABLE 2015-16'!H8)","v":"---"},{"$f":"TT('TIME TABLE 2015-16'!$A$40,'TIME TABLE 2015-16'!F14,'TIME TABLE 2015-16'!G14,'TIME TABLE 2015-16'!I14,'TIME TABLE 2015-16'!J14,'TIME TABLE 2015-16'!K14,'TIME TABLE 2015-16'!L14,'TIME TABLE 2015-16'!M14,'TIME TABLE 2015-16'!N14,'TIME TABLE 2015-16'!O14,'TIME TABLE 2015-16'!H14)","v":"---"},{"$f":"TT('TIME TABLE 2015-16'!$A$40,'TIME TABLE 2015-16'!F20,'TIME TABLE 2015-16'!G20,'TIME TABLE 2015-16'!I20,'TIME TABLE 2015-16'!J20,'TIME TABLE 2015-16'!K20,'TIME TABLE 2015-16'!L20,'TIME TABLE 2015-16'!M20,'TIME TABLE 2015-16'!N20,'TIME TABLE 2015-16'!O20,'TIME TABLE 2015-16'!H20)","v":"---"},{"$f":"TT('TIME TABLE 2015-16'!$A$40,'TIME TABLE 2015-16'!F26,'TIME TABLE 2015-16'!G26,'TIME TABLE 2015-16'!I26,'TIME TABLE 2015-16'!J26,'TIME TABLE 2015-16'!K26,'TIME TABLE 2015-16'!L26,'TIME TABLE 2015-16'!M26,'TIME TABLE 2015-16'!N26,'TIME TABLE 2015-16'!O26,'TIME TABLE 2015-16'!H26)","v":"TYBA"},{"$f":"TT('TIME TABLE 2015-16'!$A$40,'TIME TABLE 2015-16'!F32,'TIME TABLE 2015-16'!G32,'TIME TABLE 2015-16'!I32,'TIME TABLE 2015-16'!J32,'TIME TABLE 2015-16'!K32,'TIME TABLE 2015-16'!L32,'TIME TABLE 2015-16'!M32,'TIME TABLE 2015-16'!N32,'TIME TABLE 2015-16'!O32,'TIME TABLE 2015-16'!H32)","v":"---"},null,null,null,{"$f":"TT('TIME TABLE 2015-16'!$A$45,'TIME TABLE 2015-16'!F57,'TIME TABLE 2015-16'!G57,'TIME TABLE 2015-16'!I57,'TIME TABLE 2015-16'!J57,'TIME TABLE 2015-16'!K57,'TIME TABLE 2015-16'!L57,'TIME TABLE 2015-16'!M57,'TIME TABLE 2015-16'!N57,'TIME TABLE 2015-16'!O57,'TIME TABLE 2015-16'!H57)","v":"---"}]
["05:40:00",{"$f":"TT('TIME TABLE 2015-16'!$A$40,'TIME TABLE 2015-16'!F3,'TIME TABLE 2015-16'!G3,'TIME TABLE 2015-16'!I3,'TIME TABLE 2015-16'!J3,'TIME TABLE 2015-16'!K3,'TIME TABLE 2015-16'!L3,'TIME TABLE 2015-16'!M3,'TIME TABLE 2015-16'!N3,'TIME TABLE 2015-16'!O3,'TIME TABLE 2015-16'!H3)","v":"---"},{"$f":"TT('TIME TABLE 2015-16'!$A$40,'TIME TABLE 2015-16'!F9,'TIME TABLE 2015-16'!G9,'TIME TABLE 2015-16'!I9,'TIME TABLE 2015-16'!J9,'TIME TABLE 2015-16'!K9,'TIME TABLE 2015-16'!L9,'TIME TABLE 2015-16'!M9,'TIME TABLE 2015-16'!N9,'TIME TABLE 2015-16'!O9,'TIME TABLE 2015-16'!H9)","v":"---"},{"$f":"TT('TIME TABLE 2015-16'!$A$40,'TIME TABLE 2015-16'!F15,'TIME TABLE 2015-16'!G15,'TIME TABLE 2015-16'!I15,'TIME TABLE 2015-16'!J15,'TIME TABLE 2015-16'!K15,'TIME TABLE 2015-16'!L15,'TIME TABLE 2015-16'!M15,'TIME TABLE 2015-16'!N15,'TIME TABLE 2015-16'!O15,'TIME TABLE 2015-16'!H15)","v":"---"},{"$f":"TT('TIME TABLE 2015-16'!$A$40,'TIME TABLE 2015-16'!F21,'TIME TABLE 2015-16'!G21,'TIME TABLE 2015-16'!I21,'TIME TABLE 2015-16'!J21,'TIME TABLE 2015-16'!K21,'TIME TABLE 2015-16'!L21,'TIME TABLE 2015-16'!M21,'TIME TABLE 2015-16'!N21,'TIME TABLE 2015-16'!O21,'TIME TABLE 2015-16'!H21)","v":"TYBA"},{"$f":"TT('TIME TABLE 2015-16'!$A$40,'TIME TABLE 2015-16'!F27,'TIME TABLE 2015-16'!G27,'TIME TABLE 2015-16'!I27,'TIME TABLE 2015-16'!J27,'TIME TABLE 2015-16'!K27,'TIME TABLE 2015-16'!L27,'TIME TABLE 2015-16'!M27,'TIME TABLE 2015-16'!N27,'TIME TABLE 2015-16'!O27,'TIME TABLE 2015-16'!H27)","v":"TYBA"},{"$f":"TT('TIME TABLE 2015-16'!$A$40,'TIME TABLE 2015-16'!F33,'TIME TABLE 2015-16'!G33,'TIME TABLE 2015-16'!I33,'TIME TABLE 2015-16'!J33,'TIME TABLE 2015-16'!K33,'TIME TABLE 2015-16'!L33,'TIME TABLE 2015-16'!M33,'TIME TABLE 2015-16'!N33,'TIME TABLE 2015-16'!O33,'TIME TABLE 2015-16'!H33)","v":"---"},null,null,null,{"$f":"TT('TIME TABLE 2015-16'!$A$45,'TIME TABLE 2015-16'!F58,'TIME TABLE 2015-16'!G58,'TIME TABLE 2015-16'!I58,'TIME TABLE 2015-16'!J58,'TIME TABLE 2015-16'!K58,'TIME TABLE 2015-16'!L58,'TIME TABLE 2015-16'!M58,'TIME TABLE 2015-16'!N58,'TIME TABLE 2015-16'!O58,'TIME TABLE 2015-16'!H58)","v":"---"}]
["06:30:00",{"$f":"TT('TIME TABLE 2015-16'!$A$40,'TIME TABLE 2015-16'!F4,'TIME TABLE 2015-16'!G4,'TIME TABLE 2015-16'!I4,'TIME TABLE 2015-16'!J4,'TIME TABLE 2015-16'!K4,'TIME TABLE 2015-16'!L4,'TIME TABLE 2015-16'!M4,'TIME TABLE 2015-16'!N4,'TIME TABLE 2015-16'!O4,'TIME TABLE 2015-16'!H4)","v":"SYBA"},{"$f":"TT('TIME TABLE 2015-16'!$A$40,'TIME TABLE 2015-16'!F10,'TIME TABLE 2015-16'!G10,'TIME TABLE 2015-16'!I10,'TIME TABLE 2015-16'!J10,'TIME TABLE 2015-16'!K10,'TIME TABLE 2015-16'!L10,'TIME TABLE 2015-16'!M10,'TIME TABLE 2015-16'!N10,'TIME TABLE 2015-16'!O10,'TIME TABLE 2015-16'!H10)","v":"---"},{"$f":"TT('TIME TABLE 2015-16'!$A$40,'TIME TABLE 2015-16'!F16,'TIME TABLE 2015-16'!G16,'TIME TABLE 2015-16'!I16,'TIME TABLE 2015-16'!J16,'TIME TABLE 2015-16'!K16,'TIME TABLE 2015-16'!L16,'TIME TABLE 2015-16'!M16,'TIME TABLE 2015-16'!N16,'TIME TABLE 2015-16'!O16,'TIME TABLE 2015-16'!H16)","v":"SYBA"},{"$f":"TT('TIME TABLE 2015-16'!$A$40,'TIME TABLE 2015-16'!F22,'TIME TABLE 2015-16'!G22,'TIME TABLE 2015-16'!I22,'TIME TABLE 2015-16'!J22,'TIME TABLE 2015-16'!K22,'TIME TABLE 2015-16'!L22,'TIME TABLE 2015-16'!M22,'TIME TABLE 2015-16'!N22,'TIME TABLE 2015-16'!O22,'TIME TABLE 2015-16'!H22)","v":"TYBA"},{"$f":"TT('TIME TABLE 2015-16'!$A$40,'TIME TABLE 2015-16'!F28,'TIME TABLE 2015-16'!G28,'TIME TABLE 2015-16'!I28,'TIME TABLE 2015-16'!J28,'TIME TABLE 2015-16'!K28,'TIME TABLE 2015-16'!L28,'TIME TABLE 2015-16'!M28,'TIME TABLE 2015-16'!N28,'TIME TABLE 2015-16'!O28,'TIME TABLE 2015-16'!H28)","v":"---"},{"$f":"TT('TIME TABLE 2015-16'!$A$40,'TIME TABLE 2015-16'!F34,'TIME TABLE 2015-16'!G34,'TIME TABLE 2015-16'!I34,'TIME TABLE 2015-16'!J34,'TIME TABLE 2015-16'!K34,'TIME TABLE 2015-16'!L34,'TIME TABLE 2015-16'!M34,'TIME TABLE 2015-16'!N34,'TIME TABLE 2015-16'!O34,'TIME TABLE 2015-16'!H34)","v":"---"},null,null,null,{"$f":"TT('TIME TABLE 2015-16'!$A$45,'TIME TABLE 2015-16'!F59,'TIME TABLE 2015-16'!G59,'TIME TABLE 2015-16'!I59,'TIME TABLE 2015-16'!J59,'TIME TABLE 2015-16'!K59,'TIME TABLE 2015-16'!L59,'TIME TABLE 2015-16'!M59,'TIME TABLE 2015-16'!N59,'TIME TABLE 2015-16'!O59,'TIME TABLE 2015-16'!H59)","v":"---"}]
["07:20:00",{"$f":"TT('TIME TABLE 2015-16'!$A$40,'TIME TABLE 2015-16'!F5,'TIME TABLE 2015-16'!G5,'TIME TABLE 2015-16'!I5,'TIME TABLE 2015-16'!J5,'TIME TABLE 2015-16'!K5,'TIME TABLE 2015-16'!L5,'TIME TABLE 2015-16'!M5,'TIME TABLE 2015-16'!N5,'TIME TABLE 2015-16'!O5,'TIME TABLE 2015-16'!H5)","v":"FYBA"},{"$f":"TT('TIME TABLE 2015-16'!$A$40,'TIME TABLE 2015-16'!F11,'TIME TABLE 2015-16'!G11,'TIME TABLE 2015-16'!I11,'TIME TABLE 2015-16'!J11,'TIME TABLE 2015-16'!K11,'TIME TABLE 2015-16'!L11,'TIME TABLE 2015-16'!M11,'TIME TABLE 2015-16'!N11,'TIME TABLE 2015-16'!O11,'TIME TABLE 2015-16'!H11)","v":"SYBA"},{"$f":"TT('TIME TABLE 2015-16'!$A$40,'TIME TABLE 2015-16'!F17,'TIME TABLE 2015-16'!G17,'TIME TABLE 2015-16'!I17,'TIME TABLE 2015-16'!J17,'TIME TABLE 2015-16'!K17,'TIME TABLE 2015-16'!L17,'TIME TABLE 2015-16'!M17,'TIME TABLE 2015-16'!N17,'TIME TABLE 2015-16'!O17,'TIME TABLE 2015-16'!H17)","v":"FYBA"},{"$f":"TT('TIME TABLE 2015-16'!$A$40,'TIME TABLE 2015-16'!F23,'TIME TABLE 2015-16'!G23,'TIME TABLE 2015-16'!I23,'TIME TABLE 2015-16'!J23,'TIME TABLE 2015-16'!K23,'TIME TABLE 2015-16'!L23,'TIME TABLE 2015-16'!M23,'TIME TABLE 2015-16'!N23,'TIME TABLE 2015-16'!O23,'TIME TABLE 2015-16'!H23)","v":"TYBA"},{"$f":"TT('TIME TABLE 2015-16'!$A$40,'TIME TABLE 2015-16'!F29,'TIME TABLE 2015-16'!G29,'TIME TABLE 2015-16'!I29,'TIME TABLE 2015-16'!J29,'TIME TABLE 2015-16'!K29,'TIME TABLE 2015-16'!L29,'TIME TABLE 2015-16'!M29,'TIME TABLE 2015-16'!N29,'TIME TABLE 2015-16'!O29,'TIME TABLE 2015-16'!H29)","v":"---"},{"$f":"TT('TIME TABLE 2015-16'!$A$40,'TIME TABLE 2015-16'!F35,'TIME TABLE 2015-16'!G35,'TIME TABLE 2015-16'!I35,'TIME TABLE 2015-16'!J35,'TIME TABLE 2015-16'!K35,'TIME TABLE 2015-16'!L35,'TIME TABLE 2015-16'!M35,'TIME TABLE 2015-16'!N35,'TIME TABLE 2015-16'!O35,'TIME TABLE 2015-16'!H35)","v":"---"},null,null,null,{"$f":"TT('TIME TABLE 2015-16'!$A$45,'TIME TABLE 2015-16'!F60,'TIME TABLE 2015-16'!G60,'TIME TABLE 2015-16'!I60,'TIME TABLE 2015-16'!J60,'TIME TABLE 2015-16'!K60,'TIME TABLE 2015-16'!L60,'TIME TABLE 2015-16'!M60,'TIME TABLE 2015-16'!N60,'TIME TABLE 2015-16'!O60,'TIME TABLE 2015-16'!H60)","v":"---"}]
["08:20:00",{"$f":"TT('TIME TABLE 2015-16'!$A$40,'TIME TABLE 2015-16'!F6,'TIME TABLE 2015-16'!G6,'TIME TABLE 2015-16'!I6,'TIME TABLE 2015-16'!J6,'TIME TABLE 2015-16'!K6,'TIME TABLE 2015-16'!L6,'TIME TABLE 2015-16'!M6,'TIME TABLE 2015-16'!N6,'TIME TABLE 2015-16'!O6,'TIME TABLE 2015-16'!H6)","v":"TYBA"},{"$f":"TT('TIME TABLE 2015-16'!$A$40,'TIME TABLE 2015-16'!F12,'TIME TABLE 2015-16'!G12,'TIME TABLE 2015-16'!I12,'TIME TABLE 2015-16'!J12,'TIME TABLE 2015-16'!K12,'TIME TABLE 2015-16'!L12,'TIME TABLE 2015-16'!M12,'TIME TABLE 2015-16'!N12,'TIME TABLE 2015-16'!O12,'TIME TABLE 2015-16'!H12)","v":"FYBA"},{"$f":"TT('TIME TABLE 2015-16'!$A$40,'TIME TABLE 2015-16'!F18,'TIME TABLE 2015-16'!G18,'TIME TABLE 2015-16'!I18,'TIME TABLE 2015-16'!J18,'TIME TABLE 2015-16'!K18,'TIME TABLE 2015-16'!L18,'TIME TABLE 2015-16'!M18,'TIME TABLE 2015-16'!N18,'TIME TABLE 2015-16'!O18,'TIME TABLE 2015-16'!H18)","v":"---"},{"$f":"TT('TIME TABLE 2015-16'!$A$40,'TIME TABLE 2015-16'!F24,'TIME TABLE 2015-16'!G24,'TIME TABLE 2015-16'!I24,'TIME TABLE 2015-16'!J24,'TIME TABLE 2015-16'!K24,'TIME TABLE 2015-16'!L24,'TIME TABLE 2015-16'!M24,'TIME TABLE 2015-16'!N24,'TIME TABLE 2015-16'!O24,'TIME TABLE 2015-16'!H24)","v":"FYBA"},{"$f":"TT('TIME TABLE 2015-16'!$A$40,'TIME TABLE 2015-16'!F30,'TIME TABLE 2015-16'!G30,'TIME TABLE 2015-16'!I30,'TIME TABLE 2015-16'!J30,'TIME TABLE 2015-16'!K30,'TIME TABLE 2015-16'!L30,'TIME TABLE 2015-16'!M30,'TIME TABLE 2015-16'!N30,'TIME TABLE 2015-16'!O30,'TIME TABLE 2015-16'!H30)","v":"TYBA"},{"$f":"TT('TIME TABLE 2015-16'!$A$40,'TIME TABLE 2015-16'!F36,'TIME TABLE 2015-16'!G36,'TIME TABLE 2015-16'!I36,'TIME TABLE 2015-16'!J36,'TIME TABLE 2015-16'!K36,'TIME TABLE 2015-16'!L36,'TIME TABLE 2015-16'!M36,'TIME TABLE 2015-16'!N36,'TIME TABLE 2015-16'!O36,'TIME TABLE 2015-16'!H36)","v":"FYBA"}]
["09:10:00",{"$f":"TT('TIME TABLE 2015-16'!$A$40,'TIME TABLE 2015-16'!F7,'TIME TABLE 2015-16'!G7,'TIME TABLE 2015-16'!I7,'TIME TABLE 2015-16'!J7,'TIME TABLE 2015-16'!K7,'TIME TABLE 2015-16'!L7,'TIME TABLE 2015-16'!M7,'TIME TABLE 2015-16'!N7,'TIME TABLE 2015-16'!O7,'TIME TABLE 2015-16'!H7)","v":"TYBA"},{"$f":"TT('TIME TABLE 2015-16'!$A$40,'TIME TABLE 2015-16'!F13,'TIME TABLE 2015-16'!G13,'TIME TABLE 2015-16'!I13,'TIME TABLE 2015-16'!J13,'TIME TABLE 2015-16'!K13,'TIME TABLE 2015-16'!L13,'TIME TABLE 2015-16'!M13,'TIME TABLE 2015-16'!N13,'TIME TABLE 2015-16'!O13,'TIME TABLE 2015-16'!H13)","v":"FYBA"},{"$f":"TT('TIME TABLE 2015-16'!$A$40,'TIME TABLE 2015-16'!F19,'TIME TABLE 2015-16'!G19,'TIME TABLE 2015-16'!I19,'TIME TABLE 2015-16'!J19,'TIME TABLE 2015-16'!K19,'TIME TABLE 2015-16'!L19,'TIME TABLE 2015-16'!M19,'TIME TABLE 2015-16'!N19,'TIME TABLE 2015-16'!O19,'TIME TABLE 2015-16'!H19)","v":"---"},{"$f":"TT('TIME TABLE 2015-16'!$A$40,'TIME TABLE 2015-16'!F25,'TIME TABLE 2015-16'!G25,'TIME TABLE 2015-16'!I25,'TIME TABLE 2015-16'!J25,'TIME TABLE 2015-16'!K25,'TIME TABLE 2015-16'!L25,'TIME TABLE 2015-16'!M25,'TIME TABLE 2015-16'!N25,'TIME TABLE 2015-16'!O25,'TIME TABLE 2015-16'!H25)","v":"SYBA"},{"$f":"TT('TIME TABLE 2015-16'!$A$40,'TIME TABLE 2015-16'!F31,'TIME TABLE 2015-16'!G31,'TIME TABLE 2015-16'!I31,'TIME TABLE 2015-16'!J31,'TIME TABLE 2015-16'!K31,'TIME TABLE 2015-16'!L31,'TIME TABLE 2015-16'!M31,'TIME TABLE 2015-16'!N31,'TIME TABLE 2015-16'!O31,'TIME TABLE 2015-16'!H31)","v":"FYBA"},{"$f":"TT('TIME TABLE 2015-16'!$A$40,'TIME TABLE 2015-16'!F37,'TIME TABLE 2015-16'!G37,'TIME TABLE 2015-16'!I37,'TIME TABLE 2015-16'!J37,'TIME TABLE 2015-16'!K37,'TIME TABLE 2015-16'!L37,'TIME TABLE 2015-16'!M37,'TIME TABLE 2015-16'!N37,'TIME TABLE 2015-16'!O37,'TIME TABLE 2015-16'!H37)","v":"SYBA"},{"$f":"36-(COUNTIF(B93:G98,\"---\"))","v":20}]
[]
[null,"Pandagale"]
[null,"M","T","W","T","F","S"]
["04:50:00",{"$f":"TT('TIME TABLE 2015-16'!$A$53,'TIME TABLE 2015-16'!F2,'TIME TABLE 2015-16'!G2,'TIME TABLE 2015-16'!I2,'TIME TABLE 2015-16'!J2,'TIME TABLE 2015-16'!K2,'TIME TABLE 2015-16'!L2,'TIME TABLE 2015-16'!M2,'TIME TABLE 2015-16'!N2,'TIME TABLE 2015-16'!O2,'TIME TABLE 2015-16'!H2)","v":"---"},{"$f":"TT('TIME TABLE 2015-16'!$A$53,'TIME TABLE 2015-16'!F8,'TIME TABLE 2015-16'!G8,'TIME TABLE 2015-16'!I8,'TIME TABLE 2015-16'!J8,'TIME TABLE 2015-16'!K8,'TIME TABLE 2015-16'!L8,'TIME TABLE 2015-16'!M8,'TIME TABLE 2015-16'!N8,'TIME TABLE 2015-16'!O8,'TIME TABLE 2015-16'!H8)","v":"---"},{"$f":"TT('TIME TABLE 2015-16'!$A$53,'TIME TABLE 2015-16'!F14,'TIME TABLE 2015-16'!G14,'TIME TABLE 2015-16'!I14,'TIME TABLE 2015-16'!J14,'TIME TABLE 2015-16'!K14,'TIME TABLE 2015-16'!L14,'TIME TABLE 2015-16'!M14,'TIME TABLE 2015-16'!N14,'TIME TABLE 2015-16'!O14,'TIME TABLE 2015-16'!H14)","v":"---"},{"$f":"TT('TIME TABLE 2015-16'!$A$53,'TIME TABLE 2015-16'!F20,'TIME TABLE 2015-16'!G20,'TIME TABLE 2015-16'!I20,'TIME TABLE 2015-16'!J20,'TIME TABLE 2015-16'!K20,'TIME TABLE 2015-16'!L20,'TIME TABLE 2015-16'!M20,'TIME TABLE 2015-16'!N20,'TIME TABLE 2015-16'!O20,'TIME TABLE 2015-16'!H20)","v":"---"},{"$f":"TT('TIME TABLE 2015-16'!$A$53,'TIME TABLE 2015-16'!F26,'TIME TABLE 2015-16'!G26,'TIME TABLE 2015-16'!I26,'TIME TABLE 2015-16'!J26,'TIME TABLE 2015-16'!K26,'TIME TABLE 2015-16'!L26,'TIME TABLE 2015-16'!M26,'TIME TABLE 2015-16'!N26,'TIME TABLE 2015-16'!O26,'TIME TABLE 2015-16'!H26)","v":"---"},{"$f":"TT('TIME TABLE 2015-16'!$A$53,'TIME TABLE 2015-16'!F32,'TIME TABLE 2015-16'!G32,'TIME TABLE 2015-16'!I32,'TIME TABLE 2015-16'!J32,'TIME TABLE 2015-16'!K32,'TIME TABLE 2015-16'!L32,'TIME TABLE 2015-16'!M32,'TIME TABLE 2015-16'!N32,'TIME TABLE 2015-16'!O32,'TIME TABLE 2015-16'!H32)","v":"---"}]
["05:40:00",{"$f":"TT('TIME TABLE 2015-16'!$A$53,'TIME TABLE 2015-16'!F3,'TIME TABLE 2015-16'!G3,'TIME TABLE 2015-16'!I3,'TIME TABLE 2015-16'!J3,'TIME TABLE 2015-16'!K3,'TIME TABLE 2015-16'!L3,'TIME TABLE 2015-16'!M3,'TIME TABLE 2015-16'!N3,'TIME TABLE 2015-16'!O3,'TIME TABLE 2015-16'!H3)","v":"---"},{"$f":"TT('TIME TABLE 2015-16'!$A$53,'TIME TABLE 2015-16'!F9,'TIME TABLE 2015-16'!G9,'TIME TABLE 2015-16'!I9,'TIME TABLE 2015-16'!J9,'TIME TABLE 2015-16'!K9,'TIME TABLE 2015-16'!L9,'TIME TABLE 2015-16'!M9,'TIME TABLE 2015-16'!N9,'TIME TABLE 2015-16'!O9,'TIME TABLE 2015-16'!H9)","v":"---"},{"$f":"TT('TIME TABLE 2015-16'!$A$53,'TIME TABLE 2015-16'!F15,'TIME TABLE 2015-16'!G15,'TIME TABLE 2015-16'!I15,'TIME TABLE 2015-16'!J15,'TIME TABLE 2015-16'!K15,'TIME TABLE 2015-16'!L15,'TIME TABLE 2015-16'!M15,'TIME TABLE 2015-16'!N15,'TIME TABLE 2015-16'!O15,'TIME TABLE 2015-16'!H15)","v":"---"},{"$f":"TT('TIME TABLE 2015-16'!$A$53,'TIME TABLE 2015-16'!F21,'TIME TABLE 2015-16'!G21,'TIME TABLE 2015-16'!I21,'TIME TABLE 2015-16'!J21,'TIME TABLE 2015-16'!K21,'TIME TABLE 2015-16'!L21,'TIME TABLE 2015-16'!M21,'TIME TABLE 2015-16'!N21,'TIME TABLE 2015-16'!O21,'TIME TABLE 2015-16'!H21)","v":"---"},{"$f":"TT('TIME TABLE 2015-16'!$A$53,'TIME TABLE 2015-16'!F27,'TIME TABLE 2015-16'!G27,'TIME TABLE 2015-16'!I27,'TIME TABLE 2015-16'!J27,'TIME TABLE 2015-16'!K27,'TIME TABLE 2015-16'!L27,'TIME TABLE 2015-16'!M27,'TIME TABLE 2015-16'!N27,'TIME TABLE 2015-16'!O27,'TIME TABLE 2015-16'!H27)","v":"---"},{"$f":"TT('TIME TABLE 2015-16'!$A$53,'TIME TABLE 2015-16'!F33,'TIME TABLE 2015-16'!G33,'TIME TABLE 2015-16'!I33,'TIME TABLE 2015-16'!J33,'TIME TABLE 2015-16'!K33,'TIME TABLE 2015-16'!L33,'TIME TABLE 2015-16'!M33,'TIME TABLE 2015-16'!N33,'TIME TABLE 2015-16'!O33,'TIME TABLE 2015-16'!H33)","v":"---"}]
["06:30:00",{"$f":"TT('TIME TABLE 2015-16'!$A$53,'TIME TABLE 2015-16'!F4,'TIME TABLE 2015-16'!G4,'TIME TABLE 2015-16'!I4,'TIME TABLE 2015-16'!J4,'TIME TABLE 2015-16'!K4,'TIME TABLE 2015-16'!L4,'TIME TABLE 2015-16'!M4,'TIME TABLE 2015-16'!N4,'TIME TABLE 2015-16'!O4,'TIME TABLE 2015-16'!H4)","v":"TYBCOM B"},{"$f":"TT('TIME TABLE 2015-16'!$A$53,'TIME TABLE 2015-16'!F10,'TIME TABLE 2015-16'!G10,'TIME TABLE 2015-16'!I10,'TIME TABLE 2015-16'!J10,'TIME TABLE 2015-16'!K10,'TIME TABLE 2015-16'!L10,'TIME TABLE 2015-16'!M10,'TIME TABLE 2015-16'!N10,'TIME TABLE 2015-16'!O10,'TIME TABLE 2015-16'!H10)","v":"TYBCOM B"},{"$f":"TT('TIME TABLE 2015-16'!$A$53,'TIME TABLE 2015-16'!F16,'TIME TABLE 2015-16'!G16,'TIME TABLE 2015-16'!I16,'TIME TABLE 2015-16'!J16,'TIME TABLE 2015-16'!K16,'TIME TABLE 2015-16'!L16,'TIME TABLE 2015-16'!M16,'TIME TABLE 2015-16'!N16,'TIME TABLE 2015-16'!O16,'TIME TABLE 2015-16'!H16)","v":"TYBCOM B"},{"$f":"TT('TIME TABLE 2015-16'!$A$53,'TIME TABLE 2015-16'!F22,'TIME TABLE 2015-16'!G22,'TIME TABLE 2015-16'!I22,'TIME TABLE 2015-16'!J22,'TIME TABLE 2015-16'!K22,'TIME TABLE 2015-16'!L22,'TIME TABLE 2015-16'!M22,'TIME TABLE 2015-16'!N22,'TIME TABLE 2015-16'!O22,'TIME TABLE 2015-16'!H22)","v":"TYBCOM B"},{"$f":"TT('TIME TABLE 2015-16'!$A$53,'TIME TABLE 2015-16'!F28,'TIME TABLE 2015-16'!G28,'TIME TABLE 2015-16'!I28,'TIME TABLE 2015-16'!J28,'TIME TABLE 2015-16'!K28,'TIME TABLE 2015-16'!L28,'TIME TABLE 2015-16'!M28,'TIME TABLE 2015-16'!N28,'TIME TABLE 2015-16'!O28,'TIME TABLE 2015-16'!H28)","v":"TYBCOM A"},{"$f":"TT('TIME TABLE 2015-16'!$A$53,'TIME TABLE 2015-16'!F34,'TIME TABLE 2015-16'!G34,'TIME TABLE 2015-16'!I34,'TIME TABLE 2015-16'!J34,'TIME TABLE 2015-16'!K34,'TIME TABLE 2015-16'!L34,'TIME TABLE 2015-16'!M34,'TIME TABLE 2015-16'!N34,'TIME TABLE 2015-16'!O34,'TIME TABLE 2015-16'!H34)","v":"TYBCOM B"}]
["07:20:00",{"$f":"TT('TIME TABLE 2015-16'!$A$53,'TIME TABLE 2015-16'!F5,'TIME TABLE 2015-16'!G5,'TIME TABLE 2015-16'!I5,'TIME TABLE 2015-16'!J5,'TIME TABLE 2015-16'!K5,'TIME TABLE 2015-16'!L5,'TIME TABLE 2015-16'!M5,'TIME TABLE 2015-16'!N5,'TIME TABLE 2015-16'!O5,'TIME TABLE 2015-16'!H5)","v":"TYBCOM B"},{"$f":"TT('TIME TABLE 2015-16'!$A$53,'TIME TABLE 2015-16'!F11,'TIME TABLE 2015-16'!G11,'TIME TABLE 2015-16'!I11,'TIME TABLE 2015-16'!J11,'TIME TABLE 2015-16'!K11,'TIME TABLE 2015-16'!L11,'TIME TABLE 2015-16'!M11,'TIME TABLE 2015-16'!N11,'TIME TABLE 2015-16'!O11,'TIME TABLE 2015-16'!H11)","v":"TYBCOM B"},{"$f":"TT('TIME TABLE 2015-16'!$A$53,'TIME TABLE 2015-16'!F17,'TIME TABLE 2015-16'!G17,'TIME TABLE 2015-16'!I17,'TIME TABLE 2015-16'!J17,'TIME TABLE 2015-16'!K17,'TIME TABLE 2015-16'!L17,'TIME TABLE 2015-16'!M17,'TIME TABLE 2015-16'!N17,'TIME TABLE 2015-16'!O17,'TIME TABLE 2015-16'!H17)","v":"TYBCOM B"},{"$f":"TT('TIME TABLE 2015-16'!$A$53,'TIME TABLE 2015-16'!F23,'TIME TABLE 2015-16'!G23,'TIME TABLE 2015-16'!I23,'TIME TABLE 2015-16'!J23,'TIME TABLE 2015-16'!K23,'TIME TABLE 2015-16'!L23,'TIME TABLE 2015-16'!M23,'TIME TABLE 2015-16'!N23,'TIME TABLE 2015-16'!O23,'TIME TABLE 2015-16'!H23)","v":"TYBCOM B"},{"$f":"TT('TIME TABLE 2015-16'!$A$53,'TIME TABLE 2015-16'!F29,'TIME TABLE 2015-16'!G29,'TIME TABLE 2015-16'!I29,'TIME TABLE 2015-16'!J29,'TIME TABLE 2015-16'!K29,'TIME TABLE 2015-16'!L29,'TIME TABLE 2015-16'!M29,'TIME TABLE 2015-16'!N29,'TIME TABLE 2015-16'!O29,'TIME TABLE 2015-16'!H29)","v":"---"},{"$f":"TT('TIME TABLE 2015-16'!$A$53,'TIME TABLE 2015-16'!F35,'TIME TABLE 2015-16'!G35,'TIME TABLE 2015-16'!I35,'TIME TABLE 2015-16'!J35,'TIME TABLE 2015-16'!K35,'TIME TABLE 2015-16'!L35,'TIME TABLE 2015-16'!M35,'TIME TABLE 2015-16'!N35,'TIME TABLE 2015-16'!O35,'TIME TABLE 2015-16'!H35)","v":"TYBCOM B"}]
["08:20:00",{"$f":"TT('TIME TABLE 2015-16'!$A$53,'TIME TABLE 2015-16'!F6,'TIME TABLE 2015-16'!G6,'TIME TABLE 2015-16'!I6,'TIME TABLE 2015-16'!J6,'TIME TABLE 2015-16'!K6,'TIME TABLE 2015-16'!L6,'TIME TABLE 2015-16'!M6,'TIME TABLE 2015-16'!N6,'TIME TABLE 2015-16'!O6,'TIME TABLE 2015-16'!H6)","v":"TYBCOM A"},{"$f":"TT('TIME TABLE 2015-16'!$A$53,'TIME TABLE 2015-16'!F12,'TIME TABLE 2015-16'!G12,'TIME TABLE 2015-16'!I12,'TIME TABLE 2015-16'!J12,'TIME TABLE 2015-16'!K12,'TIME TABLE 2015-16'!L12,'TIME TABLE 2015-16'!M12,'TIME TABLE 2015-16'!N12,'TIME TABLE 2015-16'!O12,'TIME TABLE 2015-16'!H12)","v":"TYBCOM A"},{"$f":"TT('TIME TABLE 2015-16'!$A$53,'TIME TABLE 2015-16'!F18,'TIME TABLE 2015-16'!G18,'TIME TABLE 2015-16'!I18,'TIME TABLE 2015-16'!J18,'TIME TABLE 2015-16'!K18,'TIME TABLE 2015-16'!L18,'TIME TABLE 2015-16'!M18,'TIME TABLE 2015-16'!N18,'TIME TABLE 2015-16'!O18,'TIME TABLE 2015-16'!H18)","v":"TYBCOM A"},{"$f":"TT('TIME TABLE 2015-16'!$A$53,'TIME TABLE 2015-16'!F24,'TIME TABLE 2015-16'!G24,'TIME TABLE 2015-16'!I24,'TIME TABLE 2015-16'!J24,'TIME TABLE 2015-16'!K24,'TIME TABLE 2015-16'!L24,'TIME TABLE 2015-16'!M24,'TIME TABLE 2015-16'!N24,'TIME TABLE 2015-16'!O24,'TIME TABLE 2015-16'!H24)","v":"TYBCOM A"},{"$f":"TT('TIME TABLE 2015-16'!$A$53,'TIME TABLE 2015-16'!F30,'TIME TABLE 2015-16'!G30,'TIME TABLE 2015-16'!I30,'TIME TABLE 2015-16'!J30,'TIME TABLE 2015-16'!K30,'TIME TABLE 2015-16'!L30,'TIME TABLE 2015-16'!M30,'TIME TABLE 2015-16'!N30,'TIME TABLE 2015-16'!O30,'TIME TABLE 2015-16'!H30)","v":"TYBCOM A"},{"$f":"TT('TIME TABLE 2015-16'!$A$53,'TIME TABLE 2015-16'!F36,'TIME TABLE 2015-16'!G36,'TIME TABLE 2015-16'!I36,'TIME TABLE 2015-16'!J36,'TIME TABLE 2015-16'!K36,'TIME TABLE 2015-16'!L36,'TIME TABLE 2015-16'!M36,'TIME TABLE 2015-16'!N36,'TIME TABLE 2015-16'!O36,'TIME TABLE 2015-16'!H36)","v":"TYBCOM A"}]
["09:10:00",{"$f":"TT('TIME TABLE 2015-16'!$A$53,'TIME TABLE 2015-16'!F7,'TIME TABLE 2015-16'!G7,'TIME TABLE 2015-16'!I7,'TIME TABLE 2015-16'!J7,'TIME TABLE 2015-16'!K7,'TIME TABLE 2015-16'!L7,'TIME TABLE 2015-16'!M7,'TIME TABLE 2015-16'!N7,'TIME TABLE 2015-16'!O7,'TIME TABLE 2015-16'!H7)","v":"TYBCOM A"},{"$f":"TT('TIME TABLE 2015-16'!$A$53,'TIME TABLE 2015-16'!F13,'TIME TABLE 2015-16'!G13,'TIME TABLE 2015-16'!I13,'TIME TABLE 2015-16'!J13,'TIME TABLE 2015-16'!K13,'TIME TABLE 2015-16'!L13,'TIME TABLE 2015-16'!M13,'TIME TABLE 2015-16'!N13,'TIME TABLE 2015-16'!O13,'TIME TABLE 2015-16'!H13)","v":"TYBCOM A"},{"$f":"TT('TIME TABLE 2015-16'!$A$53,'TIME TABLE 2015-16'!F19,'TIME TABLE 2015-16'!G19,'TIME TABLE 2015-16'!I19,'TIME TABLE 2015-16'!J19,'TIME TABLE 2015-16'!K19,'TIME TABLE 2015-16'!L19,'TIME TABLE 2015-16'!M19,'TIME TABLE 2015-16'!N19,'TIME TABLE 2015-16'!O19,'TIME TABLE 2015-16'!H19)","v":"TYBCOM A"},{"$f":"TT('TIME TABLE 2015-16'!$A$53,'TIME TABLE 2015-16'!F25,'TIME TABLE 2015-16'!G25,'TIME TABLE 2015-16'!I25,'TIME TABLE 2015-16'!J25,'TIME TABLE 2015-16'!K25,'TIME TABLE 2015-16'!L25,'TIME TABLE 2015-16'!M25,'TIME TABLE 2015-16'!N25,'TIME TABLE 2015-16'!O25,'TIME TABLE 2015-16'!H25)","v":"TYBCOM A"},{"$f":"TT('TIME TABLE 2015-16'!$A$53,'TIME TABLE 2015-16'!F31,'TIME TABLE 2015-16'!G31,'TIME TABLE 2015-16'!I31,'TIME TABLE 2015-16'!J31,'TIME TABLE 2015-16'!K31,'TIME TABLE 2015-16'!L31,'TIME TABLE 2015-16'!M31,'TIME TABLE 2015-16'!N31,'TIME TABLE 2015-16'!O31,'TIME TABLE 2015-16'!H31)","v":"TYBCOM A"},{"$f":"TT('TIME TABLE 2015-16'!$A$53,'TIME TABLE 2015-16'!F37,'TIME TABLE 2015-16'!G37,'TIME TABLE 2015-16'!I37,'TIME TABLE 2015-16'!J37,'TIME TABLE 2015-16'!K37,'TIME TABLE 2015-16'!L37,'TIME TABLE 2015-16'!M37,'TIME TABLE 2015-16'!N37,'TIME TABLE 2015-16'!O37,'TIME TABLE 2015-16'!H37)","v":"TYBCOM A"},{"$f":"36-(COUNTIF(B102:G107,\"---\"))","v":23}]
[]
[null,{"$f":"'TIME TABLE 2015-16'!A54","v":"Nitin Sawant"}]
[null,"M","T","W","T","F","S"]
["04:50:00",{"$f":"TT('TIME TABLE 2015-16'!$A$54,'TIME TABLE 2015-16'!F2,'TIME TABLE 2015-16'!G2,'TIME TABLE 2015-16'!I2,'TIME TABLE 2015-16'!J2,'TIME TABLE 2015-16'!K2,'TIME TABLE 2015-16'!L2,'TIME TABLE 2015-16'!M2,'TIME TABLE 2015-16'!N2,'TIME TABLE 2015-16'!O2,'TIME TABLE 2015-16'!H2)","v":"---"},{"$f":"TT('TIME TABLE 2015-16'!$A$54,'TIME TABLE 2015-16'!F8,'TIME TABLE 2015-16'!G8,'TIME TABLE 2015-16'!I8,'TIME TABLE 2015-16'!J8,'TIME TABLE 2015-16'!K8,'TIME TABLE 2015-16'!L8,'TIME TABLE 2015-16'!M8,'TIME TABLE 2015-16'!N8,'TIME TABLE 2015-16'!O8,'TIME TABLE 2015-16'!H8)","v":"---"},{"$f":"TT('TIME TABLE 2015-16'!$A$54,'TIME TABLE 2015-16'!F14,'TIME TABLE 2015-16'!G14,'TIME TABLE 2015-16'!I14,'TIME TABLE 2015-16'!J14,'TIME TABLE 2015-16'!K14,'TIME TABLE 2015-16'!L14,'TIME TABLE 2015-16'!M14,'TIME TABLE 2015-16'!N14,'TIME TABLE 2015-16'!O14,'TIME TABLE 2015-16'!H14)","v":"---"},{"$f":"TT('TIME TABLE 2015-16'!$A$54,'TIME TABLE 2015-16'!F20,'TIME TABLE 2015-16'!G20,'TIME TABLE 2015-16'!I20,'TIME TABLE 2015-16'!J20,'TIME TABLE 2015-16'!K20,'TIME TABLE 2015-16'!L20,'TIME TABLE 2015-16'!M20,'TIME TABLE 2015-16'!N20,'TIME TABLE 2015-16'!O20,'TIME TABLE 2015-16'!H20)","v":"---"},{"$f":"TT('TIME TABLE 2015-16'!$A$54,'TIME TABLE 2015-16'!F26,'TIME TABLE 2015-16'!G26,'TIME TABLE 2015-16'!I26,'TIME TABLE 2015-16'!J26,'TIME TABLE 2015-16'!K26,'TIME TABLE 2015-16'!L26,'TIME TABLE 2015-16'!M26,'TIME TABLE 2015-16'!N26,'TIME TABLE 2015-16'!O26,'TIME TABLE 2015-16'!H26)","v":"---"},{"$f":"TT('TIME TABLE 2015-16'!$A$54,'TIME TABLE 2015-16'!F32,'TIME TABLE 2015-16'!G32,'TIME TABLE 2015-16'!I32,'TIME TABLE 2015-16'!J32,'TIME TABLE 2015-16'!K32,'TIME TABLE 2015-16'!L32,'TIME TABLE 2015-16'!M32,'TIME TABLE 2015-16'!N32,'TIME TABLE 2015-16'!O32,'TIME TABLE 2015-16'!H32)","v":"---"}]
["05:40:00",{"$f":"TT('TIME TABLE 2015-16'!$A$54,'TIME TABLE 2015-16'!F3,'TIME TABLE 2015-16'!G3,'TIME TABLE 2015-16'!I3,'TIME TABLE 2015-16'!J3,'TIME TABLE 2015-16'!K3,'TIME TABLE 2015-16'!L3,'TIME TABLE 2015-16'!M3,'TIME TABLE 2015-16'!N3,'TIME TABLE 2015-16'!O3,'TIME TABLE 2015-16'!H3)","v":"---"},{"$f":"TT('TIME TABLE 2015-16'!$A$54,'TIME TABLE 2015-16'!F9,'TIME TABLE 2015-16'!G9,'TIME TABLE 2015-16'!I9,'TIME TABLE 2015-16'!J9,'TIME TABLE 2015-16'!K9,'TIME TABLE 2015-16'!L9,'TIME TABLE 2015-16'!M9,'TIME TABLE 2015-16'!N9,'TIME TABLE 2015-16'!O9,'TIME TABLE 2015-16'!H9)","v":"---"},{"$f":"TT('TIME TABLE 2015-16'!$A$54,'TIME TABLE 2015-16'!F15,'TIME TABLE 2015-16'!G15,'TIME TABLE 2015-16'!I15,'TIME TABLE 2015-16'!J15,'TIME TABLE 2015-16'!K15,'TIME TABLE 2015-16'!L15,'TIME TABLE 2015-16'!M15,'TIME TABLE 2015-16'!N15,'TIME TABLE 2015-16'!O15,'TIME TABLE 2015-16'!H15)","v":"---"},{"$f":"TT('TIME TABLE 2015-16'!$A$54,'TIME TABLE 2015-16'!F21,'TIME TABLE 2015-16'!G21,'TIME TABLE 2015-16'!I21,'TIME TABLE 2015-16'!J21,'TIME TABLE 2015-16'!K21,'TIME TABLE 2015-16'!L21,'TIME TABLE 2015-16'!M21,'TIME TABLE 2015-16'!N21,'TIME TABLE 2015-16'!O21,'TIME TABLE 2015-16'!H21)","v":"---"},{"$f":"TT('TIME TABLE 2015-16'!$A$54,'TIME TABLE 2015-16'!F27,'TIME TABLE 2015-16'!G27,'TIME TABLE 2015-16'!I27,'TIME TABLE 2015-16'!J27,'TIME TABLE 2015-16'!K27,'TIME TABLE 2015-16'!L27,'TIME TABLE 2015-16'!M27,'TIME TABLE 2015-16'!N27,'TIME TABLE 2015-16'!O27,'TIME TABLE 2015-16'!H27)","v":"---"},{"$f":"TT('TIME TABLE 2015-16'!$A$54,'TIME TABLE 2015-16'!F33,'TIME TABLE 2015-16'!G33,'TIME TABLE 2015-16'!I33,'TIME TABLE 2015-16'!J33,'TIME TABLE 2015-16'!K33,'TIME TABLE 2015-16'!L33,'TIME TABLE 2015-16'!M33,'TIME TABLE 2015-16'!N33,'TIME TABLE 2015-16'!O33,'TIME TABLE 2015-16'!H33)","v":"---"}]
["06:30:00",{"$f":"TT('TIME TABLE 2015-16'!$A$54,'TIME TABLE 2015-16'!F4,'TIME TABLE 2015-16'!G4,'TIME TABLE 2015-16'!I4,'TIME TABLE 2015-16'!J4,'TIME TABLE 2015-16'!K4,'TIME TABLE 2015-16'!L4,'TIME TABLE 2015-16'!M4,'TIME TABLE 2015-16'!N4,'TIME TABLE 2015-16'!O4,'TIME TABLE 2015-16'!H4)","v":"---"},{"$f":"TT('TIME TABLE 2015-16'!$A$54,'TIME TABLE 2015-16'!F10,'TIME TABLE 2015-16'!G10,'TIME TABLE 2015-16'!I10,'TIME TABLE 2015-16'!J10,'TIME TABLE 2015-16'!K10,'TIME TABLE 2015-16'!L10,'TIME TABLE 2015-16'!M10,'TIME TABLE 2015-16'!N10,'TIME TABLE 2015-16'!O10,'TIME TABLE 2015-16'!H10)","v":"---"},{"$f":"TT('TIME TABLE 2015-16'!$A$54,'TIME TABLE 2015-16'!F16,'TIME TABLE 2015-16'!G16,'TIME TABLE 2015-16'!I16,'TIME TABLE 2015-16'!J16,'TIME TABLE 2015-16'!K16,'TIME TABLE 2015-16'!L16,'TIME TABLE 2015-16'!M16,'TIME TABLE 2015-16'!N16,'TIME TABLE 2015-16'!O16,'TIME TABLE 2015-16'!H16)","v":"FYBCOM A"},{"$f":"TT('TIME TABLE 2015-16'!$A$54,'TIME TABLE 2015-16'!F22,'TIME TABLE 2015-16'!G22,'TIME TABLE 2015-16'!I22,'TIME TABLE 2015-16'!J22,'TIME TABLE 2015-16'!K22,'TIME TABLE 2015-16'!L22,'TIME TABLE 2015-16'!M22,'TIME TABLE 2015-16'!N22,'TIME TABLE 2015-16'!O22,'TIME TABLE 2015-16'!H22)","v":"---"},{"$f":"TT('TIME TABLE 2015-16'!$A$54,'TIME TABLE 2015-16'!F28,'TIME TABLE 2015-16'!G28,'TIME TABLE 2015-16'!I28,'TIME TABLE 2015-16'!J28,'TIME TABLE 2015-16'!K28,'TIME TABLE 2015-16'!L28,'TIME TABLE 2015-16'!M28,'TIME TABLE 2015-16'!N28,'TIME TABLE 2015-16'!O28,'TIME TABLE 2015-16'!H28)","v":"FYBCOM B"},{"$f":"TT('TIME TABLE 2015-16'!$A$54,'TIME TABLE 2015-16'!F34,'TIME TABLE 2015-16'!G34,'TIME TABLE 2015-16'!I34,'TIME TABLE 2015-16'!J34,'TIME TABLE 2015-16'!K34,'TIME TABLE 2015-16'!L34,'TIME TABLE 2015-16'!M34,'TIME TABLE 2015-16'!N34,'TIME TABLE 2015-16'!O34,'TIME TABLE 2015-16'!H34)","v":"---"}]
["07:20:00",{"$f":"TT('TIME TABLE 2015-16'!$A$54,'TIME TABLE 2015-16'!F5,'TIME TABLE 2015-16'!G5,'TIME TABLE 2015-16'!I5,'TIME TABLE 2015-16'!J5,'TIME TABLE 2015-16'!K5,'TIME TABLE 2015-16'!L5,'TIME TABLE 2015-16'!M5,'TIME TABLE 2015-16'!N5,'TIME TABLE 2015-16'!O5,'TIME TABLE 2015-16'!H5)","v":"---"},{"$f":"TT('TIME TABLE 2015-16'!$A$54,'TIME TABLE 2015-16'!F11,'TIME TABLE 2015-16'!G11,'TIME TABLE 2015-16'!I11,'TIME TABLE 2015-16'!J11,'TIME TABLE 2015-16'!K11,'TIME TABLE 2015-16'!L11,'TIME TABLE 2015-16'!M11,'TIME TABLE 2015-16'!N11,'TIME TABLE 2015-16'!O11,'TIME TABLE 2015-16'!H11)","v":"---"},{"$f":"TT('TIME TABLE 2015-16'!$A$54,'TIME TABLE 2015-16'!F17,'TIME TABLE 2015-16'!G17,'TIME TABLE 2015-16'!I17,'TIME TABLE 2015-16'!J17,'TIME TABLE 2015-16'!K17,'TIME TABLE 2015-16'!L17,'TIME TABLE 2015-16'!M17,'TIME TABLE 2015-16'!N17,'TIME TABLE 2015-16'!O17,'TIME TABLE 2015-16'!H17)","v":"FYBCOM A"},{"$f":"TT('TIME TABLE 2015-16'!$A$54,'TIME TABLE 2015-16'!F23,'TIME TABLE 2015-16'!G23,'TIME TABLE 2015-16'!I23,'TIME TABLE 2015-16'!J23,'TIME TABLE 2015-16'!K23,'TIME TABLE 2015-16'!L23,'TIME TABLE 2015-16'!M23,'TIME TABLE 2015-16'!N23,'TIME TABLE 2015-16'!O23,'TIME TABLE 2015-16'!H23)","v":"---"},{"$f":"TT('TIME TABLE 2015-16'!$A$54,'TIME TABLE 2015-16'!F29,'TIME TABLE 2015-16'!G29,'TIME TABLE 2015-16'!I29,'TIME TABLE 2015-16'!J29,'TIME TABLE 2015-16'!K29,'TIME TABLE 2015-16'!L29,'TIME TABLE 2015-16'!M29,'TIME TABLE 2015-16'!N29,'TIME TABLE 2015-16'!O29,'TIME TABLE 2015-16'!H29)","v":"FYBCOM B"},{"$f":"TT('TIME TABLE 2015-16'!$A$54,'TIME TABLE 2015-16'!F35,'TIME TABLE 2015-16'!G35,'TIME TABLE 2015-16'!I35,'TIME TABLE 2015-16'!J35,'TIME TABLE 2015-16'!K35,'TIME TABLE 2015-16'!L35,'TIME TABLE 2015-16'!M35,'TIME TABLE 2015-16'!N35,'TIME TABLE 2015-16'!O35,'TIME TABLE 2015-16'!H35)","v":"---"}]
["08:20:00",{"$f":"TT('TIME TABLE 2015-16'!$A$54,'TIME TABLE 2015-16'!F6,'TIME TABLE 2015-16'!G6,'TIME TABLE 2015-16'!I6,'TIME TABLE 2015-16'!J6,'TIME TABLE 2015-16'!K6,'TIME TABLE 2015-16'!L6,'TIME TABLE 2015-16'!M6,'TIME TABLE 2015-16'!N6,'TIME TABLE 2015-16'!O6,'TIME TABLE 2015-16'!H6)","v":"---"},{"$f":"TT('TIME TABLE 2015-16'!$A$54,'TIME TABLE 2015-16'!F12,'TIME TABLE 2015-16'!G12,'TIME TABLE 2015-16'!I12,'TIME TABLE 2015-16'!J12,'TIME TABLE 2015-16'!K12,'TIME TABLE 2015-16'!L12,'TIME TABLE 2015-16'!M12,'TIME TABLE 2015-16'!N12,'TIME TABLE 2015-16'!O12,'TIME TABLE 2015-16'!H12)","v":"---"},{"$f":"TT('TIME TABLE 2015-16'!$A$54,'TIME TABLE 2015-16'!F18,'TIME TABLE 2015-16'!G18,'TIME TABLE 2015-16'!I18,'TIME TABLE 2015-16'!J18,'TIME TABLE 2015-16'!K18,'TIME TABLE 2015-16'!L18,'TIME TABLE 2015-16'!M18,'TIME TABLE 2015-16'!N18,'TIME TABLE 2015-16'!O18,'TIME TABLE 2015-16'!H18)","v":"FYBCOM B"},{"$f":"TT('TIME TABLE 2015-16'!$A$54,'TIME TABLE 2015-16'!F24,'TIME TABLE 2015-16'!G24,'TIME TABLE 2015-16'!I24,'TIME TABLE 2015-16'!J24,'TIME TABLE 2015-16'!K24,'TIME TABLE 2015-16'!L24,'TIME TABLE 2015-16'!M24,'TIME TABLE 2015-16'!N24,'TIME TABLE 2015-16'!O24,'TIME TABLE 2015-16'!H24)","v":"---"},{"$f":"TT('TIME TABLE 2015-16'!$A$54,'TIME TABLE 2015-16'!F30,'TIME TABLE 2015-16'!G30,'TIME TABLE 2015-16'!I30,'TIME TABLE 2015-16'!J30,'TIME TABLE 2015-16'!K30,'TIME TABLE 2015-16'!L30,'TIME TABLE 2015-16'!M30,'TIME TABLE 2015-16'!N30,'TIME TABLE 2015-16'!O30,'TIME TABLE 2015-16'!H30)","v":"FYBCOM A"},{"$f":"TT('TIME TABLE 2015-16'!$A$54,'TIME TABLE 2015-16'!F36,'TIME TABLE 2015-16'!G36,'TIME TABLE 2015-16'!I36,'TIME TABLE 2015-16'!J36,'TIME TABLE 2015-16'!K36,'TIME TABLE 2015-16'!L36,'TIME TABLE 2015-16'!M36,'TIME TABLE 2015-16'!N36,'TIME TABLE 2015-16'!O36,'TIME TABLE 2015-16'!H36)","v":"---"}]
["09:10:00",{"$f":"TT('TIME TABLE 2015-16'!$A$54,'TIME TABLE 2015-16'!F7,'TIME TABLE 2015-16'!G7,'TIME TABLE 2015-16'!I7,'TIME TABLE 2015-16'!J7,'TIME TABLE 2015-16'!K7,'TIME TABLE 2015-16'!L7,'TIME TABLE 2015-16'!M7,'TIME TABLE 2015-16'!N7,'TIME TABLE 2015-16'!O7,'TIME TABLE 2015-16'!H7)","v":"---"},{"$f":"TT('TIME TABLE 2015-16'!$A$54,'TIME TABLE 2015-16'!F13,'TIME TABLE 2015-16'!G13,'TIME TABLE 2015-16'!I13,'TIME TABLE 2015-16'!J13,'TIME TABLE 2015-16'!K13,'TIME TABLE 2015-16'!L13,'TIME TABLE 2015-16'!M13,'TIME TABLE 2015-16'!N13,'TIME TABLE 2015-16'!O13,'TIME TABLE 2015-16'!H13)","v":"---"},{"$f":"TT('TIME TABLE 2015-16'!$A$54,'TIME TABLE 2015-16'!F19,'TIME TABLE 2015-16'!G19,'TIME TABLE 2015-16'!I19,'TIME TABLE 2015-16'!J19,'TIME TABLE 2015-16'!K19,'TIME TABLE 2015-16'!L19,'TIME TABLE 2015-16'!M19,'TIME TABLE 2015-16'!N19,'TIME TABLE 2015-16'!O19,'TIME TABLE 2015-16'!H19)","v":"FYBCOM B"},{"$f":"TT('TIME TABLE 2015-16'!$A$54,'TIME TABLE 2015-16'!F25,'TIME TABLE 2015-16'!G25,'TIME TABLE 2015-16'!I25,'TIME TABLE 2015-16'!J25,'TIME TABLE 2015-16'!K25,'TIME TABLE 2015-16'!L25,'TIME TABLE 2015-16'!M25,'TIME TABLE 2015-16'!N25,'TIME TABLE 2015-16'!O25,'TIME TABLE 2015-16'!H25)","v":"---"},{"$f":"TT('TIME TABLE 2015-16'!$A$54,'TIME TABLE 2015-16'!F31,'TIME TABLE 2015-16'!G31,'TIME TABLE 2015-16'!I31,'TIME TABLE 2015-16'!J31,'TIME TABLE 2015-16'!K31,'TIME TABLE 2015-16'!L31,'TIME TABLE 2015-16'!M31,'TIME TABLE 2015-16'!N31,'TIME TABLE 2015-16'!O31,'TIME TABLE 2015-16'!H31)","v":"FYBCOM A"},{"$f":"TT('TIME TABLE 2015-16'!$A$54,'TIME TABLE 2015-16'!F37,'TIME TABLE 2015-16'!G37,'TIME TABLE 2015-16'!I37,'TIME TABLE 2015-16'!J37,'TIME TABLE 2015-16'!K37,'TIME TABLE 2015-16'!L37,'TIME TABLE 2015-16'!M37,'TIME TABLE 2015-16'!N37,'TIME TABLE 2015-16'!O37,'TIME TABLE 2015-16'!H37)","v":"---"},{"$f":"36-(COUNTIF(B111:G116,\"---\"))","v":8}]
[null,null,null,null,null,null,null,null,null,null,null,null,{"$f":"TT('TIME TABLE 2015-16'!$A$47,'TIME TABLE 2015-16'!F38,'TIME TABLE 2015-16'!G38,'TIME TABLE 2015-16'!I38,'TIME TABLE 2015-16'!J38,'TIME TABLE 2015-16'!K38,'TIME TABLE 2015-16'!L38,'TIME TABLE 2015-16'!M38,'TIME TABLE 2015-16'!N38,'TIME TABLE 2015-16'!O38,'TIME TABLE 2015-16'!H38)","v":"---"}]
[null,"Buwa",null,null,null,null,null,null,null,null,null,null,{"$f":"TT('TIME TABLE 2015-16'!$A$47,'TIME TABLE 2015-16'!F39,'TIME TABLE 2015-16'!G39,'TIME TABLE 2015-16'!I39,'TIME TABLE 2015-16'!J39,'TIME TABLE 2015-16'!K39,'TIME TABLE 2015-16'!L39,'TIME TABLE 2015-16'!M39,'TIME TABLE 2015-16'!N39,'TIME TABLE 2015-16'!O39,'TIME TABLE 2015-16'!H39)","v":"---"}]
[null,"M","T","W","T","F","S",null,null,null,null,null,{"$f":"TT('TIME TABLE 2015-16'!$A$47,'TIME TABLE 2015-16'!F40,'TIME TABLE 2015-16'!G40,'TIME TABLE 2015-16'!I40,'TIME TABLE 2015-16'!J40,'TIME TABLE 2015-16'!K40,'TIME TABLE 2015-16'!L40,'TIME TABLE 2015-16'!M40,'TIME TABLE 2015-16'!N40,'TIME TABLE 2015-16'!O40,'TIME TABLE 2015-16'!H40)","v":"---"}]
["04:50:00",{"$f":"TT('TIME TABLE 2015-16'!$A$51,'TIME TABLE 2015-16'!F2,'TIME TABLE 2015-16'!G2,'TIME TABLE 2015-16'!I2,'TIME TABLE 2015-16'!J2,'TIME TABLE 2015-16'!K2,'TIME TABLE 2015-16'!L2,'TIME TABLE 2015-16'!M2,'TIME TABLE 2015-16'!N2,'TIME TABLE 2015-16'!O2,'TIME TABLE 2015-16'!H2)","v":"---"},{"$f":"TT('TIME TABLE 2015-16'!$A$51,'TIME TABLE 2015-16'!F8,'TIME TABLE 2015-16'!G8,'TIME TABLE 2015-16'!I8,'TIME TABLE 2015-16'!J8,'TIME TABLE 2015-16'!K8,'TIME TABLE 2015-16'!L8,'TIME TABLE 2015-16'!M8,'TIME TABLE 2015-16'!N8,'TIME TABLE 2015-16'!O8,'TIME TABLE 2015-16'!H8)","v":"---"},{"$f":"TT('TIME TABLE 2015-16'!$A$51,'TIME TABLE 2015-16'!F14,'TIME TABLE 2015-16'!G14,'TIME TABLE 2015-16'!I14,'TIME TABLE 2015-16'!J14,'TIME TABLE 2015-16'!K14,'TIME TABLE 2015-16'!L14,'TIME TABLE 2015-16'!M14,'TIME TABLE 2015-16'!N14,'TIME TABLE 2015-16'!O14,'TIME TABLE 2015-16'!H14)","v":"---"},{"$f":"TT('TIME TABLE 2015-16'!$A$51,'TIME TABLE 2015-16'!F20,'TIME TABLE 2015-16'!G20,'TIME TABLE 2015-16'!I20,'TIME TABLE 2015-16'!J20,'TIME TABLE 2015-16'!K20,'TIME TABLE 2015-16'!L20,'TIME TABLE 2015-16'!M20,'TIME TABLE 2015-16'!N20,'TIME TABLE 2015-16'!O20,'TIME TABLE 2015-16'!H20)","v":"---"},{"$f":"TT('TIME TABLE 2015-16'!$A$51,'TIME TABLE 2015-16'!F26,'TIME TABLE 2015-16'!G26,'TIME TABLE 2015-16'!I26,'TIME TABLE 2015-16'!J26,'TIME TABLE 2015-16'!K26,'TIME TABLE 2015-16'!L26,'TIME TABLE 2015-16'!M26,'TIME TABLE 2015-16'!N26,'TIME TABLE 2015-16'!O26,'TIME TABLE 2015-16'!H26)","v":"---"},{"$f":"TT('TIME TABLE 2015-16'!$A$51,'TIME TABLE 2015-16'!F32,'TIME TABLE 2015-16'!G32,'TIME TABLE 2015-16'!I32,'TIME TABLE 2015-16'!J32,'TIME TABLE 2015-16'!K32,'TIME TABLE 2015-16'!L32,'TIME TABLE 2015-16'!M32,'TIME TABLE 2015-16'!N32,'TIME TABLE 2015-16'!O32,'TIME TABLE 2015-16'!H32)","v":"---"},null,null,null,null,null,{"$f":"TT('TIME TABLE 2015-16'!$A$47,'TIME TABLE 2015-16'!F41,'TIME TABLE 2015-16'!G41,'TIME TABLE 2015-16'!I41,'TIME TABLE 2015-16'!J41,'TIME TABLE 2015-16'!K41,'TIME TABLE 2015-16'!L41,'TIME TABLE 2015-16'!M41,'TIME TABLE 2015-16'!N41,'TIME TABLE 2015-16'!O41,'TIME TABLE 2015-16'!H41)","v":"---"}]
["05:40:00",{"$f":"TT('TIME TABLE 2015-16'!$A$51,'TIME TABLE 2015-16'!F3,'TIME TABLE 2015-16'!G3,'TIME TABLE 2015-16'!I3,'TIME TABLE 2015-16'!J3,'TIME TABLE 2015-16'!K3,'TIME TABLE 2015-16'!L3,'TIME TABLE 2015-16'!M3,'TIME TABLE 2015-16'!N3,'TIME TABLE 2015-16'!O3,'TIME TABLE 2015-16'!H3)","v":"TYBA"},{"$f":"TT('TIME TABLE 2015-16'!$A$51,'TIME TABLE 2015-16'!F9,'TIME TABLE 2015-16'!G9,'TIME TABLE 2015-16'!I9,'TIME TABLE 2015-16'!J9,'TIME TABLE 2015-16'!K9,'TIME TABLE 2015-16'!L9,'TIME TABLE 2015-16'!M9,'TIME TABLE 2015-16'!N9,'TIME TABLE 2015-16'!O9,'TIME TABLE 2015-16'!H9)","v":"TYBA"},{"$f":"TT('TIME TABLE 2015-16'!$A$51,'TIME TABLE 2015-16'!F15,'TIME TABLE 2015-16'!G15,'TIME TABLE 2015-16'!I15,'TIME TABLE 2015-16'!J15,'TIME TABLE 2015-16'!K15,'TIME TABLE 2015-16'!L15,'TIME TABLE 2015-16'!M15,'TIME TABLE 2015-16'!N15,'TIME TABLE 2015-16'!O15,'TIME TABLE 2015-16'!H15)","v":"TYBA"},{"$f":"TT('TIME TABLE 2015-16'!$A$51,'TIME TABLE 2015-16'!F21,'TIME TABLE 2015-16'!G21,'TIME TABLE 2015-16'!I21,'TIME TABLE 2015-16'!J21,'TIME TABLE 2015-16'!K21,'TIME TABLE 2015-16'!L21,'TIME TABLE 2015-16'!M21,'TIME TABLE 2015-16'!N21,'TIME TABLE 2015-16'!O21,'TIME TABLE 2015-16'!H21)","v":"---"},{"$f":"TT('TIME TABLE 2015-16'!$A$51,'TIME TABLE 2015-16'!F27,'TIME TABLE 2015-16'!G27,'TIME TABLE 2015-16'!I27,'TIME TABLE 2015-16'!J27,'TIME TABLE 2015-16'!K27,'TIME TABLE 2015-16'!L27,'TIME TABLE 2015-16'!M27,'TIME TABLE 2015-16'!N27,'TIME TABLE 2015-16'!O27,'TIME TABLE 2015-16'!H27)","v":"---"},{"$f":"TT('TIME TABLE 2015-16'!$A$51,'TIME TABLE 2015-16'!F33,'TIME TABLE 2015-16'!G33,'TIME TABLE 2015-16'!I33,'TIME TABLE 2015-16'!J33,'TIME TABLE 2015-16'!K33,'TIME TABLE 2015-16'!L33,'TIME TABLE 2015-16'!M33,'TIME TABLE 2015-16'!N33,'TIME TABLE 2015-16'!O33,'TIME TABLE 2015-16'!H33)","v":"---"},null,null,null,null,null,{"$f":"TT('TIME TABLE 2015-16'!$A$47,'TIME TABLE 2015-16'!F42,'TIME TABLE 2015-16'!G42,'TIME TABLE 2015-16'!I42,'TIME TABLE 2015-16'!J42,'TIME TABLE 2015-16'!K42,'TIME TABLE 2015-16'!L42,'TIME TABLE 2015-16'!M42,'TIME TABLE 2015-16'!N42,'TIME TABLE 2015-16'!O42,'TIME TABLE 2015-16'!H42)","v":"---"}]
["06:30:00",{"$f":"TT('TIME TABLE 2015-16'!$A$51,'TIME TABLE 2015-16'!F4,'TIME TABLE 2015-16'!G4,'TIME TABLE 2015-16'!I4,'TIME TABLE 2015-16'!J4,'TIME TABLE 2015-16'!K4,'TIME TABLE 2015-16'!L4,'TIME TABLE 2015-16'!M4,'TIME TABLE 2015-16'!N4,'TIME TABLE 2015-16'!O4,'TIME TABLE 2015-16'!H4)","v":"---"},{"$f":"TT('TIME TABLE 2015-16'!$A$51,'TIME TABLE 2015-16'!F10,'TIME TABLE 2015-16'!G10,'TIME TABLE 2015-16'!I10,'TIME TABLE 2015-16'!J10,'TIME TABLE 2015-16'!K10,'TIME TABLE 2015-16'!L10,'TIME TABLE 2015-16'!M10,'TIME TABLE 2015-16'!N10,'TIME TABLE 2015-16'!O10,'TIME TABLE 2015-16'!H10)","v":"SYBA"},{"$f":"TT('TIME TABLE 2015-16'!$A$51,'TIME TABLE 2015-16'!F16,'TIME TABLE 2015-16'!G16,'TIME TABLE 2015-16'!I16,'TIME TABLE 2015-16'!J16,'TIME TABLE 2015-16'!K16,'TIME TABLE 2015-16'!L16,'TIME TABLE 2015-16'!M16,'TIME TABLE 2015-16'!N16,'TIME TABLE 2015-16'!O16,'TIME TABLE 2015-16'!H16)","v":"FYBA"},{"$f":"TT('TIME TABLE 2015-16'!$A$51,'TIME TABLE 2015-16'!F22,'TIME TABLE 2015-16'!G22,'TIME TABLE 2015-16'!I22,'TIME TABLE 2015-16'!J22,'TIME TABLE 2015-16'!K22,'TIME TABLE 2015-16'!L22,'TIME TABLE 2015-16'!M22,'TIME TABLE 2015-16'!N22,'TIME TABLE 2015-16'!O22,'TIME TABLE 2015-16'!H22)","v":"FYBA"},{"$f":"TT('TIME TABLE 2015-16'!$A$51,'TIME TABLE 2015-16'!F28,'TIME TABLE 2015-16'!G28,'TIME TABLE 2015-16'!I28,'TIME TABLE 2015-16'!J28,'TIME TABLE 2015-16'!K28,'TIME TABLE 2015-16'!L28,'TIME TABLE 2015-16'!M28,'TIME TABLE 2015-16'!N28,'TIME TABLE 2015-16'!O28,'TIME TABLE 2015-16'!H28)","v":"SYBA"},{"$f":"TT('TIME TABLE 2015-16'!$A$51,'TIME TABLE 2015-16'!F34,'TIME TABLE 2015-16'!G34,'TIME TABLE 2015-16'!I34,'TIME TABLE 2015-16'!J34,'TIME TABLE 2015-16'!K34,'TIME TABLE 2015-16'!L34,'TIME TABLE 2015-16'!M34,'TIME TABLE 2015-16'!N34,'TIME TABLE 2015-16'!O34,'TIME TABLE 2015-16'!H34)","v":"TYBA"},null,null,null,null,null,{"$f":"TT('TIME TABLE 2015-16'!$A$47,'TIME TABLE 2015-16'!F43,'TIME TABLE 2015-16'!G43,'TIME TABLE 2015-16'!I43,'TIME TABLE 2015-16'!J43,'TIME TABLE 2015-16'!K43,'TIME TABLE 2015-16'!L43,'TIME TABLE 2015-16'!M43,'TIME TABLE 2015-16'!N43,'TIME TABLE 2015-16'!O43,'TIME TABLE 2015-16'!H43)","v":"---"}]
["07:20:00",{"$f":"TT('TIME TABLE 2015-16'!$A$51,'TIME TABLE 2015-16'!F5,'TIME TABLE 2015-16'!G5,'TIME TABLE 2015-16'!I5,'TIME TABLE 2015-16'!J5,'TIME TABLE 2015-16'!K5,'TIME TABLE 2015-16'!L5,'TIME TABLE 2015-16'!M5,'TIME TABLE 2015-16'!N5,'TIME TABLE 2015-16'!O5,'TIME TABLE 2015-16'!H5)","v":"TYBA"},{"$f":"TT('TIME TABLE 2015-16'!$A$51,'TIME TABLE 2015-16'!F11,'TIME TABLE 2015-16'!G11,'TIME TABLE 2015-16'!I11,'TIME TABLE 2015-16'!J11,'TIME TABLE 2015-16'!K11,'TIME TABLE 2015-16'!L11,'TIME TABLE 2015-16'!M11,'TIME TABLE 2015-16'!N11,'TIME TABLE 2015-16'!O11,'TIME TABLE 2015-16'!H11)","v":"FYBA"},{"$f":"TT('TIME TABLE 2015-16'!$A$51,'TIME TABLE 2015-16'!F17,'TIME TABLE 2015-16'!G17,'TIME TABLE 2015-16'!I17,'TIME TABLE 2015-16'!J17,'TIME TABLE 2015-16'!K17,'TIME TABLE 2015-16'!L17,'TIME TABLE 2015-16'!M17,'TIME TABLE 2015-16'!N17,'TIME TABLE 2015-16'!O17,'TIME TABLE 2015-16'!H17)","v":"SYBA"},{"$f":"TT('TIME TABLE 2015-16'!$A$51,'TIME TABLE 2015-16'!F23,'TIME TABLE 2015-16'!G23,'TIME TABLE 2015-16'!I23,'TIME TABLE 2015-16'!J23,'TIME TABLE 2015-16'!K23,'TIME TABLE 2015-16'!L23,'TIME TABLE 2015-16'!M23,'TIME TABLE 2015-16'!N23,'TIME TABLE 2015-16'!O23,'TIME TABLE 2015-16'!H23)","v":"FYBA"},{"$f":"TT('TIME TABLE 2015-16'!$A$51,'TIME TABLE 2015-16'!F29,'TIME TABLE 2015-16'!G29,'TIME TABLE 2015-16'!I29,'TIME TABLE 2015-16'!J29,'TIME TABLE 2015-16'!K29,'TIME TABLE 2015-16'!L29,'TIME TABLE 2015-16'!M29,'TIME TABLE 2015-16'!N29,'TIME TABLE 2015-16'!O29,'TIME TABLE 2015-16'!H29)","v":"SYBA"},{"$f":"TT('TIME TABLE 2015-16'!$A$51,'TIME TABLE 2015-16'!F35,'TIME TABLE 2015-16'!G35,'TIME TABLE 2015-16'!I35,'TIME TABLE 2015-16'!J35,'TIME TABLE 2015-16'!K35,'TIME TABLE 2015-16'!L35,'TIME TABLE 2015-16'!M35,'TIME TABLE 2015-16'!N35,'TIME TABLE 2015-16'!O35,'TIME TABLE 2015-16'!H35)","v":"TYBA"},null,null,null,null,null,{"$f":"TT('TIME TABLE 2015-16'!$A$40,'TIME TABLE 2015-16'!F42,'TIME TABLE 2015-16'!G42,'TIME TABLE 2015-16'!I42,'TIME TABLE 2015-16'!J42,'TIME TABLE 2015-16'!K42,'TIME TABLE 2015-16'!L42,'TIME TABLE 2015-16'!M42,'TIME TABLE 2015-16'!N42,'TIME TABLE 2015-16'!O42,'TIME TABLE 2015-16'!H42)","v":"---"}]
["08:20:00",{"$f":"TT('TIME TABLE 2015-16'!$A$51,'TIME TABLE 2015-16'!F6,'TIME TABLE 2015-16'!G6,'TIME TABLE 2015-16'!I6,'TIME TABLE 2015-16'!J6,'TIME TABLE 2015-16'!K6,'TIME TABLE 2015-16'!L6,'TIME TABLE 2015-16'!M6,'TIME TABLE 2015-16'!N6,'TIME TABLE 2015-16'!O6,'TIME TABLE 2015-16'!H6)","v":"SYBA"},{"$f":"TT('TIME TABLE 2015-16'!$A$51,'TIME TABLE 2015-16'!F12,'TIME TABLE 2015-16'!G12,'TIME TABLE 2015-16'!I12,'TIME TABLE 2015-16'!J12,'TIME TABLE 2015-16'!K12,'TIME TABLE 2015-16'!L12,'TIME TABLE 2015-16'!M12,'TIME TABLE 2015-16'!N12,'TIME TABLE 2015-16'!O12,'TIME TABLE 2015-16'!H12)","v":"TYBA"},{"$f":"TT('TIME TABLE 2015-16'!$A$51,'TIME TABLE 2015-16'!F18,'TIME TABLE 2015-16'!G18,'TIME TABLE 2015-16'!I18,'TIME TABLE 2015-16'!J18,'TIME TABLE 2015-16'!K18,'TIME TABLE 2015-16'!L18,'TIME TABLE 2015-16'!M18,'TIME TABLE 2015-16'!N18,'TIME TABLE 2015-16'!O18,'TIME TABLE 2015-16'!H18)","v":"TYBA"},{"$f":"TT('TIME TABLE 2015-16'!$A$51,'TIME TABLE 2015-16'!F24,'TIME TABLE 2015-16'!G24,'TIME TABLE 2015-16'!I24,'TIME TABLE 2015-16'!J24,'TIME TABLE 2015-16'!K24,'TIME TABLE 2015-16'!L24,'TIME TABLE 2015-16'!M24,'TIME TABLE 2015-16'!N24,'TIME TABLE 2015-16'!O24,'TIME TABLE 2015-16'!H24)","v":"TYBA"},{"$f":"TT('TIME TABLE 2015-16'!$A$51,'TIME TABLE 2015-16'!F30,'TIME TABLE 2015-16'!G30,'TIME TABLE 2015-16'!I30,'TIME TABLE 2015-16'!J30,'TIME TABLE 2015-16'!K30,'TIME TABLE 2015-16'!L30,'TIME TABLE 2015-16'!M30,'TIME TABLE 2015-16'!N30,'TIME TABLE 2015-16'!O30,'TIME TABLE 2015-16'!H30)","v":"---"},{"$f":"TT('TIME TABLE 2015-16'!$A$51,'TIME TABLE 2015-16'!F36,'TIME TABLE 2015-16'!G36,'TIME TABLE 2015-16'!I36,'TIME TABLE 2015-16'!J36,'TIME TABLE 2015-16'!K36,'TIME TABLE 2015-16'!L36,'TIME TABLE 2015-16'!M36,'TIME TABLE 2015-16'!N36,'TIME TABLE 2015-16'!O36,'TIME TABLE 2015-16'!H36)","v":"---"},null,null,null,null,null,{"$f":"TT('TIME TABLE 2015-16'!$A$40,'TIME TABLE 2015-16'!F43,'TIME TABLE 2015-16'!G43,'TIME TABLE 2015-16'!I43,'TIME TABLE 2015-16'!J43,'TIME TABLE 2015-16'!K43,'TIME TABLE 2015-16'!L43,'TIME TABLE 2015-16'!M43,'TIME TABLE 2015-16'!N43,'TIME TABLE 2015-16'!O43,'TIME TABLE 2015-16'!H43)","v":"---"}]
["09:10:00",{"$f":"TT('TIME TABLE 2015-16'!$A$51,'TIME TABLE 2015-16'!F7,'TIME TABLE 2015-16'!G7,'TIME TABLE 2015-16'!I7,'TIME TABLE 2015-16'!J7,'TIME TABLE 2015-16'!K7,'TIME TABLE 2015-16'!L7,'TIME TABLE 2015-16'!M7,'TIME TABLE 2015-16'!N7,'TIME TABLE 2015-16'!O7,'TIME TABLE 2015-16'!H7)","v":"SYBA"},{"$f":"TT('TIME TABLE 2015-16'!$A$51,'TIME TABLE 2015-16'!F13,'TIME TABLE 2015-16'!G13,'TIME TABLE 2015-16'!I13,'TIME TABLE 2015-16'!J13,'TIME TABLE 2015-16'!K13,'TIME TABLE 2015-16'!L13,'TIME TABLE 2015-16'!M13,'TIME TABLE 2015-16'!N13,'TIME TABLE 2015-16'!O13,'TIME TABLE 2015-16'!H13)","v":"TYBA"},{"$f":"TT('TIME TABLE 2015-16'!$A$51,'TIME TABLE 2015-16'!F19,'TIME TABLE 2015-16'!G19,'TIME TABLE 2015-16'!I19,'TIME TABLE 2015-16'!J19,'TIME TABLE 2015-16'!K19,'TIME TABLE 2015-16'!L19,'TIME TABLE 2015-16'!M19,'TIME TABLE 2015-16'!N19,'TIME TABLE 2015-16'!O19,'TIME TABLE 2015-16'!H19)","v":"TYBA"},{"$f":"TT('TIME TABLE 2015-16'!$A$51,'TIME TABLE 2015-16'!F25,'TIME TABLE 2015-16'!G25,'TIME TABLE 2015-16'!I25,'TIME TABLE 2015-16'!J25,'TIME TABLE 2015-16'!K25,'TIME TABLE 2015-16'!L25,'TIME TABLE 2015-16'!M25,'TIME TABLE 2015-16'!N25,'TIME TABLE 2015-16'!O25,'TIME TABLE 2015-16'!H25)","v":"---"},{"$f":"TT('TIME TABLE 2015-16'!$A$51,'TIME TABLE 2015-16'!F31,'TIME TABLE 2015-16'!G31,'TIME TABLE 2015-16'!I31,'TIME TABLE 2015-16'!J31,'TIME TABLE 2015-16'!K31,'TIME TABLE 2015-16'!L31,'TIME TABLE 2015-16'!M31,'TIME TABLE 2015-16'!N31,'TIME TABLE 2015-16'!O31,'TIME TABLE 2015-16'!H31)","v":"---"},{"$f":"TT('TIME TABLE 2015-16'!$A$51,'TIME TABLE 2015-16'!F37,'TIME TABLE 2015-16'!G37,'TIME TABLE 2015-16'!I37,'TIME TABLE 2015-16'!J37,'TIME TABLE 2015-16'!K37,'TIME TABLE 2015-16'!L37,'TIME TABLE 2015-16'!M37,'TIME TABLE 2015-16'!N37,'TIME TABLE 2015-16'!O37,'TIME TABLE 2015-16'!H37)","v":"---"},{"$f":"36-(COUNTIF(B120:G125,\"---\"))","v":21},null,null,null,null,{"$f":"TT('TIME TABLE 2015-16'!$A$40,'TIME TABLE 2015-16'!F44,'TIME TABLE 2015-16'!G44,'TIME TABLE 2015-16'!I44,'TIME TABLE 2015-16'!J44,'TIME TABLE 2015-16'!K44,'TIME TABLE 2015-16'!L44,'TIME TABLE 2015-16'!M44,'TIME TABLE 2015-16'!N44,'TIME TABLE 2015-16'!O44,'TIME TABLE 2015-16'!H44)","v":"---"}]
[]
[null,{"$f":"'TIME TABLE 2015-16'!A52","v":"Dengle"},null,null,null,null,null,null,null,null,null,null,{"$f":"TT('TIME TABLE 2015-16'!$A$53,'TIME TABLE 2015-16'!F38,'TIME TABLE 2015-16'!G38,'TIME TABLE 2015-16'!I38,'TIME TABLE 2015-16'!J38,'TIME TABLE 2015-16'!K38,'TIME TABLE 2015-16'!L38,'TIME TABLE 2015-16'!M38,'TIME TABLE 2015-16'!N38,'TIME TABLE 2015-16'!O38,'TIME TABLE 2015-16'!H38)","v":"---"}]
[null,"M","T","W","T","F","S",null,null,null,null,null,{"$f":"TT('TIME TABLE 2015-16'!$A$53,'TIME TABLE 2015-16'!F39,'TIME TABLE 2015-16'!G39,'TIME TABLE 2015-16'!I39,'TIME TABLE 2015-16'!J39,'TIME TABLE 2015-16'!K39,'TIME TABLE 2015-16'!L39,'TIME TABLE 2015-16'!M39,'TIME TABLE 2015-16'!N39,'TIME TABLE 2015-16'!O39,'TIME TABLE 2015-16'!H39)","v":"---"}]
["04:50:00",{"$f":"TT('TIME TABLE 2015-16'!$A$52,'TIME TABLE 2015-16'!F2,'TIME TABLE 2015-16'!G2,'TIME TABLE 2015-16'!I2,'TIME TABLE 2015-16'!J2,'TIME TABLE 2015-16'!K2,'TIME TABLE 2015-16'!L2,'TIME TABLE 2015-16'!M2,'TIME TABLE 2015-16'!N2,'TIME TABLE 2015-16'!O2,'TIME TABLE 2015-16'!H2)","v":"FYBCOM A"},{"$f":"TT('TIME TABLE 2015-16'!$A$52,'TIME TABLE 2015-16'!F8,'TIME TABLE 2015-16'!G8,'TIME TABLE 2015-16'!I8,'TIME TABLE 2015-16'!J8,'TIME TABLE 2015-16'!K8,'TIME TABLE 2015-16'!L8,'TIME TABLE 2015-16'!M8,'TIME TABLE 2015-16'!N8,'TIME TABLE 2015-16'!O8,'TIME TABLE 2015-16'!H8)","v":"FYBCOM B"},{"$f":"TT('TIME TABLE 2015-16'!$A$52,'TIME TABLE 2015-16'!F14,'TIME TABLE 2015-16'!G14,'TIME TABLE 2015-16'!I14,'TIME TABLE 2015-16'!J14,'TIME TABLE 2015-16'!K14,'TIME TABLE 2015-16'!L14,'TIME TABLE 2015-16'!M14,'TIME TABLE 2015-16'!N14,'TIME TABLE 2015-16'!O14,'TIME TABLE 2015-16'!H14)","v":"FYBCOM B"},{"$f":"TT('TIME TABLE 2015-16'!$A$52,'TIME TABLE 2015-16'!F20,'TIME TABLE 2015-16'!G20,'TIME TABLE 2015-16'!I20,'TIME TABLE 2015-16'!J20,'TIME TABLE 2015-16'!K20,'TIME TABLE 2015-16'!L20,'TIME TABLE 2015-16'!M20,'TIME TABLE 2015-16'!N20,'TIME TABLE 2015-16'!O20,'TIME TABLE 2015-16'!H20)","v":"FYBCOM A"},{"$f":"TT('TIME TABLE 2015-16'!$A$52,'TIME TABLE 2015-16'!F26,'TIME TABLE 2015-16'!G26,'TIME TABLE 2015-16'!I26,'TIME TABLE 2015-16'!J26,'TIME TABLE 2015-16'!K26,'TIME TABLE 2015-16'!L26,'TIME TABLE 2015-16'!M26,'TIME TABLE 2015-16'!N26,'TIME TABLE 2015-16'!O26,'TIME TABLE 2015-16'!H26)","v":"FYBA"},{"$f":"TT('TIME TABLE 2015-16'!$A$52,'TIME TABLE 2015-16'!F32,'TIME TABLE 2015-16'!G32,'TIME TABLE 2015-16'!I32,'TIME TABLE 2015-16'!J32,'TIME TABLE 2015-16'!K32,'TIME TABLE 2015-16'!L32,'TIME TABLE 2015-16'!M32,'TIME TABLE 2015-16'!N32,'TIME TABLE 2015-16'!O32,'TIME TABLE 2015-16'!H32)","v":"FYBA"},null,null,null,null,null,{"$f":"TT('TIME TABLE 2015-16'!$A$53,'TIME TABLE 2015-16'!F40,'TIME TABLE 2015-16'!G40,'TIME TABLE 2015-16'!I40,'TIME TABLE 2015-16'!J40,'TIME TABLE 2015-16'!K40,'TIME TABLE 2015-16'!L40,'TIME TABLE 2015-16'!M40,'TIME TABLE 2015-16'!N40,'TIME TABLE 2015-16'!O40,'TIME TABLE 2015-16'!H40)","v":"---"}]
["05:40:00",{"$f":"TT('TIME TABLE 2015-16'!$A$52,'TIME TABLE 2015-16'!F3,'TIME TABLE 2015-16'!G3,'TIME TABLE 2015-16'!I3,'TIME TABLE 2015-16'!J3,'TIME TABLE 2015-16'!K3,'TIME TABLE 2015-16'!L3,'TIME TABLE 2015-16'!M3,'TIME TABLE 2015-16'!N3,'TIME TABLE 2015-16'!O3,'TIME TABLE 2015-16'!H3)","v":"FYBCOM B"},{"$f":"TT('TIME TABLE 2015-16'!$A$52,'TIME TABLE 2015-16'!F9,'TIME TABLE 2015-16'!G9,'TIME TABLE 2015-16'!I9,'TIME TABLE 2015-16'!J9,'TIME TABLE 2015-16'!K9,'TIME TABLE 2015-16'!L9,'TIME TABLE 2015-16'!M9,'TIME TABLE 2015-16'!N9,'TIME TABLE 2015-16'!O9,'TIME TABLE 2015-16'!H9)","v":"FYBCOM A"},{"$f":"TT('TIME TABLE 2015-16'!$A$52,'TIME TABLE 2015-16'!F15,'TIME TABLE 2015-16'!G15,'TIME TABLE 2015-16'!I15,'TIME TABLE 2015-16'!J15,'TIME TABLE 2015-16'!K15,'TIME TABLE 2015-16'!L15,'TIME TABLE 2015-16'!M15,'TIME TABLE 2015-16'!N15,'TIME TABLE 2015-16'!O15,'TIME TABLE 2015-16'!H15)","v":"FYBCOM A"},{"$f":"TT('TIME TABLE 2015-16'!$A$52,'TIME TABLE 2015-16'!F21,'TIME TABLE 2015-16'!G21,'TIME TABLE 2015-16'!I21,'TIME TABLE 2015-16'!J21,'TIME TABLE 2015-16'!K21,'TIME TABLE 2015-16'!L21,'TIME TABLE 2015-16'!M21,'TIME TABLE 2015-16'!N21,'TIME TABLE 2015-16'!O21,'TIME TABLE 2015-16'!H21)","v":"FYBCOM B"},{"$f":"TT('TIME TABLE 2015-16'!$A$52,'TIME TABLE 2015-16'!F27,'TIME TABLE 2015-16'!G27,'TIME TABLE 2015-16'!I27,'TIME TABLE 2015-16'!J27,'TIME TABLE 2015-16'!K27,'TIME TABLE 2015-16'!L27,'TIME TABLE 2015-16'!M27,'TIME TABLE 2015-16'!N27,'TIME TABLE 2015-16'!O27,'TIME TABLE 2015-16'!H27)","v":"FYBA"},{"$f":"TT('TIME TABLE 2015-16'!$A$52,'TIME TABLE 2015-16'!F33,'TIME TABLE 2015-16'!G33,'TIME TABLE 2015-16'!I33,'TIME TABLE 2015-16'!J33,'TIME TABLE 2015-16'!K33,'TIME TABLE 2015-16'!L33,'TIME TABLE 2015-16'!M33,'TIME TABLE 2015-16'!N33,'TIME TABLE 2015-16'!O33,'TIME TABLE 2015-16'!H33)","v":"FYBA"},null,null,null,null,null,{"$f":"TT('TIME TABLE 2015-16'!$A$53,'TIME TABLE 2015-16'!F41,'TIME TABLE 2015-16'!G41,'TIME TABLE 2015-16'!I41,'TIME TABLE 2015-16'!J41,'TIME TABLE 2015-16'!K41,'TIME TABLE 2015-16'!L41,'TIME TABLE 2015-16'!M41,'TIME TABLE 2015-16'!N41,'TIME TABLE 2015-16'!O41,'TIME TABLE 2015-16'!H41)","v":"---"}]
["06:30:00",{"$f":"TT('TIME TABLE 2015-16'!$A$52,'TIME TABLE 2015-16'!F4,'TIME TABLE 2015-16'!G4,'TIME TABLE 2015-16'!I4,'TIME TABLE 2015-16'!J4,'TIME TABLE 2015-16'!K4,'TIME TABLE 2015-16'!L4,'TIME TABLE 2015-16'!M4,'TIME TABLE 2015-16'!N4,'TIME TABLE 2015-16'!O4,'TIME TABLE 2015-16'!H4)","v":"FYBA"},{"$f":"TT('TIME TABLE 2015-16'!$A$52,'TIME TABLE 2015-16'!F10,'TIME TABLE 2015-16'!G10,'TIME TABLE 2015-16'!I10,'TIME TABLE 2015-16'!J10,'TIME TABLE 2015-16'!K10,'TIME TABLE 2015-16'!L10,'TIME TABLE 2015-16'!M10,'TIME TABLE 2015-16'!N10,'TIME TABLE 2015-16'!O10,'TIME TABLE 2015-16'!H10)","v":"FYBCOM B"},{"$f":"TT('TIME TABLE 2015-16'!$A$52,'TIME TABLE 2015-16'!F16,'TIME TABLE 2015-16'!G16,'TIME TABLE 2015-16'!I16,'TIME TABLE 2015-16'!J16,'TIME TABLE 2015-16'!K16,'TIME TABLE 2015-16'!L16,'TIME TABLE 2015-16'!M16,'TIME TABLE 2015-16'!N16,'TIME TABLE 2015-16'!O16,'TIME TABLE 2015-16'!H16)","v":"---"},{"$f":"TT('TIME TABLE 2015-16'!$A$52,'TIME TABLE 2015-16'!F22,'TIME TABLE 2015-16'!G22,'TIME TABLE 2015-16'!I22,'TIME TABLE 2015-16'!J22,'TIME TABLE 2015-16'!K22,'TIME TABLE 2015-16'!L22,'TIME TABLE 2015-16'!M22,'TIME TABLE 2015-16'!N22,'TIME TABLE 2015-16'!O22,'TIME TABLE 2015-16'!H22)","v":"FYBCOM C"},{"$f":"TT('TIME TABLE 2015-16'!$A$52,'TIME TABLE 2015-16'!F28,'TIME TABLE 2015-16'!G28,'TIME TABLE 2015-16'!I28,'TIME TABLE 2015-16'!J28,'TIME TABLE 2015-16'!K28,'TIME TABLE 2015-16'!L28,'TIME TABLE 2015-16'!M28,'TIME TABLE 2015-16'!N28,'TIME TABLE 2015-16'!O28,'TIME TABLE 2015-16'!H28)","v":"---"},{"$f":"TT('TIME TABLE 2015-16'!$A$52,'TIME TABLE 2015-16'!F34,'TIME TABLE 2015-16'!G34,'TIME TABLE 2015-16'!I34,'TIME TABLE 2015-16'!J34,'TIME TABLE 2015-16'!K34,'TIME TABLE 2015-16'!L34,'TIME TABLE 2015-16'!M34,'TIME TABLE 2015-16'!N34,'TIME TABLE 2015-16'!O34,'TIME TABLE 2015-16'!H34)","v":"---"},null,null,null,null,null,{"$f":"TT('TIME TABLE 2015-16'!$A$53,'TIME TABLE 2015-16'!F42,'TIME TABLE 2015-16'!G42,'TIME TABLE 2015-16'!I42,'TIME TABLE 2015-16'!J42,'TIME TABLE 2015-16'!K42,'TIME TABLE 2015-16'!L42,'TIME TABLE 2015-16'!M42,'TIME TABLE 2015-16'!N42,'TIME TABLE 2015-16'!O42,'TIME TABLE 2015-16'!H42)","v":"---"}]
["07:20:00",{"$f":"TT('TIME TABLE 2015-16'!$A$52,'TIME TABLE 2015-16'!F5,'TIME TABLE 2015-16'!G5,'TIME TABLE 2015-16'!I5,'TIME TABLE 2015-16'!J5,'TIME TABLE 2015-16'!K5,'TIME TABLE 2015-16'!L5,'TIME TABLE 2015-16'!M5,'TIME TABLE 2015-16'!N5,'TIME TABLE 2015-16'!O5,'TIME TABLE 2015-16'!H5)","v":"---"},{"$f":"TT('TIME TABLE 2015-16'!$A$52,'TIME TABLE 2015-16'!F11,'TIME TABLE 2015-16'!G11,'TIME TABLE 2015-16'!I11,'TIME TABLE 2015-16'!J11,'TIME TABLE 2015-16'!K11,'TIME TABLE 2015-16'!L11,'TIME TABLE 2015-16'!M11,'TIME TABLE 2015-16'!N11,'TIME TABLE 2015-16'!O11,'TIME TABLE 2015-16'!H11)","v":"FYBCOM A"},{"$f":"TT('TIME TABLE 2015-16'!$A$52,'TIME TABLE 2015-16'!F17,'TIME TABLE 2015-16'!G17,'TIME TABLE 2015-16'!I17,'TIME TABLE 2015-16'!J17,'TIME TABLE 2015-16'!K17,'TIME TABLE 2015-16'!L17,'TIME TABLE 2015-16'!M17,'TIME TABLE 2015-16'!N17,'TIME TABLE 2015-16'!O17,'TIME TABLE 2015-16'!H17)","v":"---"},{"$f":"TT('TIME TABLE 2015-16'!$A$52,'TIME TABLE 2015-16'!F23,'TIME TABLE 2015-16'!G23,'TIME TABLE 2015-16'!I23,'TIME TABLE 2015-16'!J23,'TIME TABLE 2015-16'!K23,'TIME TABLE 2015-16'!L23,'TIME TABLE 2015-16'!M23,'TIME TABLE 2015-16'!N23,'TIME TABLE 2015-16'!O23,'TIME TABLE 2015-16'!H23)","v":"FYBCOM A"},{"$f":"TT('TIME TABLE 2015-16'!$A$52,'TIME TABLE 2015-16'!F29,'TIME TABLE 2015-16'!G29,'TIME TABLE 2015-16'!I29,'TIME TABLE 2015-16'!J29,'TIME TABLE 2015-16'!K29,'TIME TABLE 2015-16'!L29,'TIME TABLE 2015-16'!M29,'TIME TABLE 2015-16'!N29,'TIME TABLE 2015-16'!O29,'TIME TABLE 2015-16'!H29)","v":"---"},{"$f":"TT('TIME TABLE 2015-16'!$A$52,'TIME TABLE 2015-16'!F35,'TIME TABLE 2015-16'!G35,'TIME TABLE 2015-16'!I35,'TIME TABLE 2015-16'!J35,'TIME TABLE 2015-16'!K35,'TIME TABLE 2015-16'!L35,'TIME TABLE 2015-16'!M35,'TIME TABLE 2015-16'!N35,'TIME TABLE 2015-16'!O35,'TIME TABLE 2015-16'!H35)","v":"FYBA"},null,null,null,null,null,{"$f":"TT('TIME TABLE 2015-16'!$A$53,'TIME TABLE 2015-16'!F43,'TIME TABLE 2015-16'!G43,'TIME TABLE 2015-16'!I43,'TIME TABLE 2015-16'!J43,'TIME TABLE 2015-16'!K43,'TIME TABLE 2015-16'!L43,'TIME TABLE 2015-16'!M43,'TIME TABLE 2015-16'!N43,'TIME TABLE 2015-16'!O43,'TIME TABLE 2015-16'!H43)","v":"---"}]
["08:20:00",{"$f":"TT('TIME TABLE 2015-16'!$A$52,'TIME TABLE 2015-16'!F6,'TIME TABLE 2015-16'!G6,'TIME TABLE 2015-16'!I6,'TIME TABLE 2015-16'!J6,'TIME TABLE 2015-16'!K6,'TIME TABLE 2015-16'!L6,'TIME TABLE 2015-16'!M6,'TIME TABLE 2015-16'!N6,'TIME TABLE 2015-16'!O6,'TIME TABLE 2015-16'!H6)","v":"FYBCOM B"},{"$f":"TT('TIME TABLE 2015-16'!$A$52,'TIME TABLE 2015-16'!F12,'TIME TABLE 2015-16'!G12,'TIME TABLE 2015-16'!I12,'TIME TABLE 2015-16'!J12,'TIME TABLE 2015-16'!K12,'TIME TABLE 2015-16'!L12,'TIME TABLE 2015-16'!M12,'TIME TABLE 2015-16'!N12,'TIME TABLE 2015-16'!O12,'TIME TABLE 2015-16'!H12)","v":"---"},{"$f":"TT('TIME TABLE 2015-16'!$A$52,'TIME TABLE 2015-16'!F18,'TIME TABLE 2015-16'!G18,'TIME TABLE 2015-16'!I18,'TIME TABLE 2015-16'!J18,'TIME TABLE 2015-16'!K18,'TIME TABLE 2015-16'!L18,'TIME TABLE 2015-16'!M18,'TIME TABLE 2015-16'!N18,'TIME TABLE 2015-16'!O18,'TIME TABLE 2015-16'!H18)","v":"FYBCOM C"},{"$f":"TT('TIME TABLE 2015-16'!$A$52,'TIME TABLE 2015-16'!F24,'TIME TABLE 2015-16'!G24,'TIME TABLE 2015-16'!I24,'TIME TABLE 2015-16'!J24,'TIME TABLE 2015-16'!K24,'TIME TABLE 2015-16'!L24,'TIME TABLE 2015-16'!M24,'TIME TABLE 2015-16'!N24,'TIME TABLE 2015-16'!O24,'TIME TABLE 2015-16'!H24)","v":"---"},{"$f":"TT('TIME TABLE 2015-16'!$A$52,'TIME TABLE 2015-16'!F30,'TIME TABLE 2015-16'!G30,'TIME TABLE 2015-16'!I30,'TIME TABLE 2015-16'!J30,'TIME TABLE 2015-16'!K30,'TIME TABLE 2015-16'!L30,'TIME TABLE 2015-16'!M30,'TIME TABLE 2015-16'!N30,'TIME TABLE 2015-16'!O30,'TIME TABLE 2015-16'!H30)","v":"FYBA"},{"$f":"TT('TIME TABLE 2015-16'!$A$52,'TIME TABLE 2015-16'!F36,'TIME TABLE 2015-16'!G36,'TIME TABLE 2015-16'!I36,'TIME TABLE 2015-16'!J36,'TIME TABLE 2015-16'!K36,'TIME TABLE 2015-16'!L36,'TIME TABLE 2015-16'!M36,'TIME TABLE 2015-16'!N36,'TIME TABLE 2015-16'!O36,'TIME TABLE 2015-16'!H36)","v":"---"},null,null,null,null,null,{"$f":"TT('TIME TABLE 2015-16'!$A$53,'TIME TABLE 2015-16'!F44,'TIME TABLE 2015-16'!G44,'TIME TABLE 2015-16'!I44,'TIME TABLE 2015-16'!J44,'TIME TABLE 2015-16'!K44,'TIME TABLE 2015-16'!L44,'TIME TABLE 2015-16'!M44,'TIME TABLE 2015-16'!N44,'TIME TABLE 2015-16'!O44,'TIME TABLE 2015-16'!H44)","v":"---"}]
["09:10:00",{"$f":"TT('TIME TABLE 2015-16'!$A$52,'TIME TABLE 2015-16'!F7,'TIME TABLE 2015-16'!G7,'TIME TABLE 2015-16'!I7,'TIME TABLE 2015-16'!J7,'TIME TABLE 2015-16'!K7,'TIME TABLE 2015-16'!L7,'TIME TABLE 2015-16'!M7,'TIME TABLE 2015-16'!N7,'TIME TABLE 2015-16'!O7,'TIME TABLE 2015-16'!H7)","v":"---"},{"$f":"TT('TIME TABLE 2015-16'!$A$52,'TIME TABLE 2015-16'!F13,'TIME TABLE 2015-16'!G13,'TIME TABLE 2015-16'!I13,'TIME TABLE 2015-16'!J13,'TIME TABLE 2015-16'!K13,'TIME TABLE 2015-16'!L13,'TIME TABLE 2015-16'!M13,'TIME TABLE 2015-16'!N13,'TIME TABLE 2015-16'!O13,'TIME TABLE 2015-16'!H13)","v":"---"},{"$f":"TT('TIME TABLE 2015-16'!$A$52,'TIME TABLE 2015-16'!F19,'TIME TABLE 2015-16'!G19,'TIME TABLE 2015-16'!I19,'TIME TABLE 2015-16'!J19,'TIME TABLE 2015-16'!K19,'TIME TABLE 2015-16'!L19,'TIME TABLE 2015-16'!M19,'TIME TABLE 2015-16'!N19,'TIME TABLE 2015-16'!O19,'TIME TABLE 2015-16'!H19)","v":"FYBCOM C"},{"$f":"TT('TIME TABLE 2015-16'!$A$52,'TIME TABLE 2015-16'!F25,'TIME TABLE 2015-16'!G25,'TIME TABLE 2015-16'!I25,'TIME TABLE 2015-16'!J25,'TIME TABLE 2015-16'!K25,'TIME TABLE 2015-16'!L25,'TIME TABLE 2015-16'!M25,'TIME TABLE 2015-16'!N25,'TIME TABLE 2015-16'!O25,'TIME TABLE 2015-16'!H25)","v":"FYBCOM B"},{"$f":"TT('TIME TABLE 2015-16'!$A$52,'TIME TABLE 2015-16'!F31,'TIME TABLE 2015-16'!G31,'TIME TABLE 2015-16'!I31,'TIME TABLE 2015-16'!J31,'TIME TABLE 2015-16'!K31,'TIME TABLE 2015-16'!L31,'TIME TABLE 2015-16'!M31,'TIME TABLE 2015-16'!N31,'TIME TABLE 2015-16'!O31,'TIME TABLE 2015-16'!H31)","v":"---"},{"$f":"TT('TIME TABLE 2015-16'!$A$52,'TIME TABLE 2015-16'!F37,'TIME TABLE 2015-16'!G37,'TIME TABLE 2015-16'!I37,'TIME TABLE 2015-16'!J37,'TIME TABLE 2015-16'!K37,'TIME TABLE 2015-16'!L37,'TIME TABLE 2015-16'!M37,'TIME TABLE 2015-16'!N37,'TIME TABLE 2015-16'!O37,'TIME TABLE 2015-16'!H37)","v":"FYBCOM A"},{"$f":"36-(COUNTIF(B129:G134,\"---\"))","v":24},null,null,null,null,{"$f":"TT('TIME TABLE 2015-16'!$A$53,'TIME TABLE 2015-16'!F45,'TIME TABLE 2015-16'!G45,'TIME TABLE 2015-16'!I45,'TIME TABLE 2015-16'!J45,'TIME TABLE 2015-16'!K45,'TIME TABLE 2015-16'!L45,'TIME TABLE 2015-16'!M45,'TIME TABLE 2015-16'!N45,'TIME TABLE 2015-16'!O45,'TIME TABLE 2015-16'!H45)","v":"---"}]
[null,null,null,null,null,null,null,null,null,null,null,null,{"$f":"TT('TIME TABLE 2015-16'!$A$53,'TIME TABLE 2015-16'!F46,'TIME TABLE 2015-16'!G46,'TIME TABLE 2015-16'!I46,'TIME TABLE 2015-16'!J46,'TIME TABLE 2015-16'!K46,'TIME TABLE 2015-16'!L46,'TIME TABLE 2015-16'!M46,'TIME TABLE 2015-16'!N46,'TIME TABLE 2015-16'!O46,'TIME TABLE 2015-16'!H46)","v":"---"}]
[null,{"$f":"'TIME TABLE 2015-16'!A49","v":"Sawant"},null,null,null,null,null,null,null,null,null,null,{"$f":"TT('TIME TABLE 2015-16'!$A$53,'TIME TABLE 2015-16'!F47,'TIME TABLE 2015-16'!G47,'TIME TABLE 2015-16'!I47,'TIME TABLE 2015-16'!J47,'TIME TABLE 2015-16'!K47,'TIME TABLE 2015-16'!L47,'TIME TABLE 2015-16'!M47,'TIME TABLE 2015-16'!N47,'TIME TABLE 2015-16'!O47,'TIME TABLE 2015-16'!H47)","v":"---"}]
[null,"M","T","W","T","F","S",null,null,null,null,null,{"$f":"TT('TIME TABLE 2015-16'!$A$53,'TIME TABLE 2015-16'!F48,'TIME TABLE 2015-16'!G48,'TIME TABLE 2015-16'!I48,'TIME TABLE 2015-16'!J48,'TIME TABLE 2015-16'!K48,'TIME TABLE 2015-16'!L48,'TIME TABLE 2015-16'!M48,'TIME TABLE 2015-16'!N48,'TIME TABLE 2015-16'!O48,'TIME TABLE 2015-16'!H48)","v":"---"}]
["04:50:00",{"$f":"TT('TIME TABLE 2015-16'!$A$49,'TIME TABLE 2015-16'!F2,'TIME TABLE 2015-16'!G2,'TIME TABLE 2015-16'!I2,'TIME TABLE 2015-16'!J2,'TIME TABLE 2015-16'!K2,'TIME TABLE 2015-16'!L2,'TIME TABLE 2015-16'!M2,'TIME TABLE 2015-16'!N2,'TIME TABLE 2015-16'!O2,'TIME TABLE 2015-16'!H2)","v":"---"},{"$f":"TT('TIME TABLE 2015-16'!$A$49,'TIME TABLE 2015-16'!F8,'TIME TABLE 2015-16'!G8,'TIME TABLE 2015-16'!I8,'TIME TABLE 2015-16'!J8,'TIME TABLE 2015-16'!K8,'TIME TABLE 2015-16'!L8,'TIME TABLE 2015-16'!M8,'TIME TABLE 2015-16'!N8,'TIME TABLE 2015-16'!O8,'TIME TABLE 2015-16'!H8)","v":"---"},{"$f":"TT('TIME TABLE 2015-16'!$A$49,'TIME TABLE 2015-16'!F14,'TIME TABLE 2015-16'!G14,'TIME TABLE 2015-16'!I14,'TIME TABLE 2015-16'!J14,'TIME TABLE 2015-16'!K14,'TIME TABLE 2015-16'!L14,'TIME TABLE 2015-16'!M14,'TIME TABLE 2015-16'!N14,'TIME TABLE 2015-16'!O14,'TIME TABLE 2015-16'!H14)","v":"---"},{"$f":"TT('TIME TABLE 2015-16'!$A$49,'TIME TABLE 2015-16'!F20,'TIME TABLE 2015-16'!G20,'TIME TABLE 2015-16'!I20,'TIME TABLE 2015-16'!J20,'TIME TABLE 2015-16'!K20,'TIME TABLE 2015-16'!L20,'TIME TABLE 2015-16'!M20,'TIME TABLE 2015-16'!N20,'TIME TABLE 2015-16'!O20,'TIME TABLE 2015-16'!H20)","v":"---"},{"$f":"TT('TIME TABLE 2015-16'!$A$49,'TIME TABLE 2015-16'!F26,'TIME TABLE 2015-16'!G26,'TIME TABLE 2015-16'!I26,'TIME TABLE 2015-16'!J26,'TIME TABLE 2015-16'!K26,'TIME TABLE 2015-16'!L26,'TIME TABLE 2015-16'!M26,'TIME TABLE 2015-16'!N26,'TIME TABLE 2015-16'!O26,'TIME TABLE 2015-16'!H26)","v":"---"},{"$f":"TT('TIME TABLE 2015-16'!$A$49,'TIME TABLE 2015-16'!F32,'TIME TABLE 2015-16'!G32,'TIME TABLE 2015-16'!I32,'TIME TABLE 2015-16'!J32,'TIME TABLE 2015-16'!K32,'TIME TABLE 2015-16'!L32,'TIME TABLE 2015-16'!M32,'TIME TABLE 2015-16'!N32,'TIME TABLE 2015-16'!O32,'TIME TABLE 2015-16'!H32)","v":"---"},null,null,null,null,null,{"$f":"TT('TIME TABLE 2015-16'!$A$53,'TIME TABLE 2015-16'!F49,'TIME TABLE 2015-16'!G49,'TIME TABLE 2015-16'!I49,'TIME TABLE 2015-16'!J49,'TIME TABLE 2015-16'!K49,'TIME TABLE 2015-16'!L49,'TIME TABLE 2015-16'!M49,'TIME TABLE 2015-16'!N49,'TIME TABLE 2015-16'!O49,'TIME TABLE 2015-16'!H49)","v":"---"}]
["05:40:00",{"$f":"TT('TIME TABLE 2015-16'!$A$49,'TIME TABLE 2015-16'!F3,'TIME TABLE 2015-16'!G3,'TIME TABLE 2015-16'!I3,'TIME TABLE 2015-16'!J3,'TIME TABLE 2015-16'!K3,'TIME TABLE 2015-16'!L3,'TIME TABLE 2015-16'!M3,'TIME TABLE 2015-16'!N3,'TIME TABLE 2015-16'!O3,'TIME TABLE 2015-16'!H3)","v":"---"},{"$f":"TT('TIME TABLE 2015-16'!$A$49,'TIME TABLE 2015-16'!F9,'TIME TABLE 2015-16'!G9,'TIME TABLE 2015-16'!I9,'TIME TABLE 2015-16'!J9,'TIME TABLE 2015-16'!K9,'TIME TABLE 2015-16'!L9,'TIME TABLE 2015-16'!M9,'TIME TABLE 2015-16'!N9,'TIME TABLE 2015-16'!O9,'TIME TABLE 2015-16'!H9)","v":"---"},{"$f":"TT('TIME TABLE 2015-16'!$A$49,'TIME TABLE 2015-16'!F15,'TIME TABLE 2015-16'!G15,'TIME TABLE 2015-16'!I15,'TIME TABLE 2015-16'!J15,'TIME TABLE 2015-16'!K15,'TIME TABLE 2015-16'!L15,'TIME TABLE 2015-16'!M15,'TIME TABLE 2015-16'!N15,'TIME TABLE 2015-16'!O15,'TIME TABLE 2015-16'!H15)","v":"---"},{"$f":"TT('TIME TABLE 2015-16'!$A$49,'TIME TABLE 2015-16'!F21,'TIME TABLE 2015-16'!G21,'TIME TABLE 2015-16'!I21,'TIME TABLE 2015-16'!J21,'TIME TABLE 2015-16'!K21,'TIME TABLE 2015-16'!L21,'TIME TABLE 2015-16'!M21,'TIME TABLE 2015-16'!N21,'TIME TABLE 2015-16'!O21,'TIME TABLE 2015-16'!H21)","v":"---"},{"$f":"TT('TIME TABLE 2015-16'!$A$49,'TIME TABLE 2015-16'!F27,'TIME TABLE 2015-16'!G27,'TIME TABLE 2015-16'!I27,'TIME TABLE 2015-16'!J27,'TIME TABLE 2015-16'!K27,'TIME TABLE 2015-16'!L27,'TIME TABLE 2015-16'!M27,'TIME TABLE 2015-16'!N27,'TIME TABLE 2015-16'!O27,'TIME TABLE 2015-16'!H27)","v":"---"},{"$f":"TT('TIME TABLE 2015-16'!$A$49,'TIME TABLE 2015-16'!F33,'TIME TABLE 2015-16'!G33,'TIME TABLE 2015-16'!I33,'TIME TABLE 2015-16'!J33,'TIME TABLE 2015-16'!K33,'TIME TABLE 2015-16'!L33,'TIME TABLE 2015-16'!M33,'TIME TABLE 2015-16'!N33,'TIME TABLE 2015-16'!O33,'TIME TABLE 2015-16'!H33)","v":"---"},null,null,null,null,null,{"$f":"TT('TIME TABLE 2015-16'!$A$53,'TIME TABLE 2015-16'!F50,'TIME TABLE 2015-16'!G50,'TIME TABLE 2015-16'!I50,'TIME TABLE 2015-16'!J50,'TIME TABLE 2015-16'!K50,'TIME TABLE 2015-16'!L50,'TIME TABLE 2015-16'!M50,'TIME TABLE 2015-16'!N50,'TIME TABLE 2015-16'!O50,'TIME TABLE 2015-16'!H50)","v":"---"}]
["06:30:00",{"$f":"TT('TIME TABLE 2015-16'!$A$49,'TIME TABLE 2015-16'!F4,'TIME TABLE 2015-16'!G4,'TIME TABLE 2015-16'!I4,'TIME TABLE 2015-16'!J4,'TIME TABLE 2015-16'!K4,'TIME TABLE 2015-16'!L4,'TIME TABLE 2015-16'!M4,'TIME TABLE 2015-16'!N4,'TIME TABLE 2015-16'!O4,'TIME TABLE 2015-16'!H4)","v":"FYBCOM A"},{"$f":"TT('TIME TABLE 2015-16'!$A$49,'TIME TABLE 2015-16'!F10,'TIME TABLE 2015-16'!G10,'TIME TABLE 2015-16'!I10,'TIME TABLE 2015-16'!J10,'TIME TABLE 2015-16'!K10,'TIME TABLE 2015-16'!L10,'TIME TABLE 2015-16'!M10,'TIME TABLE 2015-16'!N10,'TIME TABLE 2015-16'!O10,'TIME TABLE 2015-16'!H10)","v":"SYBCOM A"},{"$f":"TT('TIME TABLE 2015-16'!$A$49,'TIME TABLE 2015-16'!F16,'TIME TABLE 2015-16'!G16,'TIME TABLE 2015-16'!I16,'TIME TABLE 2015-16'!J16,'TIME TABLE 2015-16'!K16,'TIME TABLE 2015-16'!L16,'TIME TABLE 2015-16'!M16,'TIME TABLE 2015-16'!N16,'TIME TABLE 2015-16'!O16,'TIME TABLE 2015-16'!H16)","v":"FYBCOM B"},{"$f":"TT('TIME TABLE 2015-16'!$A$49,'TIME TABLE 2015-16'!F22,'TIME TABLE 2015-16'!G22,'TIME TABLE 2015-16'!I22,'TIME TABLE 2015-16'!J22,'TIME TABLE 2015-16'!K22,'TIME TABLE 2015-16'!L22,'TIME TABLE 2015-16'!M22,'TIME TABLE 2015-16'!N22,'TIME TABLE 2015-16'!O22,'TIME TABLE 2015-16'!H22)","v":"SYBCOM B"},{"$f":"TT('TIME TABLE 2015-16'!$A$49,'TIME TABLE 2015-16'!F28,'TIME TABLE 2015-16'!G28,'TIME TABLE 2015-16'!I28,'TIME TABLE 2015-16'!J28,'TIME TABLE 2015-16'!K28,'TIME TABLE 2015-16'!L28,'TIME TABLE 2015-16'!M28,'TIME TABLE 2015-16'!N28,'TIME TABLE 2015-16'!O28,'TIME TABLE 2015-16'!H28)","v":"---"},{"$f":"TT('TIME TABLE 2015-16'!$A$49,'TIME TABLE 2015-16'!F34,'TIME TABLE 2015-16'!G34,'TIME TABLE 2015-16'!I34,'TIME TABLE 2015-16'!J34,'TIME TABLE 2015-16'!K34,'TIME TABLE 2015-16'!L34,'TIME TABLE 2015-16'!M34,'TIME TABLE 2015-16'!N34,'TIME TABLE 2015-16'!O34,'TIME TABLE 2015-16'!H34)","v":"FYBCOM A"},null,null,null,null,null,{"$f":"TT('TIME TABLE 2015-16'!$A$53,'TIME TABLE 2015-16'!F51,'TIME TABLE 2015-16'!G51,'TIME TABLE 2015-16'!I51,'TIME TABLE 2015-16'!J51,'TIME TABLE 2015-16'!K51,'TIME TABLE 2015-16'!L51,'TIME TABLE 2015-16'!M51,'TIME TABLE 2015-16'!N51,'TIME TABLE 2015-16'!O51,'TIME TABLE 2015-16'!H51)","v":"---"}]
["07:20:00",{"$f":"TT('TIME TABLE 2015-16'!$A$49,'TIME TABLE 2015-16'!F5,'TIME TABLE 2015-16'!G5,'TIME TABLE 2015-16'!I5,'TIME TABLE 2015-16'!J5,'TIME TABLE 2015-16'!K5,'TIME TABLE 2015-16'!L5,'TIME TABLE 2015-16'!M5,'TIME TABLE 2015-16'!N5,'TIME TABLE 2015-16'!O5,'TIME TABLE 2015-16'!H5)","v":"SYBCOM B"},{"$f":"TT('TIME TABLE 2015-16'!$A$49,'TIME TABLE 2015-16'!F11,'TIME TABLE 2015-16'!G11,'TIME TABLE 2015-16'!I11,'TIME TABLE 2015-16'!J11,'TIME TABLE 2015-16'!K11,'TIME TABLE 2015-16'!L11,'TIME TABLE 2015-16'!M11,'TIME TABLE 2015-16'!N11,'TIME TABLE 2015-16'!O11,'TIME TABLE 2015-16'!H11)","v":"FYBCOM B"},{"$f":"TT('TIME TABLE 2015-16'!$A$49,'TIME TABLE 2015-16'!F17,'TIME TABLE 2015-16'!G17,'TIME TABLE 2015-16'!I17,'TIME TABLE 2015-16'!J17,'TIME TABLE 2015-16'!K17,'TIME TABLE 2015-16'!L17,'TIME TABLE 2015-16'!M17,'TIME TABLE 2015-16'!N17,'TIME TABLE 2015-16'!O17,'TIME TABLE 2015-16'!H17)","v":"FYBCOM C"},{"$f":"TT('TIME TABLE 2015-16'!$A$49,'TIME TABLE 2015-16'!F23,'TIME TABLE 2015-16'!G23,'TIME TABLE 2015-16'!I23,'TIME TABLE 2015-16'!J23,'TIME TABLE 2015-16'!K23,'TIME TABLE 2015-16'!L23,'TIME TABLE 2015-16'!M23,'TIME TABLE 2015-16'!N23,'TIME TABLE 2015-16'!O23,'TIME TABLE 2015-16'!H23)","v":"FYBCOM B"},{"$f":"TT('TIME TABLE 2015-16'!$A$49,'TIME TABLE 2015-16'!F29,'TIME TABLE 2015-16'!G29,'TIME TABLE 2015-16'!I29,'TIME TABLE 2015-16'!J29,'TIME TABLE 2015-16'!K29,'TIME TABLE 2015-16'!L29,'TIME TABLE 2015-16'!M29,'TIME TABLE 2015-16'!N29,'TIME TABLE 2015-16'!O29,'TIME TABLE 2015-16'!H29)","v":"TYBCOM A"},{"$f":"TT('TIME TABLE 2015-16'!$A$49,'TIME TABLE 2015-16'!F35,'TIME TABLE 2015-16'!G35,'TIME TABLE 2015-16'!I35,'TIME TABLE 2015-16'!J35,'TIME TABLE 2015-16'!K35,'TIME TABLE 2015-16'!L35,'TIME TABLE 2015-16'!M35,'TIME TABLE 2015-16'!N35,'TIME TABLE 2015-16'!O35,'TIME TABLE 2015-16'!H35)","v":"TYBCOM A"},null,null,null,null,null,{"$f":"TT('TIME TABLE 2015-16'!$A$53,'TIME TABLE 2015-16'!F52,'TIME TABLE 2015-16'!G52,'TIME TABLE 2015-16'!I52,'TIME TABLE 2015-16'!J52,'TIME TABLE 2015-16'!K52,'TIME TABLE 2015-16'!L52,'TIME TABLE 2015-16'!M52,'TIME TABLE 2015-16'!N52,'TIME TABLE 2015-16'!O52,'TIME TABLE 2015-16'!H52)","v":"---"}]
["08:20:00",{"$f":"TT('TIME TABLE 2015-16'!$A$49,'TIME TABLE 2015-16'!F6,'TIME TABLE 2015-16'!G6,'TIME TABLE 2015-16'!I6,'TIME TABLE 2015-16'!J6,'TIME TABLE 2015-16'!K6,'TIME TABLE 2015-16'!L6,'TIME TABLE 2015-16'!M6,'TIME TABLE 2015-16'!N6,'TIME TABLE 2015-16'!O6,'TIME TABLE 2015-16'!H6)","v":"SYBCOM A"},{"$f":"TT('TIME TABLE 2015-16'!$A$49,'TIME TABLE 2015-16'!F12,'TIME TABLE 2015-16'!G12,'TIME TABLE 2015-16'!I12,'TIME TABLE 2015-16'!J12,'TIME TABLE 2015-16'!K12,'TIME TABLE 2015-16'!L12,'TIME TABLE 2015-16'!M12,'TIME TABLE 2015-16'!N12,'TIME TABLE 2015-16'!O12,'TIME TABLE 2015-16'!H12)","v":"TYBCOM B"},{"$f":"TT('TIME TABLE 2015-16'!$A$49,'TIME TABLE 2015-16'!F18,'TIME TABLE 2015-16'!G18,'TIME TABLE 2015-16'!I18,'TIME TABLE 2015-16'!J18,'TIME TABLE 2015-16'!K18,'TIME TABLE 2015-16'!L18,'TIME TABLE 2015-16'!M18,'TIME TABLE 2015-16'!N18,'TIME TABLE 2015-16'!O18,'TIME TABLE 2015-16'!H18)","v":"SYBCOM B"},{"$f":"TT('TIME TABLE 2015-16'!$A$49,'TIME TABLE 2015-16'!F24,'TIME TABLE 2015-16'!G24,'TIME TABLE 2015-16'!I24,'TIME TABLE 2015-16'!J24,'TIME TABLE 2015-16'!K24,'TIME TABLE 2015-16'!L24,'TIME TABLE 2015-16'!M24,'TIME TABLE 2015-16'!N24,'TIME TABLE 2015-16'!O24,'TIME TABLE 2015-16'!H24)","v":"SYBCOM A"},{"$f":"TT('TIME TABLE 2015-16'!$A$49,'TIME TABLE 2015-16'!F30,'TIME TABLE 2015-16'!G30,'TIME TABLE 2015-16'!I30,'TIME TABLE 2015-16'!J30,'TIME TABLE 2015-16'!K30,'TIME TABLE 2015-16'!L30,'TIME TABLE 2015-16'!M30,'TIME TABLE 2015-16'!N30,'TIME TABLE 2015-16'!O30,'TIME TABLE 2015-16'!H30)","v":"TYBCOM B"},{"$f":"TT('TIME TABLE 2015-16'!$A$49,'TIME TABLE 2015-16'!F36,'TIME TABLE 2015-16'!G36,'TIME TABLE 2015-16'!I36,'TIME TABLE 2015-16'!J36,'TIME TABLE 2015-16'!K36,'TIME TABLE 2015-16'!L36,'TIME TABLE 2015-16'!M36,'TIME TABLE 2015-16'!N36,'TIME TABLE 2015-16'!O36,'TIME TABLE 2015-16'!H36)","v":"FYBCOM C"},null,null,null,null,null,{"$f":"TT('TIME TABLE 2015-16'!$A$53,'TIME TABLE 2015-16'!F53,'TIME TABLE 2015-16'!G53,'TIME TABLE 2015-16'!I53,'TIME TABLE 2015-16'!J53,'TIME TABLE 2015-16'!K53,'TIME TABLE 2015-16'!L53,'TIME TABLE 2015-16'!M53,'TIME TABLE 2015-16'!N53,'TIME TABLE 2015-16'!O53,'TIME TABLE 2015-16'!H53)","v":"---"}]
["09:10:00",{"$f":"TT('TIME TABLE 2015-16'!$A$49,'TIME TABLE 2015-16'!F7,'TIME TABLE 2015-16'!G7,'TIME TABLE 2015-16'!I7,'TIME TABLE 2015-16'!J7,'TIME TABLE 2015-16'!K7,'TIME TABLE 2015-16'!L7,'TIME TABLE 2015-16'!M7,'TIME TABLE 2015-16'!N7,'TIME TABLE 2015-16'!O7,'TIME TABLE 2015-16'!H7)","v":"TYBCOM B"},{"$f":"TT('TIME TABLE 2015-16'!$A$49,'TIME TABLE 2015-16'!F13,'TIME TABLE 2015-16'!G13,'TIME TABLE 2015-16'!I13,'TIME TABLE 2015-16'!J13,'TIME TABLE 2015-16'!K13,'TIME TABLE 2015-16'!L13,'TIME TABLE 2015-16'!M13,'TIME TABLE 2015-16'!N13,'TIME TABLE 2015-16'!O13,'TIME TABLE 2015-16'!H13)","v":"---"},{"$f":"TT('TIME TABLE 2015-16'!$A$49,'TIME TABLE 2015-16'!F19,'TIME TABLE 2015-16'!G19,'TIME TABLE 2015-16'!I19,'TIME TABLE 2015-16'!J19,'TIME TABLE 2015-16'!K19,'TIME TABLE 2015-16'!L19,'TIME TABLE 2015-16'!M19,'TIME TABLE 2015-16'!N19,'TIME TABLE 2015-16'!O19,'TIME TABLE 2015-16'!H19)","v":"FYBCOM A"},{"$f":"TT('TIME TABLE 2015-16'!$A$49,'TIME TABLE 2015-16'!F25,'TIME TABLE 2015-16'!G25,'TIME TABLE 2015-16'!I25,'TIME TABLE 2015-16'!J25,'TIME TABLE 2015-16'!K25,'TIME TABLE 2015-16'!L25,'TIME TABLE 2015-16'!M25,'TIME TABLE 2015-16'!N25,'TIME TABLE 2015-16'!O25,'TIME TABLE 2015-16'!H25)","v":"FYBCOM C"},{"$f":"TT('TIME TABLE 2015-16'!$A$49,'TIME TABLE 2015-16'!F31,'TIME TABLE 2015-16'!G31,'TIME TABLE 2015-16'!I31,'TIME TABLE 2015-16'!J31,'TIME TABLE 2015-16'!K31,'TIME TABLE 2015-16'!L31,'TIME TABLE 2015-16'!M31,'TIME TABLE 2015-16'!N31,'TIME TABLE 2015-16'!O31,'TIME TABLE 2015-16'!H31)","v":"TYBCOM B"},{"$f":"TT('TIME TABLE 2015-16'!$A$49,'TIME TABLE 2015-16'!F37,'TIME TABLE 2015-16'!G37,'TIME TABLE 2015-16'!I37,'TIME TABLE 2015-16'!J37,'TIME TABLE 2015-16'!K37,'TIME TABLE 2015-16'!L37,'TIME TABLE 2015-16'!M37,'TIME TABLE 2015-16'!N37,'TIME TABLE 2015-16'!O37,'TIME TABLE 2015-16'!H37)","v":"TYBCOM B"},{"$f":"36-(COUNTIF(B138:G143,\"---\"))","v":22},null,null,null,null,{"$f":"TT('TIME TABLE 2015-16'!$A$53,'TIME TABLE 2015-16'!#REF!,'TIME TABLE 2015-16'!#REF!,'TIME TABLE 2015-16'!#REF!,'TIME TABLE 2015-16'!#REF!,'TIME TABLE 2015-16'!#REF!,'TIME TABLE 2015-16'!#REF!,'TIME TABLE 2015-16'!#REF!,'TIME TABLE 2015-16'!#REF!,'TIME TABLE 2015-16'!#REF!,'TIME TABLE 2015-16'!#REF!)","v":{"$error":"#VALUE!"}}]
[null,null,null,null,null,null,null,null,null,null,null,null,{"$f":"TT('TIME TABLE 2015-16'!$A$53,'TIME TABLE 2015-16'!F54,'TIME TABLE 2015-16'!G54,'TIME TABLE 2015-16'!I54,'TIME TABLE 2015-16'!J54,'TIME TABLE 2015-16'!K54,'TIME TABLE 2015-16'!L54,'TIME TABLE 2015-16'!M54,'TIME TABLE 2015-16'!N54,'TIME TABLE 2015-16'!O54,'TIME TABLE 2015-16'!H54)","v":"---"}]
[null,{"$f":"TT('TIME TABLE 2015-16'!$A$55,'TIME TABLE 2015-16'!F9,'TIME TABLE 2015-16'!G9,'TIME TABLE 2015-16'!I9,'TIME TABLE 2015-16'!J9,'TIME TABLE 2015-16'!K9,'TIME TABLE 2015-16'!L9,'TIME TABLE 2015-16'!M9,'TIME TABLE 2015-16'!N9,'TIME TABLE 2015-16'!O9,'TIME TABLE 2015-16'!H9)","v":"---"},null,null,null,null,null,null,null,null,null,null,{"$f":"TT('TIME TABLE 2015-16'!$A$53,'TIME TABLE 2015-16'!#REF!,'TIME TABLE 2015-16'!#REF!,'TIME TABLE 2015-16'!#REF!,'TIME TABLE 2015-16'!#REF!,'TIME TABLE 2015-16'!#REF!,'TIME TABLE 2015-16'!#REF!,'TIME TABLE 2015-16'!#REF!,'TIME TABLE 2015-16'!#REF!,'TIME TABLE 2015-16'!#REF!,'TIME TABLE 2015-16'!#REF!)","v":{"$error":"#VALUE!"}}]
[null,null,null,null,null,null,null,null,null,null,null,null,{"$f":"TT('TIME TABLE 2015-16'!$A$53,'TIME TABLE 2015-16'!F57,'TIME TABLE 2015-16'!G57,'TIME TABLE 2015-16'!I57,'TIME TABLE 2015-16'!J57,'TIME TABLE 2015-16'!K57,'TIME TABLE 2015-16'!L57,'TIME TABLE 2015-16'!M57,'TIME TABLE 2015-16'!N57,'TIME TABLE 2015-16'!O57,'TIME TABLE 2015-16'!H57)","v":"---"}]
[null,null,null,null,null,null,null,null,null,null,null,null,{"$f":"TT('TIME TABLE 2015-16'!$A$53,'TIME TABLE 2015-16'!F58,'TIME TABLE 2015-16'!G58,'TIME TABLE 2015-16'!I58,'TIME TABLE 2015-16'!J58,'TIME TABLE 2015-16'!K58,'TIME TABLE 2015-16'!L58,'TIME TABLE 2015-16'!M58,'TIME TABLE 2015-16'!N58,'TIME TABLE 2015-16'!O58,'TIME TABLE 2015-16'!H58)","v":"---"}]
[null,null,null,null,null,null,null,null,null,null,null,null,{"$f":"TT('TIME TABLE 2015-16'!$A$53,'TIME TABLE 2015-16'!F59,'TIME TABLE 2015-16'!G59,'TIME TABLE 2015-16'!I59,'TIME TABLE 2015-16'!J59,'TIME TABLE 2015-16'!K59,'TIME TABLE 2015-16'!L59,'TIME TABLE 2015-16'!M59,'TIME TABLE 2015-16'!N59,'TIME TABLE 2015-16'!O59,'TIME TABLE 2015-16'!H59)","v":"---"}]
[null,null,null,null,null,null,null,null,null,null,null,null,{"$f":"TT('TIME TABLE 2015-16'!$A$53,'TIME TABLE 2015-16'!F60,'TIME TABLE 2015-16'!G60,'TIME TABLE 2015-16'!I60,'TIME TABLE 2015-16'!J60,'TIME TABLE 2015-16'!K60,'TIME TABLE 2015-16'!L60,'TIME TABLE 2015-16'!M60,'TIME TABLE 2015-16'!N60,'TIME TABLE 2015-16'!O60,'TIME TABLE 2015-16'!H60)","v":"---"}]
[null,null,null,null,null,null,null,null,null,null,null,null,{"$f":"TT('TIME TABLE 2015-16'!$A$53,'TIME TABLE 2015-16'!F61,'TIME TABLE 2015-16'!G61,'TIME TABLE 2015-16'!I61,'TIME TABLE 2015-16'!J61,'TIME TABLE 2015-16'!K61,'TIME TABLE 2015-16'!L61,'TIME TABLE 2015-16'!M61,'TIME TABLE 2015-16'!N61,'TIME TABLE 2015-16'!O61,'TIME TABLE 2015-16'!H61)","v":"---"}]
[null,null,null,null,null,null,null,null,null,null,null,null,{"$f":"TT('TIME TABLE 2015-16'!$A$53,'TIME TABLE 2015-16'!F62,'TIME TABLE 2015-16'!G62,'TIME TABLE 2015-16'!I62,'TIME TABLE 2015-16'!J62,'TIME TABLE 2015-16'!K62,'TIME TABLE 2015-16'!L62,'TIME TABLE 2015-16'!M62,'TIME TABLE 2015-16'!N62,'TIME TABLE 2015-16'!O62,'TIME TABLE 2015-16'!H62)","v":"---"}]
[null,null,null,null,null,null,null,null,null,null,null,null,{"$f":"TT('TIME TABLE 2015-16'!$A$53,'TIME TABLE 2015-16'!F63,'TIME TABLE 2015-16'!G63,'TIME TABLE 2015-16'!I63,'TIME TABLE 2015-16'!J63,'TIME TABLE 2015-16'!K63,'TIME TABLE 2015-16'!L63,'TIME TABLE 2015-16'!M63,'TIME TABLE 2015-16'!N63,'TIME TABLE 2015-16'!O63,'TIME TABLE 2015-16'!H63)","v":"---"}]
[]
[]
[]
[]
[]
[]
[null,null,null,null,null,null,null,{"$f":"36-(COUNTIF(B154:G159,\"---\"))","v":36}]
[]
[]
[]
[]
[]
[]
[]
[]
[]
[]
[]
[]
[]
[]
[]
[]
[]
[]
[]
[]
[]
[]
[]
[]
[]
[]
[]
[]
[]
[]
[null,{"$f":"TT('TIME TABLE 2015-16'!#REF!,'TIME TABLE 2015-16'!F38,'TIME TABLE 2015-16'!G38,'TIME TABLE 2015-16'!I38,'TIME TABLE 2015-16'!J38,'TIME TABLE 2015-16'!K38,'TIME TABLE 2015-16'!L38,'TIME TABLE 2015-16'!M38,'TIME TABLE 2015-16'!N38,'TIME TABLE 2015-16'!O38,'TIME TABLE 2015-16'!H38)","v":{"$error":"#VALUE!"}}]
[null,{"$f":"TT('TIME TABLE 2015-16'!#REF!,'TIME TABLE 2015-16'!F39,'TIME TABLE 2015-16'!G39,'TIME TABLE 2015-16'!I39,'TIME TABLE 2015-16'!J39,'TIME TABLE 2015-16'!K39,'TIME TABLE 2015-16'!L39,'TIME TABLE 2015-16'!M39,'TIME TABLE 2015-16'!N39,'TIME TABLE 2015-16'!O39,'TIME TABLE 2015-16'!H39)","v":{"$error":"#VALUE!"}}]
[null,{"$f":"TT('TIME TABLE 2015-16'!#REF!,'TIME TABLE 2015-16'!F40,'TIME TABLE 2015-16'!G40,'TIME TABLE 2015-16'!I40,'TIME TABLE 2015-16'!J40,'TIME TABLE 2015-16'!K40,'TIME TABLE 2015-16'!L40,'TIME TABLE 2015-16'!M40,'TIME TABLE 2015-16'!N40,'TIME TABLE 2015-16'!O40,'TIME TABLE 2015-16'!H40)","v":{"$error":"#VALUE!"}}]
[null,{"$f":"TT('TIME TABLE 2015-16'!#REF!,'TIME TABLE 2015-16'!F41,'TIME TABLE 2015-16'!G41,'TIME TABLE 2015-16'!I41,'TIME TABLE 2015-16'!J41,'TIME TABLE 2015-16'!K41,'TIME TABLE 2015-16'!L41,'TIME TABLE 2015-16'!M41,'TIME TABLE 2015-16'!N41,'TIME TABLE 2015-16'!O41,'TIME TABLE 2015-16'!H41)","v":{"$error":"#VALUE!"}}]
[null,{"$f":"TT('TIME TABLE 2015-16'!#REF!,'TIME TABLE 2015-16'!F42,'TIME TABLE 2015-16'!G42,'TIME TABLE 2015-16'!I42,'TIME TABLE 2015-16'!J42,'TIME TABLE 2015-16'!K42,'TIME TABLE 2015-16'!L42,'TIME TABLE 2015-16'!M42,'TIME TABLE 2015-16'!N42,'TIME TABLE 2015-16'!O42,'TIME TABLE 2015-16'!H42)","v":{"$error":"#VALUE!"}}]
[null,{"$f":"TT('TIME TABLE 2015-16'!#REF!,'TIME TABLE 2015-16'!F43,'TIME TABLE 2015-16'!G43,'TIME TABLE 2015-16'!I43,'TIME TABLE 2015-16'!J43,'TIME TABLE 2015-16'!K43,'TIME TABLE 2015-16'!L43,'TIME TABLE 2015-16'!M43,'TIME TABLE 2015-16'!N43,'TIME TABLE 2015-16'!O43,'TIME TABLE 2015-16'!H43)","v":{"$error":"#VALUE!"}}]
[null,{"$f":"TT('TIME TABLE 2015-16'!#REF!,'TIME TABLE 2015-16'!F44,'TIME TABLE 2015-16'!G44,'TIME TABLE 2015-16'!I44,'TIME TABLE 2015-16'!J44,'TIME TABLE 2015-16'!K44,'TIME TABLE 2015-16'!L44,'TIME TABLE 2015-16'!M44,'TIME TABLE 2015-16'!N44,'TIME TABLE 2015-16'!O44,'TIME TABLE 2015-16'!H44)","v":{"$error":"#VALUE!"}}]
[null,{"$f":"TT('TIME TABLE 2015-16'!#REF!,'TIME TABLE 2015-16'!F45,'TIME TABLE 2015-16'!G45,'TIME TABLE 2015-16'!I45,'TIME TABLE 2015-16'!J45,'TIME TABLE 2015-16'!K45,'TIME TABLE 2015-16'!L45,'TIME TABLE 2015-16'!M45,'TIME TABLE 2015-16'!N45,'TIME TABLE 2015-16'!O45,'TIME TABLE 2015-16'!H45)","v":{"$error":"#VALUE!"}}]
[null,{"$f":"TT('TIME TABLE 2015-16'!#REF!,'TIME TABLE 2015-16'!F46,'TIME TABLE 2015-16'!G46,'TIME TABLE 2015-16'!I46,'TIME TABLE 2015-16'!J46,'TIME TABLE 2015-16'!K46,'TIME TABLE 2015-16'!L46,'TIME TABLE 2015-16'!M46,'TIME TABLE 2015-16'!N46,'TIME TABLE 2015-16'!O46,'TIME TABLE 2015-16'!H46)","v":{"$error":"#VALUE!"}}]
[null,{"$f":"TT('TIME TABLE 2015-16'!#REF!,'TIME TABLE 2015-16'!F47,'TIME TABLE 2015-16'!G47,'TIME TABLE 2015-16'!I47,'TIME TABLE 2015-16'!J47,'TIME TABLE 2015-16'!K47,'TIME TABLE 2015-16'!L47,'TIME TABLE 2015-16'!M47,'TIME TABLE 2015-16'!N47,'TIME TABLE 2015-16'!O47,'TIME TABLE 2015-16'!H47)","v":{"$error":"#VALUE!"}}]
[null,{"$f":"TT('TIME TABLE 2015-16'!#REF!,'TIME TABLE 2015-16'!F48,'TIME TABLE 2015-16'!G48,'TIME TABLE 2015-16'!I48,'TIME TABLE 2015-16'!J48,'TIME TABLE 2015-16'!K48,'TIME TABLE 2015-16'!L48,'TIME TABLE 2015-16'!M48,'TIME TABLE 2015-16'!N48,'TIME TABLE 2015-16'!O48,'TIME TABLE 2015-16'!H48)","v":{"$error":"#VALUE!"}}]
[null,{"$f":"TT('TIME TABLE 2015-16'!#REF!,'TIME TABLE 2015-16'!F49,'TIME TABLE 2015-16'!G49,'TIME TABLE 2015-16'!I49,'TIME TABLE 2015-16'!J49,'TIME TABLE 2015-16'!K49,'TIME TABLE 2015-16'!L49,'TIME TABLE 2015-16'!M49,'TIME TABLE 2015-16'!N49,'TIME TABLE 2015-16'!O49,'TIME TABLE 2015-16'!H49)","v":{"$error":"#VALUE!"}}]
[null,{"$f":"TT('TIME TABLE 2015-16'!#REF!,'TIME TABLE 2015-16'!F50,'TIME TABLE 2015-16'!G50,'TIME TABLE 2015-16'!I50,'TIME TABLE 2015-16'!J50,'TIME TABLE 2015-16'!K50,'TIME TABLE 2015-16'!L50,'TIME TABLE 2015-16'!M50,'TIME TABLE 2015-16'!N50,'TIME TABLE 2015-16'!O50,'TIME TABLE 2015-16'!H50)","v":{"$error":"#VALUE!"}}]
[null,{"$f":"TT('TIME TABLE 2015-16'!#REF!,'TIME TABLE 2015-16'!F51,'TIME TABLE 2015-16'!G51,'TIME TABLE 2015-16'!I51,'TIME TABLE 2015-16'!J51,'TIME TABLE 2015-16'!K51,'TIME TABLE 2015-16'!L51,'TIME TABLE 2015-16'!M51,'TIME TABLE 2015-16'!N51,'TIME TABLE 2015-16'!O51,'TIME TABLE 2015-16'!H51)","v":{"$error":"#VALUE!"}}]
[null,{"$f":"TT('TIME TABLE 2015-16'!#REF!,'TIME TABLE 2015-16'!F52,'TIME TABLE 2015-16'!G52,'TIME TABLE 2015-16'!I52,'TIME TABLE 2015-16'!J52,'TIME TABLE 2015-16'!K52,'TIME TABLE 2015-16'!L52,'TIME TABLE 2015-16'!M52,'TIME TABLE 2015-16'!N52,'TIME TABLE 2015-16'!O52,'TIME TABLE 2015-16'!H52)","v":{"$error":"#VALUE!"}}]
[null,{"$f":"TT('TIME TABLE 2015-16'!$A$49,'TIME TABLE 2015-16'!F61,'TIME TABLE 2015-16'!G61,'TIME TABLE 2015-16'!I61,'TIME TABLE 2015-16'!J61,'TIME TABLE 2015-16'!K61,'TIME TABLE 2015-16'!L61,'TIME TABLE 2015-16'!M61,'TIME TABLE 2015-16'!N61,'TIME TABLE 2015-16'!O61,'TIME TABLE 2015-16'!H61)","v":"---"}]
[null,{"$f":"TT('TIME TABLE 2015-16'!$A$49,'TIME TABLE 2015-16'!F62,'TIME TABLE 2015-16'!G62,'TIME TABLE 2015-16'!I62,'TIME TABLE 2015-16'!J62,'TIME TABLE 2015-16'!K62,'TIME TABLE 2015-16'!L62,'TIME TABLE 2015-16'!M62,'TIME TABLE 2015-16'!N62,'TIME TABLE 2015-16'!O62,'TIME TABLE 2015-16'!H62)","v":"---"}]
[null,{"$f":"TT('TIME TABLE 2015-16'!$A$49,'TIME TABLE 2015-16'!F63,'TIME TABLE 2015-16'!G63,'TIME TABLE 2015-16'!I63,'TIME TABLE 2015-16'!J63,'TIME TABLE 2015-16'!K63,'TIME TABLE 2015-16'!L63,'TIME TABLE 2015-16'!M63,'TIME TABLE 2015-16'!N63,'TIME TABLE 2015-16'!O63,'TIME TABLE 2015-16'!H63)","v":"FYBCOM B"}]
[null,{"$f":"TT('TIME TABLE 2015-16'!$A$49,'TIME TABLE 2015-16'!F64,'TIME TABLE 2015-16'!G64,'TIME TABLE 2015-16'!I64,'TIME TABLE 2015-16'!J64,'TIME TABLE 2015-16'!K64,'TIME TABLE 2015-16'!L64,'TIME TABLE 2015-16'!M64,'TIME TABLE 2015-16'!N64,'TIME TABLE 2015-16'!O64,'TIME TABLE 2015-16'!H64)","v":"SYBCOM A"}]
[null,{"$f":"TT('TIME TABLE 2015-16'!$A$49,'TIME TABLE 2015-16'!F65,'TIME TABLE 2015-16'!G65,'TIME TABLE 2015-16'!I65,'TIME TABLE 2015-16'!J65,'TIME TABLE 2015-16'!K65,'TIME TABLE 2015-16'!L65,'TIME TABLE 2015-16'!M65,'TIME TABLE 2015-16'!N65,'TIME TABLE 2015-16'!O65,'TIME TABLE 2015-16'!H65)","v":"FYBCOM A"}]
[null,{"$f":"TT('TIME TABLE 2015-16'!$A$49,'TIME TABLE 2015-16'!F66,'TIME TABLE 2015-16'!G66,'TIME TABLE 2015-16'!I66,'TIME TABLE 2015-16'!J66,'TIME TABLE 2015-16'!K66,'TIME TABLE 2015-16'!L66,'TIME TABLE 2015-16'!M66,'TIME TABLE 2015-16'!N66,'TIME TABLE 2015-16'!O66,'TIME TABLE 2015-16'!H66)","v":"---"}]
[null,{"$f":"TT('TIME TABLE 2015-16'!$A$49,'TIME TABLE 2015-16'!F67,'TIME TABLE 2015-16'!G67,'TIME TABLE 2015-16'!I67,'TIME TABLE 2015-16'!J67,'TIME TABLE 2015-16'!K67,'TIME TABLE 2015-16'!L67,'TIME TABLE 2015-16'!M67,'TIME TABLE 2015-16'!N67,'TIME TABLE 2015-16'!O67,'TIME TABLE 2015-16'!H67)","v":"---"}]
[null,{"$f":"TT('TIME TABLE 2015-16'!$A$49,'TIME TABLE 2015-16'!F68,'TIME TABLE 2015-16'!G68,'TIME TABLE 2015-16'!I68,'TIME TABLE 2015-16'!J68,'TIME TABLE 2015-16'!K68,'TIME TABLE 2015-16'!L68,'TIME TABLE 2015-16'!M68,'TIME TABLE 2015-16'!N68,'TIME TABLE 2015-16'!O68,'TIME TABLE 2015-16'!H68)","v":"---"}]

{"sheet":"CLASS TT","index":3,"n_rows":80,"n_cols":8,"rows_kept":80,"cut":false,"hidden":false,"merged":[]}
[null,"FYBA"]
[null,"M","T","W","T","F","S"]
["04:50:00",{"$f":"'TIME TABLE 2015-16'!M2","v":0},{"$f":"'TIME TABLE 2015-16'!M8","v":0},{"$f":"'TIME TABLE 2015-16'!M14","v":0},{"$f":"'TIME TABLE 2015-16'!M20","v":0},{"$f":"'TIME TABLE 2015-16'!M26","v":"Dengle"},{"$f":"'TIME TABLE 2015-16'!M32","v":"Dengle"}]
["05:40:00",{"$f":"'TIME TABLE 2015-16'!M3","v":0},{"$f":"'TIME TABLE 2015-16'!M9","v":0},{"$f":"'TIME TABLE 2015-16'!M15","v":0},{"$f":"'TIME TABLE 2015-16'!M21","v":0},{"$f":"'TIME TABLE 2015-16'!M27","v":"Dengle"},{"$f":"'TIME TABLE 2015-16'!M33","v":"Dengle"}]
["06:30:00",{"$f":"'TIME TABLE 2015-16'!M4","v":"Dengle"},{"$f":"'TIME TABLE 2015-16'!M10","v":"Jambhule"},{"$f":"'TIME TABLE 2015-16'!M16","v":"Buwa"},{"$f":"'TIME TABLE 2015-16'!M22","v":"Buwa"},{"$f":"'TIME TABLE 2015-16'!M28","v":"Jambhule"},{"$f":"'TIME TABLE 2015-16'!M34","v":"Nandela"}]
["07:20:00",{"$f":"'TIME TABLE 2015-16'!M5","v":"Sable"},{"$f":"'TIME TABLE 2015-16'!M11","v":"Buwa"},{"$f":"'TIME TABLE 2015-16'!M17","v":"Sable"},{"$f":"'TIME TABLE 2015-16'!M23","v":"Buwa"},{"$f":"'TIME TABLE 2015-16'!M29","v":"Bhalekar"},{"$f":"'TIME TABLE 2015-16'!M35","v":"Dengle"}]
["08:20:00",{"$f":"'TIME TABLE 2015-16'!M6","v":"Jambhule"},{"$f":"'TIME TABLE 2015-16'!M12","v":"Sable"},{"$f":"'TIME TABLE 2015-16'!M18","v":"Jambhule"},{"$f":"'TIME TABLE 2015-16'!M24","v":"Sable"},{"$f":"'TIME TABLE 2015-16'!M30","v":"Dengle"},{"$f":"'TIME TABLE 2015-16'!M36","v":"Sable"}]
["09:10:00",{"$f":"'TIME TABLE 2015-16'!M7","v":0},{"$f":"'TIME TABLE 2015-16'!M13","v":"Sable"},{"$f":"'TIME TABLE 2015-16'!M19","v":"Suryawanshi"},{"$f":"'TIME TABLE 2015-16'!M25","v":"Suryawanshi"},{"$f":"'TIME TABLE 2015-16'!M31","v":"Sable"},{"$f":"'TIME TABLE 2015-16'!M37","v":0},{"$f":"36-(COUNTIF(B3:G8,0))","v":26}]
[null,"SYBA"]
[null,"M","T","W","T","F","S"]
["04:50:00",{"$f":"'TIME TABLE 2015-16'!N2","v":0},{"$f":"'TIME TABLE 2015-16'!N8","v":0},{"$f":"'TIME TABLE 2015-16'!N14","v":0},{"$f":"'TIME TABLE 2015-16'!N20","v":0},{"$f":"'TIME TABLE 2015-16'!N26","v":0},{"$f":"'TIME TABLE 2015-16'!N32","v":0}]
["05:40:00",{"$f":"'TIME TABLE 2015-16'!N3","v":0},{"$f":"'TIME TABLE 2015-16'!N9","v":"Bhave"},{"$f":"'TIME TABLE 2015-16'!N15","v":0},{"$f":"'TIME TABLE 2015-16'!N21","v":0},{"$f":"'TIME TABLE 2015-16'!N27","v":0},{"$f":"'TIME TABLE 2015-16'!N33","v":0}]
["06:30:00",{"$f":"'TIME TABLE 2015-16'!N4","v":"Sable"},{"$f":"'TIME TABLE 2015-16'!N10","v":"Buwa"},{"$f":"'TIME TABLE 2015-16'!N16","v":"Sable"},{"$f":"'TIME TABLE 2015-16'!N22","v":"Jambhule"},{"$f":"'TIME TABLE 2015-16'!N28","v":"Buwa"},{"$f":"'TIME TABLE 2015-16'!N34","v":"Jambhule"}]
["07:20:00",{"$f":"'TIME TABLE 2015-16'!N5","v":"Jambhule"},{"$f":"'TIME TABLE 2015-16'!N11","v":"Sable"},{"$f":"'TIME TABLE 2015-16'!N17","v":"Buwa"},{"$f":"'TIME TABLE 2015-16'!N23","v":"Jambhule"},{"$f":"'TIME TABLE 2015-16'!N29","v":"Buwa"},{"$f":"'TIME TABLE 2015-16'!N35","v":"Jambhule"}]
["08:20:00",{"$f":"'TIME TABLE 2015-16'!N6","v":"Buwa"},{"$f":"'TIME TABLE 2015-16'!N12","v":"Jambhule"},{"$f":"'TIME TABLE 2015-16'!N18","v":"Bhalekar"},{"$f":"'TIME TABLE 2015-16'!N24","v":"Bhave"},{"$f":"'TIME TABLE 2015-16'!N30","v":"Bhave"},{"$f":"'TIME TABLE 2015-16'!N36","v":"Bhave"}]
["09:10:00",{"$f":"'TIME TABLE 2015-16'!N7","v":"Buwa"},{"$f":"'TIME TABLE 2015-16'!N13","v":"Jambhule"},{"$f":"'TIME TABLE 2015-16'!N19","v":"Jambhule"},{"$f":"'TIME TABLE 2015-16'!N25","v":"Sable"},{"$f":"'TIME TABLE 2015-16'!N31","v":"Jambhule"},{"$f":"'TIME TABLE 2015-16'!N37","v":"Sable"},{"$f":"36-(COUNTIF(B11:G16,0))","v":25}]
[null,"TYBA"]
[null,"M","T","W","T","F","S"]
["04:50:00",{"$f":"'TIME TABLE 2015-16'!O2","v":"Nandela"},{"$f":"'TIME TABLE 2015-16'!O8","v":"Nandela"},{"$f":"'TIME TABLE 2015-16'!O14","v":"Nandela"},{"$f":"'TIME TABLE 2015-16'!O20","v":0},{"$f":"'TIME TABLE 2015-16'!O26","v":"Sable"},{"$f":"'TIME TABLE 2015-16'!O32","v":0}]
["05:40:00",{"$f":"'TIME TABLE 2015-16'!O3","v":"Buwa"},{"$f":"'TIME TABLE 2015-16'!O9","v":"Buwa"},{"$f":"'TIME TABLE 2015-16'!O15","v":"Buwa"},{"$f":"'TIME TABLE 2015-16'!O21","v":"Sable"},{"$f":"'TIME TABLE 2015-16'!O27","v":"Sable"},{"$f":"'TIME TABLE 2015-16'!O33","v":0}]
["06:30:00",{"$f":"'TIME TABLE 2015-16'!O4","v":"Nandela"},{"$f":"'TIME TABLE 2015-16'!O10","v":"Nandela"},{"$f":"'TIME TABLE 2015-16'!O16","v":"Bhalekar"},{"$f":"'TIME TABLE 2015-16'!O22","v":"Sable"},{"$f":"'TIME TABLE 2015-16'!O28","v":"Bhalekar"},{"$f":"'TIME TABLE 2015-16'!O34","v":"Buwa"}]
["07:20:00",{"$f":"'TIME TABLE 2015-16'!O5","v":"Buwa"},{"$f":"'TIME TABLE 2015-16'!O11","v":"Nandela"},{"$f":"'TIME TABLE 2015-16'!O17","v":"Bhalekar"},{"$f":"'TIME TABLE 2015-16'!O23","v":"Sable"},{"$f":"'TIME TABLE 2015-16'!O29","v":"Nandela"},{"$f":"'TIME TABLE 2015-16'!O35","v":"Buwa"}]
["08:20:00",{"$f":"'TIME TABLE 2015-16'!O6","v":"Sable"},{"$f":"'TIME TABLE 2015-16'!O12","v":"Buwa"},{"$f":"'TIME TABLE 2015-16'!O18","v":"Buwa"},{"$f":"'TIME TABLE 2015-16'!O24","v":"Buwa"},{"$f":"'TIME TABLE 2015-16'!O30","v":"Sable"},{"$f":"'TIME TABLE 2015-16'!O36","v":"Nandela"}]
["09:10:00",{"$f":"'TIME TABLE 2015-16'!O7","v":"Sable"},{"$f":"'TIME TABLE 2015-16'!O13","v":"Buwa"},{"$f":"'TIME TABLE 2015-16'!O19","v":"Buwa"},{"$f":"'TIME TABLE 2015-16'!O25","v":"Nandela"},{"$f":"'TIME TABLE 2015-16'!O31","v":"Nandela"},{"$f":"'TIME TABLE 2015-16'!O37","v":"Nandela"},{"$f":"36-(COUNTIF(B19:G24,0))","v":33}]
[null,"FYBCOM A"]
[null,"M","T","W","T","F","S"]
["04:50:00",{"$f":"'TIME TABLE 2015-16'!F2","v":"Dengle"},{"$f":"'TIME TABLE 2015-16'!F8","v":"Kanase"},{"$f":"'TIME TABLE 2015-16'!F14","v":"Kanase"},{"$f":"'TIME TABLE 2015-16'!F20","v":"Dengle"},{"$f":"'TIME TABLE 2015-16'!F26","v":0},{"$f":"'TIME TABLE 2015-16'!F32","v":0}]
["05:40:00",{"$f":"'TIME TABLE 2015-16'!F3","v":"Kanase"},{"$f":"'TIME TABLE 2015-16'!F9","v":"Dengle"},{"$f":"'TIME TABLE 2015-16'!F15","v":"Dengle"},{"$f":"'TIME TABLE 2015-16'!F21","v":"Suryawanshi"},{"$f":"'TIME TABLE 2015-16'!F27","v":"Kanase"},{"$f":"'TIME TABLE 2015-16'!F33","v":"Kanase"}]
["06:30:00",{"$f":"'TIME TABLE 2015-16'!F4","v":"Sawant"},{"$f":"'TIME TABLE 2015-16'!F10","v":"Suryawanshi"},{"$f":"'TIME TABLE 2015-16'!F16","v":"Nitin Sawant"},{"$f":"'TIME TABLE 2015-16'!F22","v":"Suryawanshi"},{"$f":"'TIME TABLE 2015-16'!F28","v":"Aghav"},{"$f":"'TIME TABLE 2015-16'!F34","v":"Sawant"}]
["07:20:00",{"$f":"'TIME TABLE 2015-16'!F5","v":"Suryawanshi"},{"$f":"'TIME TABLE 2015-16'!F11","v":"Dengle"},{"$f":"'TIME TABLE 2015-16'!F17","v":"Nitin Sawant"},{"$f":"'TIME TABLE 2015-16'!F23","v":"Dengle"},{"$f":"'TIME TABLE 2015-16'!F29","v":"Aghav"},{"$f":"'TIME TABLE 2015-16'!F35","v":"Suryawanshi"}]
["08:20:00",{"$f":"'TIME TABLE 2015-16'!F6","v":"Aghav"},{"$f":"'TIME TABLE 2015-16'!F12","v":"Kanase"},{"$f":"'TIME TABLE 2015-16'!F18","v":"Suryawanshi"},{"$f":"'TIME TABLE 2015-16'!F24","v":"Kanase"},{"$f":"'TIME TABLE 2015-16'!F30","v":"Nitin Sawant"},{"$f":"'TIME TABLE 2015-16'!F36","v":"Kanase"}]
["09:10:00",{"$f":"'TIME TABLE 2015-16'!F7","v":"Aghav"},{"$f":"'TIME TABLE 2015-16'!F13","v":"Kanase"},{"$f":"'TIME TABLE 2015-16'!F19","v":"Sawant"},{"$f":"'TIME TABLE 2015-16'!F25","v":"Kanase"},{"$f":"'TIME TABLE 2015-16'!F31","v":"Nitin Sawant"},{"$f":"'TIME TABLE 2015-16'!F37","v":"Dengle"},{"$f":"36-(COUNTIF(B27:G32,0))","v":34}]
[null,"FYBCOM B"]
[]
["04:50:00",{"$f":"'TIME TABLE 2015-16'!G2","v":"Kanase"},{"$f":"'TIME TABLE 2015-16'!G8","v":"Dengle"},{"$f":"'TIME TABLE 2015-16'!G14","v":"Dengle"},{"$f":"'TIME TABLE 2015-16'!G20","v":"Kanase"},{"$f":"'TIME TABLE 2015-16'!G26","v":"Kanase"},{"$f":"'TIME TABLE 2015-16'!G32","v":0}]
["05:40:00",{"$f":"'TIME TABLE 2015-16'!G3","v":"Dengle"},{"$f":"'TIME TABLE 2015-16'!G9","v":"Kanase"},{"$f":"'TIME TABLE 2015-16'!G15","v":"Kanase"},{"$f":"'TIME TABLE 2015-16'!G21","v":"Dengle"},{"$f":"'TIME TABLE 2015-16'!G27","v":"Suryawanshi"},{"$f":"'TIME TABLE 2015-16'!G33","v":0}]
["06:30:00",{"$f":"'TIME TABLE 2015-16'!G4","v":"Aghav"},{"$f":"'TIME TABLE 2015-16'!G10","v":"Dengle"},{"$f":"'TIME TABLE 2015-16'!G16","v":"Sawant"},{"$f":"'TIME TABLE 2015-16'!G22","v":"Kanase"},{"$f":"'TIME TABLE 2015-16'!G28","v":"Nitin Sawant"},{"$f":"'TIME TABLE 2015-16'!G34","v":"Kanase"}]
["07:20:00",{"$f":"'TIME TABLE 2015-16'!G5","v":"Aghav"},{"$f":"'TIME TABLE 2015-16'!G11","v":"Sawant"},{"$f":"'TIME TABLE 2015-16'!G17","v":"Kanase"},{"$f":"'TIME TABLE 2015-16'!G23","v":"Sawant"},{"$f":"'TIME TABLE 2015-16'!G29","v":"Nitin Sawant"},{"$f":"'TIME TABLE 2015-16'!G35","v":"Kanase"}]
["08:20:00",{"$f":"'TIME TABLE 2015-16'!G6","v":"Dengle"},{"$f":"'TIME TABLE 2015-16'!G12","v":"Aghav"},{"$f":"'TIME TABLE 2015-16'!G18","v":"Nitin Sawant"},{"$f":"'TIME TABLE 2015-16'!G24","v":"Suryawanshi"},{"$f":"'TIME TABLE 2015-16'!G30","v":"Suryawanshi"},{"$f":"'TIME TABLE 2015-16'!G36","v":"Suryawanshi"}]
["09:10:00",{"$f":"'TIME TABLE 2015-16'!G7","v":"Kanase"},{"$f":"'TIME TABLE 2015-16'!G13","v":"Aghav"},{"$f":"'TIME TABLE 2015-16'!G19","v":"Nitin Sawant"},{"$f":"'TIME TABLE 2015-16'!G25","v":"Dengle"},{"$f":"'TIME TABLE 2015-16'!G31","v":"Suryawanshi"},{"$f":"'TIME TABLE 2015-16'!G37","v":"Suryawanshi"},{"$f":"36-(COUNTIF(B35:G40,0))","v":34}]
[null,"SYBCOM A"]
[null,"M","T","W","T","F","S"]
["04:50:00",{"$f":"'TIME TABLE 2015-16'!I2","v":0},{"$f":"'TIME TABLE 2015-16'!I8","v":0},{"$f":"'TIME TABLE 2015-16'!I14","v":0},{"$f":"'TIME TABLE 2015-16'!I20","v":0},{"$f":"'TIME TABLE 2015-16'!I26","v":0},{"$f":"'TIME TABLE 2015-16'!I32","v":0}]
["05:40:00",{"$f":"'TIME TABLE 2015-16'!I3","v":0},{"$f":"'TIME TABLE 2015-16'!I9","v":0},{"$f":"'TIME TABLE 2015-16'!I15","v":0},{"$f":"'TIME TABLE 2015-16'!I21","v":0},{"$f":"'TIME TABLE 2015-16'!I27","v":0},{"$f":"'TIME TABLE 2015-16'!I33","v":0}]
["06:30:00",{"$f":"'TIME TABLE 2015-16'!I4","v":"Suryawanshi"},{"$f":"'TIME TABLE 2015-16'!I10","v":"Sawant"},{"$f":"'TIME TABLE 2015-16'!I16","v":"Suryawanshi"},{"$f":"'TIME TABLE 2015-16'!I22","v":0},{"$f":"'TIME TABLE 2015-16'!I28","v":"Mishra"},{"$f":"'TIME TABLE 2015-16'!I34","v":"Bhave"}]
["07:20:00",{"$f":"'TIME TABLE 2015-16'!I5","v":"Bhave"},{"$f":"'TIME TABLE 2015-16'!I11","v":"Bhave"},{"$f":"'TIME TABLE 2015-16'!I17","v":"Jambhule"},{"$f":"'TIME TABLE 2015-16'!I23","v":"Suryawanshi"},{"$f":"'TIME TABLE 2015-16'!I29","v":"Mishra"},{"$f":"'TIME TABLE 2015-16'!I35","v":0}]
["08:20:00",{"$f":"'TIME TABLE 2015-16'!I6","v":"Sawant"},{"$f":"'TIME TABLE 2015-16'!I12","v":"Mishra"},{"$f":"'TIME TABLE 2015-16'!I18","v":"Singh"},{"$f":"'TIME TABLE 2015-16'!I24","v":"Sawant"},{"$f":"'TIME TABLE 2015-16'!I30","v":"Singh"},{"$f":"'TIME TABLE 2015-16'!I36","v":"Jambhule"}]
["09:10:00",{"$f":"'TIME TABLE 2015-16'!I7","v":0},{"$f":"'TIME TABLE 2015-16'!I13","v":"Mishra"},{"$f":"'TIME TABLE 2015-16'!I19","v":0},{"$f":"'TIME TABLE 2015-16'!I25","v":"Jambhule"},{"$f":"'TIME TABLE 2015-16'!I31","v":"Singh"},{"$f":"'TIME TABLE 2015-16'!I37","v":0},{"$f":"36-(COUNTIF(B43:G48,0))","v":19}]
[null,"SYBCOM B"]
[null,"M","T","W","T","F","S"]
["04:50:00",{"$f":"'TIME TABLE 2015-16'!J2","v":0},{"$f":"'TIME TABLE 2015-16'!J8","v":0},{"$f":"'TIME TABLE 2015-16'!J14","v":0},{"$f":"'TIME TABLE 2015-16'!J20","v":0},{"$f":"'TIME TABLE 2015-16'!J26","v":0},{"$f":"'TIME TABLE 2015-16'!J32","v":0}]
["05:40:00",{"$f":"'TIME TABLE 2015-16'!J3","v":0},{"$f":"'TIME TABLE 2015-16'!J9","v":0},{"$f":"'TIME TABLE 2015-16'!J15","v":0},{"$f":"'TIME TABLE 2015-16'!J21","v":0},{"$f":"'TIME TABLE 2015-16'!J27","v":0},{"$f":"'TIME TABLE 2015-16'!J33","v":0}]
["06:30:00",{"$f":"'TIME TABLE 2015-16'!J4","v":"Jambhule"},{"$f":"'TIME TABLE 2015-16'!J10","v":"Mishra"},{"$f":"'TIME TABLE 2015-16'!J16","v":"Jambhule"},{"$f":"'TIME TABLE 2015-16'!J22","v":"Sawant"},{"$f":"'TIME TABLE 2015-16'!J28","v":0},{"$f":"'TIME TABLE 2015-16'!J34","v":"Suryawanshi"}]
["07:20:00",{"$f":"'TIME TABLE 2015-16'!J5","v":"Sawant"},{"$f":"'TIME TABLE 2015-16'!J11","v":"Mishra"},{"$f":"'TIME TABLE 2015-16'!J17","v":"Bhave"},{"$f":"'TIME TABLE 2015-16'!J23","v":"Bhave"},{"$f":"'TIME TABLE 2015-16'!J29","v":"Suryawanshi"},{"$f":"'TIME TABLE 2015-16'!J35","v":"Bhave"}]
["08:20:00",{"$f":"'TIME TABLE 2015-16'!J6","v":0},{"$f":"'TIME TABLE 2015-16'!J12","v":"Suryawanshi"},{"$f":"'TIME TABLE 2015-16'!J18","v":"Sawant"},{"$f":"'TIME TABLE 2015-16'!J24","v":"Jambhule"},{"$f":"'TIME TABLE 2015-16'!J30","v":"Mishra"},{"$f":"'TIME TABLE 2015-16'!J36","v":"Singh"}]
["09:10:00",{"$f":"'TIME TABLE 2015-16'!J7","v":0},{"$f":"'TIME TABLE 2015-16'!J13","v":0},{"$f":"'TIME TABLE 2015-16'!J19","v":"Singh"},{"$f":"'TIME TABLE 2015-16'!J25","v":0},{"$f":"'TIME TABLE 2015-16'!J31","v":"Mishra"},{"$f":"'TIME TABLE 2015-16'!J37","v":"Singh"},{"$f":"36-(COUNTIF(B51:G56,0))","v":19}]
[null,"TYBCOM A"]
[null,"M","T","W","T","F","S"]
["04:50:00",{"$f":"'TIME TABLE 2015-16'!K2","v":"Lab"},{"$f":"'TIME TABLE 2015-16'!K8","v":"Lab"},{"$f":"'TIME TABLE 2015-16'!K14","v":"Lab"},{"$f":"'TIME TABLE 2015-16'!K20","v":"Lab"},{"$f":"'TIME TABLE 2015-16'!K26","v":"Lab"},{"$f":"'TIME TABLE 2015-16'!K32","v":0}]
["05:40:00",{"$f":"'TIME TABLE 2015-16'!K3","v":"Lab"},{"$f":"'TIME TABLE 2015-16'!K9","v":"Lab"},{"$f":"'TIME TABLE 2015-16'!K15","v":"Lab"},{"$f":"'TIME TABLE 2015-16'!K21","v":"Lab"},{"$f":"'TIME TABLE 2015-16'!K27","v":0},{"$f":"'TIME TABLE 2015-16'!K33","v":0}]
["06:30:00",{"$f":"'TIME TABLE 2015-16'!K4","v":"Bhave"},{"$f":"'TIME TABLE 2015-16'!K10","v":"Bhave"},{"$f":"'TIME TABLE 2015-16'!K16","v":"Bhave"},{"$f":"'TIME TABLE 2015-16'!K22","v":"Bhave"},{"$f":"'TIME TABLE 2015-16'!K28","v":"Pandagale"},{"$f":"'TIME TABLE 2015-16'!K34","v":0}]
["07:20:00",{"$f":"'TIME TABLE 2015-16'!K5","v":"Nandela"},{"$f":"'TIME TABLE 2015-16'!K11","v":"Gaikwad"},{"$f":"'TIME TABLE 2015-16'!K17","v":"Nandela"},{"$f":"'TIME TABLE 2015-16'!K23","v":"Nandela"},{"$f":"'TIME TABLE 2015-16'!K29","v":"Sawant"},{"$f":"'TIME TABLE 2015-16'!K35","v":"Sawant"}]
["08:20:00",{"$f":"'TIME TABLE 2015-16'!K6","v":"Pandagale"},{"$f":"'TIME TABLE 2015-16'!K12","v":"Pandagale"},{"$f":"'TIME TABLE 2015-16'!K18","v":"Pandagale"},{"$f":"'TIME TABLE 2015-16'!K24","v":"Pandagale"},{"$f":"'TIME TABLE 2015-16'!K30","v":"Pandagale"},{"$f":"'TIME TABLE 2015-16'!K36","v":"Pandagale"}]
["09:10:00",{"$f":"'TIME TABLE 2015-16'!K7","v":"Pandagale"},{"$f":"'TIME TABLE 2015-16'!K13","v":"Pandagale"},{"$f":"'TIME TABLE 2015-16'!K19","v":"Pandagale"},{"$f":"'TIME TABLE 2015-16'!K25","v":"Pandagale"},{"$f":"'TIME TABLE 2015-16'!K31","v":"Pandagale"},{"$f":"'TIME TABLE 2015-16'!K37","v":"Pandagale"},{"$f":"36-(COUNTIF(B59:G64,0))","v":32}]
[null,"TYBCOM B"]
[null,"M","T","W","T","F","S"]
["04:50:00",{"$f":"'TIME TABLE 2015-16'!L2","v":0},{"$f":"'TIME TABLE 2015-16'!L8","v":0},{"$f":"'TIME TABLE 2015-16'!L14","v":0},{"$f":"'TIME TABLE 2015-16'!L20","v":0},{"$f":"'TIME TABLE 2015-16'!L26","v":0},{"$f":"'TIME TABLE 2015-16'!L32","v":0}]
["05:40:00",{"$f":"'TIME TABLE 2015-16'!L3","v":0},{"$f":"'TIME TABLE 2015-16'!L9","v":0},{"$f":"'TIME TABLE 2015-16'!L15","v":0},{"$f":"'TIME TABLE 2015-16'!L21","v":0},{"$f":"'TIME TABLE 2015-16'!L27","v":0},{"$f":"'TIME TABLE 2015-16'!L33","v":0}]
["06:30:00",{"$f":"'TIME TABLE 2015-16'!L4","v":"Pandagale"},{"$f":"'TIME TABLE 2015-16'!L10","v":"Pandagale"},{"$f":"'TIME TABLE 2015-16'!L16","v":"Pandagale"},{"$f":"'TIME TABLE 2015-16'!L22","v":"Pandagale"},{"$f":"'TIME TABLE 2015-16'!L28","v":"Nandela"},{"$f":"'TIME TABLE 2015-16'!L34","v":"Pandagale"}]
["07:20:00",{"$f":"'TIME TABLE 2015-16'!L5","v":"Pandagale"},{"$f":"'TIME TABLE 2015-16'!L11","v":"Pandagale"},{"$f":"'TIME TABLE 2015-16'!L17","v":"Pandagale"},{"$f":"'TIME TABLE 2015-16'!L23","v":"Pandagale"},{"$f":"'TIME TABLE 2015-16'!L29","v":"Bhave"},{"$f":"'TIME TABLE 2015-16'!L35","v":"Pandagale"}]
["08:20:00",{"$f":"'TIME TABLE 2015-16'!L6","v":"Bhave"},{"$f":"'TIME TABLE 2015-16'!L12","v":"Sawant"},{"$f":"'TIME TABLE 2015-16'!L18","v":"Nandela"},{"$f":"'TIME TABLE 2015-16'!L24","v":"Nandela"},{"$f":"'TIME TABLE 2015-16'!L30","v":"Sawant"},{"$f":"'TIME TABLE 2015-16'!L36","v":"Gaikwad"}]
["09:10:00",{"$f":"'TIME TABLE 2015-16'!L7","v":"Sawant"},{"$f":"'TIME TABLE 2015-16'!L13","v":"Bhave"},{"$f":"'TIME TABLE 2015-16'!L19","v":"Bhave"},{"$f":"'TIME TABLE 2015-16'!L25","v":0},{"$f":"'TIME TABLE 2015-16'!L31","v":"Sawant"},{"$f":"'TIME TABLE 2015-16'!L37","v":"Sawant"},{"$f":"36-(COUNTIF(B67:G72,0))","v":23}]
[null,"FYBCOM C"]
[null,"M","T","W","T","F","S"]
["04:50:00",{"$f":"'TIME TABLE 2015-16'!H2","v":0},{"$f":"'TIME TABLE 2015-16'!H8","v":"Kanase"},{"$f":"'TIME TABLE 2015-16'!H14","v":"Kanase"},{"$f":"'TIME TABLE 2015-16'!H20","v":"Dengle"},{"$f":"'TIME TABLE 2015-16'!H26","v":"Dengle"},{"$f":"'TIME TABLE 2015-16'!H32","v":"Dengle"}]
["05:40:00",{"$f":"'TIME TABLE 2015-16'!H3","v":0},{"$f":"'TIME TABLE 2015-16'!H9","v":"Kanase"},{"$f":"'TIME TABLE 2015-16'!H15","v":"Dengle"},{"$f":"'TIME TABLE 2015-16'!H21","v":"Kanase"},{"$f":"'TIME TABLE 2015-16'!H27","v":"Kanase"},{"$f":"'TIME TABLE 2015-16'!H33","v":"Kanase"}]
["06:30:00",{"$f":"'TIME TABLE 2015-16'!H4","v":"Kanase"},{"$f":"'TIME TABLE 2015-16'!H10","v":"Aghav"},{"$f":"'TIME TABLE 2015-16'!H16","v":"Principal"},{"$f":"'TIME TABLE 2015-16'!H22","v":"Dengle"},{"$f":"'TIME TABLE 2015-16'!H28","v":"Kanase"},{"$f":"'TIME TABLE 2015-16'!H34","v":"Gaikwad"}]
["07:20:00",{"$f":"'TIME TABLE 2015-16'!H5","v":"Kanase"},{"$f":"'TIME TABLE 2015-16'!H11","v":"Aghav"},{"$f":"'TIME TABLE 2015-16'!H17","v":"Sawant"},{"$f":"'TIME TABLE 2015-16'!H23","v":"Kanase"},{"$f":"'TIME TABLE 2015-16'!H29","v":"Jambhule"},{"$f":"'TIME TABLE 2015-16'!H35","v":"Gaikwad"}]
["08:20:00",{"$f":"'TIME TABLE 2015-16'!H6","v":"Principal"},{"$f":"'TIME TABLE 2015-16'!H12","v":"Gaikwad"},{"$f":"'TIME TABLE 2015-16'!H18","v":"Dengle"},{"$f":"'TIME TABLE 2015-16'!H24","v":"Principal"},{"$f":"'TIME TABLE 2015-16'!H30","v":"Aghav"},{"$f":"'TIME TABLE 2015-16'!H36","v":"Sawant"}]
["09:10:00",{"$f":"'TIME TABLE 2015-16'!H7","v":"Jambhule"},{"$f":"'TIME TABLE 2015-16'!H13","v":"Gaikwad"},{"$f":"'TIME TABLE 2015-16'!H19","v":"Dengle"},{"$f":"'TIME TABLE 2015-16'!H25","v":"Sawant"},{"$f":"'TIME TABLE 2015-16'!H31","v":"Aghav"},{"$f":"'TIME TABLE 2015-16'!H37","v":"Jambhule"},{"$f":"36-(COUNTIF(B75:G80,0))","v":34}]

{"sheet":"For student notice board","index":4,"n_rows":37,"n_cols":23,"rows_kept":37,"cut":false,"hidden":false,"merged":[[25,0,30,0],[31,0,36,0],[1,0,6,0],[7,0,12,0],[13,0,18,0],[19,0,24,0]]}
[{"$f":"subjectwise!A1","v":"DAY"},{"$f":"subjectwise!B1","v":"PERIOD"},{"$f":"subjectwise!C1","v":"START TIME"},{"$f":"subjectwise!D1","v":"END TIME"},{"$f":"subjectwise!E1","v":"DURATION"},{"$f":"subjectwise!G1","v":"FYBCOM A"},{"$f":"'TIME TABLE 2015-16'!F1","v":"FYBCOM A"},{"$f":"subjectwise!I1","v":"FYBCOM B"},{"$f":"'TIME TABLE 2015-16'!G1","v":"FYBCOM B"},{"$f":"subjectwise!K1","v":"SYBCOM A"},{"$f":"'TIME TABLE 2015-16'!I1","v":"SYBCOM A"},{"$f":"subjectwise!M1","v":"SYBOCM B"},{"$f":"'TIME TABLE 2015-16'!J1","v":"SYBOCM B"},{"$f":"subjectwise!O1","v":"TYBCOM A"},{"$f":"'TIME TABLE 2015-16'!K1","v":"TYBCOM A"},{"$f":"subjectwise!Q1","v":"TYBCOM B"},{"$f":"'TIME TABLE 2015-16'!L1","v":"TYBCOM B"},{"$f":"subjectwise!S1","v":"FYBA"},{"$f":"'TIME TABLE 2015-16'!M1","v":"FYBA"},{"$f":"subjectwise!U1","v":"SYBA"},{"$f":"'TIME TABLE 2015-16'!N1","v":"SYBA"},{"$f":"subjectwise!W1","v":"TYBA"},{"$f":"'TIME TABLE 2015-16'!O1","v":"TYBA"}]
[{"$f":"subjectwise!A2","v":"MONDAY"},{"$f":"subjectwise!B2","v":1},{"$f":"subjectwise!C2","v":"04:50:00"},{"$f":"subjectwise!D2","v":"05:38:00"},{"$f":"subjectwise!E2","v":"00:48:00"},{"$f":"subjectwise!G2","v":"Bus.Comm."},{"$f":"'TIME TABLE 2015-16'!F2","v":"Dengle"},{"$f":"subjectwise!I2","v":"Maths"},{"$f":"'TIME TABLE 2015-16'!G2","v":"Kanase"},{"$f":"subjectwise!K2","v":"___"},{"$f":"'TIME TABLE 2015-16'!I2","v":0},{"$f":"subjectwise!M2","v":"___"},{"$f":"'TIME TABLE 2015-16'!J2","v":0},{"$f":"subjectwise!O2","v":"Comp"},{"$f":"'TIME TABLE 2015-16'!K2","v":"Lab"},{"$f":"subjectwise!Q2","v":"___"},{"$f":"'TIME TABLE 2015-16'!L2","v":0},{"$f":"subjectwise!S2","v":"___"},{"$f":"'TIME TABLE 2015-16'!M2","v":0},{"$f":"subjectwise!U2","v":"___"},{"$f":"'TIME TABLE 2015-16'!N2","v":0},{"$f":"subjectwise!W2","v":"Economics"},{"$f":"'TIME TABLE 2015-16'!O2","v":"Nandela"}]
[null,{"$f":"subjectwise!B3","v":2},{"$f":"subjectwise!C3","v":"05:40:00"},{"$f":"subjectwise!D3","v":"06:28:00"},{"$f":"subjectwise!E3","v":"00:48:00"},{"$f":"subjectwise!G3","v":"Maths"},{"$f":"'TIME TABLE 2015-16'!F3","v":"Kanase"},{"$f":"subjectwise!I3","v":"Bus.Comm."},{"$f":"'TIME TABLE 2015-16'!G3","v":"Dengle"},{"$f":"subjectwise!K3","v":"___"},{"$f":"'TIME TABLE 2015-16'!I3","v":0},{"$f":"subjectwise!M3","v":"___"},{"$f":"'TIME TABLE 2015-16'!J3","v":0},{"$f":"subjectwise!O3","v":"Comp"},{"$f":"'TIME TABLE 2015-16'!K3","v":"Lab"},{"$f":"subjectwise!Q3","v":"___"},{"$f":"'TIME TABLE 2015-16'!L3","v":0},{"$f":"subjectwise!S3","v":"___"},{"$f":"'TIME TABLE 2015-16'!M3","v":0},{"$f":"subjectwise!U3","v":"___"},{"$f":"'TIME TABLE 2015-16'!N3","v":0},{"$f":"subjectwise!W3","v":"Political Science"},{"$f":"'TIME TABLE 2015-16'!O3","v":"Buwa"}]
[null,{"$f":"subjectwise!B4","v":3},{"$f":"subjectwise!C4","v":"06:30:00"},{"$f":"subjectwise!D4","v":"07:18:00"},{"$f":"subjectwise!E4","v":"00:48:00"},{"$f":"subjectwise!G4","v":"Commerce 1"},{"$f":"'TIME TABLE 2015-16'!F4","v":"Sawant"},{"$f":"subjectwise!I4","v":"EVS"},{"$f":"'TIME TABLE 2015-16'!G4","v":"Aghav"},{"$f":"subjectwise!K4","v":"Economics"},{"$f":"'TIME TABLE 2015-16'!I4","v":"Suryawanshi"},{"$f":"subjectwise!M4","v":"Foundation Course"},{"$f":"'TIME TABLE 2015-16'!J4","v":"Jambhule"},{"$f":"subjectwise!O4","v":"Expo. Mark."},{"$f":"'TIME TABLE 2015-16'!K4","v":"Bhave"},{"$f":"subjectwise!Q4","v":"___"},{"$f":"'TIME TABLE 2015-16'!L4","v":"Pandagale"},{"$f":"subjectwise!S4","v":"Comm. Skills"},{"$f":"'TIME TABLE 2015-16'!M4","v":"Dengle"},{"$f":"subjectwise!U4","v":"___"},{"$f":"'TIME TABLE 2015-16'!N4","v":"Sable"},{"$f":"subjectwise!W4","v":"Economics"},{"$f":"'TIME TABLE 2015-16'!O4","v":"Nandela"}]
[null,{"$f":"subjectwise!B5","v":4},{"$f":"subjectwise!C5","v":"07:20:00"},{"$f":"subjectwise!D5","v":"08:08:00"},{"$f":"subjectwise!E5","v":"00:48:00"},{"$f":"subjectwise!G5","v":"Economics"},{"$f":"'TIME TABLE 2015-16'!F5","v":"Suryawanshi"},{"$f":"subjectwise!I5","v":"EVS"},{"$f":"'TIME TABLE 2015-16'!G5","v":"Aghav"},{"$f":"subjectwise!K5","v":"Lab. Wel."},{"$f":"'TIME TABLE 2015-16'!I5","v":"Bhave"},{"$f":"subjectwise!M5","v":"Advt."},{"$f":"'TIME TABLE 2015-16'!J5","v":"Sawant"},{"$f":"subjectwise!O5","v":"Foundation Course"},{"$f":"'TIME TABLE 2015-16'!K5","v":"Nandela"},{"$f":"subjectwise!Q5","v":"Accountancy"},{"$f":"'TIME TABLE 2015-16'!L5","v":"Pandagale"},{"$f":"subjectwise!S5","v":"___"},{"$f":"'TIME TABLE 2015-16'!M5","v":"Sable"},{"$f":"subjectwise!U5","v":"Economics"},{"$f":"'TIME TABLE 2015-16'!N5","v":"Jambhule"},{"$f":"subjectwise!W5","v":"Political Science"},{"$f":"'TIME TABLE 2015-16'!O5","v":"Buwa"}]
[null,{"$f":"subjectwise!B6","v":5},{"$f":"subjectwise!C6","v":"08:20:00"},{"$f":"subjectwise!D6","v":"09:08:00"},{"$f":"subjectwise!E6","v":"00:48:00"},{"$f":"subjectwise!G6","v":"EVS"},{"$f":"'TIME TABLE 2015-16'!F6","v":"Aghav"},{"$f":"subjectwise!I6","v":"Bus.Comm."},{"$f":"'TIME TABLE 2015-16'!G6","v":"Dengle"},{"$f":"subjectwise!K6","v":"Advt."},{"$f":"'TIME TABLE 2015-16'!I6","v":"Sawant"},{"$f":"subjectwise!M6","v":"___"},{"$f":"'TIME TABLE 2015-16'!J6","v":0},{"$f":"subjectwise!O6","v":"___"},{"$f":"'TIME TABLE 2015-16'!K6","v":"Pandagale"},{"$f":"subjectwise!Q6","v":"Lab. Wel."},{"$f":"'TIME TABLE 2015-16'!L6","v":"Bhave"},{"$f":"subjectwise!S6","v":"Economics"},{"$f":"'TIME TABLE 2015-16'!M6","v":"Jambhule"},{"$f":"subjectwise!U6","v":"Political Science"},{"$f":"'TIME TABLE 2015-16'!N6","v":"Buwa"},{"$f":"subjectwise!W6","v":"___"},{"$f":"'TIME TABLE 2015-16'!O6","v":"Sable"}]
[null,{"$f":"subjectwise!B7","v":6},{"$f":"subjectwise!C7","v":"09:10:00"},{"$f":"subjectwise!D7","v":"09:58:00"},{"$f":"subjectwise!E7","v":"00:48:00"},{"$f":"subjectwise!G7","v":"EVS"},{"$f":"'TIME TABLE 2015-16'!F7","v":"Aghav"},{"$f":"subjectwise!I7","v":"Maths"},{"$f":"'TIME TABLE 2015-16'!G7","v":"Kanase"},{"$f":"subjectwise!K7","v":"___"},{"$f":"'TIME TABLE 2015-16'!I7","v":0},{"$f":"subjectwise!M7","v":"___"},{"$f":"'TIME TABLE 2015-16'!J7","v":0},{"$f":"subjectwise!O7","v":"Accountancy"},{"$f":"'TIME TABLE 2015-16'!K7","v":"Pandagale"},{"$f":"subjectwise!Q7","v":"Advt."},{"$f":"'TIME TABLE 2015-16'!L7","v":"Sawant"},{"$f":"subjectwise!S7","v":"___"},{"$f":"'TIME TABLE 2015-16'!M7","v":0},{"$f":"subjectwise!U7","v":"Political Science"},{"$f":"'TIME TABLE 2015-16'!N7","v":"Buwa"},{"$f":"subjectwise!W7","v":"___"},{"$f":"'TIME TABLE 2015-16'!O7","v":"Sable"}]
[{"$f":"subjectwise!A8","v":"TUESDAY"},{"$f":"subjectwise!B8","v":1},{"$f":"subjectwise!C8","v":"04:50:00"},{"$f":"subjectwise!D8","v":"05:38:00"},{"$f":"subjectwise!E8","v":"00:48:00"},{"$f":"subjectwise!G8","v":"Maths"},{"$f":"'TIME TABLE 2015-16'!F8","v":"Kanase"},{"$f":"subjectwise!I8","v":"Bus.Comm."},{"$f":"'TIME TABLE 2015-16'!G8","v":"Dengle"},{"$f":"subjectwise!K8","v":"___"},{"$f":"'TIME TABLE 2015-16'!I8","v":0},{"$f":"subjectwise!M8","v":"___"},{"$f":"'TIME TABLE 2015-16'!J8","v":0},{"$f":"subjectwise!O8","v":"Comp"},{"$f":"'TIME TABLE 2015-16'!K8","v":"Lab"},{"$f":"subjectwise!Q8","v":"___"},{"$f":"'TIME TABLE 2015-16'!L8","v":0},{"$f":"subjectwise!S8","v":"___"},{"$f":"'TIME TABLE 2015-16'!M8","v":0},{"$f":"subjectwise!U8","v":"___"},{"$f":"'TIME TABLE 2015-16'!N8","v":0},{"$f":"subjectwise!W8","v":"Economics"},{"$f":"'TIME TABLE 2015-16'!O8","v":"Nandela"}]
[null,{"$f":"subjectwise!B9","v":2},{"$f":"subjectwise!C9","v":"05:40:00"},{"$f":"subjectwise!D9","v":"06:28:00"},{"$f":"subjectwise!E9","v":"00:48:00"},{"$f":"subjectwise!G9","v":"Bus.Comm."},{"$f":"'TIME TABLE 2015-16'!F9","v":"Dengle"},{"$f":"subjectwise!I9","v":"Maths"},{"$f":"'TIME TABLE 2015-16'!G9","v":"Kanase"},{"$f":"subjectwise!K9","v":"___"},{"$f":"'TIME TABLE 2015-16'!I9","v":0},{"$f":"subjectwise!M9","v":"___"},{"$f":"'TIME TABLE 2015-16'!J9","v":0},{"$f":"subjectwise!O9","v":"Comp"},{"$f":"'TIME TABLE 2015-16'!K9","v":"Lab"},{"$f":"subjectwise!Q9","v":"___"},{"$f":"'TIME TABLE 2015-16'!L9","v":0},{"$f":"subjectwise!S9","v":"___"},{"$f":"'TIME TABLE 2015-16'!M9","v":0},{"$f":"subjectwise!U9","v":"Lab. Wel."},{"$f":"'TIME TABLE 2015-16'!N9","v":"Bhave"},{"$f":"subjectwise!W9","v":"Political Science"},{"$f":"'TIME TABLE 2015-16'!O9","v":"Buwa"}]
[null,{"$f":"subjectwise!B10","v":3},{"$f":"subjectwise!C10","v":"06:30:00"},{"$f":"subjectwise!D10","v":"07:18:00"},{"$f":"subjectwise!E10","v":"00:48:00"},{"$f":"subjectwise!G10","v":"Economics"},{"$f":"'TIME TABLE 2015-16'!F10","v":"Suryawanshi"},{"$f":"subjectwise!I10","v":"Bus.Comm."},{"$f":"'TIME TABLE 2015-16'!G10","v":"Dengle"},{"$f":"subjectwise!K10","v":"Advt."},{"$f":"'TIME TABLE 2015-16'!I10","v":"Sawant"},{"$f":"subjectwise!M10","v":"___"},{"$f":"'TIME TABLE 2015-16'!J10","v":"Mishra"},{"$f":"subjectwise!O10","v":"Expo. Mark."},{"$f":"'TIME TABLE 2015-16'!K10","v":"Bhave"},{"$f":"subjectwise!Q10","v":"Accountancy"},{"$f":"'TIME TABLE 2015-16'!L10","v":"Pandagale"},{"$f":"subjectwise!S10","v":"Economics"},{"$f":"'TIME TABLE 2015-16'!M10","v":"Jambhule"},{"$f":"subjectwise!U10","v":"Political Science"},{"$f":"'TIME TABLE 2015-16'!N10","v":"Buwa"},{"$f":"subjectwise!W10","v":"Economics"},{"$f":"'TIME TABLE 2015-16'!O10","v":"Nandela"}]
[null,{"$f":"subjectwise!B11","v":4},{"$f":"subjectwise!C11","v":"07:20:00"},{"$f":"subjectwise!D11","v":"08:08:00"},{"$f":"subjectwise!E11","v":"00:48:00"},{"$f":"subjectwise!G11","v":"Bus.Comm."},{"$f":"'TIME TABLE 2015-16'!F11","v":"Dengle"},{"$f":"subjectwise!I11","v":"Advt."},{"$f":"'TIME TABLE 2015-16'!G11","v":"Sawant"},{"$f":"subjectwise!K11","v":"Commerce 2"},{"$f":"'TIME TABLE 2015-16'!I11","v":"Bhave"},{"$f":"subjectwise!M11","v":"___"},{"$f":"'TIME TABLE 2015-16'!J11","v":"Mishra"},{"$f":"subjectwise!O11","v":"___"},{"$f":"'TIME TABLE 2015-16'!K11","v":"Gaikwad"},{"$f":"subjectwise!Q11","v":"Accountancy"},{"$f":"'TIME TABLE 2015-16'!L11","v":"Pandagale"},{"$f":"subjectwise!S11","v":"Political Science"},{"$f":"'TIME TABLE 2015-16'!M11","v":"Buwa"},{"$f":"subjectwise!U11","v":"___"},{"$f":"'TIME TABLE 2015-16'!N11","v":"Sable"},{"$f":"subjectwise!W11","v":"Economics"},{"$f":"'TIME TABLE 2015-16'!O11","v":"Nandela"}]
[null,{"$f":"subjectwise!B12","v":5},{"$f":"subjectwise!C12","v":"08:20:00"},{"$f":"subjectwise!D12","v":"09:08:00"},{"$f":"subjectwise!E12","v":"00:48:00"},{"$f":"subjectwise!G12","v":"Maths"},{"$f":"'TIME TABLE 2015-16'!F12","v":"Kanase"},{"$f":"subjectwise!I12","v":"EVS"},{"$f":"'TIME TABLE 2015-16'!G12","v":"Aghav"},{"$f":"subjectwise!K12","v":"___"},{"$f":"'TIME TABLE 2015-16'!I12","v":"Mishra"},{"$f":"subjectwise!M12","v":"Economics"},{"$f":"'TIME TABLE 2015-16'!J12","v":"Suryawanshi"},{"$f":"subjectwise!O12","v":"Accountancy"},{"$f":"'TIME TABLE 2015-16'!K12","v":"Pandagale"},{"$f":"subjectwise!Q12","v":"Advt."},{"$f":"'TIME TABLE 2015-16'!L12","v":"Sawant"},{"$f":"subjectwise!S12","v":"___"},{"$f":"'TIME TABLE 2015-16'!M12","v":"Sable"},{"$f":"subjectwise!U12","v":"Economics"},{"$f":"'TIME TABLE 2015-16'!N12","v":"Jambhule"},{"$f":"subjectwise!W12","v":"Political Science"},{"$f":"'TIME TABLE 2015-16'!O12","v":"Buwa"}]
[null,{"$f":"subjectwise!B13","v":6},{"$f":"subjectwise!C13","v":"09:10:00"},{"$f":"subjectwise!D13","v":"09:58:00"},{"$f":"subjectwise!E13","v":"00:48:00"},{"$f":"subjectwise!G13","v":"Maths"},{"$f":"'TIME TABLE 2015-16'!F13","v":"Kanase"},{"$f":"subjectwise!I13","v":"EVS"},{"$f":"'TIME TABLE 2015-16'!G13","v":"Aghav"},{"$f":"subjectwise!K13","v":"___"},{"$f":"'TIME TABLE 2015-16'!I13","v":"Mishra"},{"$f":"subjectwise!M13","v":"___"},{"$f":"'TIME TABLE 2015-16'!J13","v":0},{"$f":"subjectwise!O13","v":"Accountancy"},{"$f":"'TIME TABLE 2015-16'!K13","v":"Pandagale"},{"$f":"subjectwise!Q13","v":"Lab. Wel."},{"$f":"'TIME TABLE 2015-16'!L13","v":"Bhave"},{"$f":"subjectwise!S13","v":"___"},{"$f":"'TIME TABLE 2015-16'!M13","v":"Sable"},{"$f":"subjectwise!U13","v":"Foundation Course"},{"$f":"'TIME TABLE 2015-16'!N13","v":"Jambhule"},{"$f":"subjectwise!W13","v":"Political Science"},{"$f":"'TIME TABLE 2015-16'!O13","v":"Buwa"}]
[{"$f":"subjectwise!A14","v":"WEDNESDAY"},{"$f":"subjectwise!B14","v":1},{"$f":"subjectwise!C14","v":"04:50:00"},{"$f":"subjectwise!D14","v":"05:38:00"},{"$f":"subjectwise!E14","v":"00:48:00"},{"$f":"subjectwise!G14","v":"Maths"},{"$f":"'TIME TABLE 2015-16'!F14","v":"Kanase"},{"$f":"subjectwise!I14","v":"Bus.Comm."},{"$f":"'TIME TABLE 2015-16'!G14","v":"Dengle"},{"$f":"subjectwise!K14","v":"___"},{"$f":"'TIME TABLE 2015-16'!I14","v":0},{"$f":"subjectwise!M14","v":"___"},{"$f":"'TIME TABLE 2015-16'!J14","v":0},{"$f":"subjectwise!O14","v":"Comp"},{"$f":"'TIME TABLE 2015-16'!K14","v":"Lab"},{"$f":"subjectwise!Q14","v":"___"},{"$f":"'TIME TABLE 2015-16'!L14","v":0},{"$f":"subjectwise!S14","v":"___"},{"$f":"'TIME TABLE 2015-16'!M14","v":0},{"$f":"subjectwise!U14","v":"___"},{"$f":"'TIME TABLE 2015-16'!N14","v":0},{"$f":"subjectwise!W14","v":"Economics"},{"$f":"'TIME TABLE 2015-16'!O14","v":"Nandela"}]
[null,{"$f":"subjectwise!B15","v":2},{"$f":"subjectwise!C15","v":"05:40:00"},{"$f":"subjectwise!D15","v":"06:28:00"},{"$f":"subjectwise!E15","v":"00:48:00"},{"$f":"subjectwise!G15","v":"Bus.Comm."},{"$f":"'TIME TABLE 2015-16'!F15","v":"Dengle"},{"$f":"subjectwise!I15","v":"Maths"},{"$f":"'TIME TABLE 2015-16'!G15","v":"Kanase"},{"$f":"subjectwise!K15","v":"___"},{"$f":"'TIME TABLE 2015-16'!I15","v":0},{"$f":"subjectwise!M15","v":"___"},{"$f":"'TIME TABLE 2015-16'!J15","v":0},{"$f":"subjectwise!O15","v":"Comp"},{"$f":"'TIME TABLE 2015-16'!K15","v":"Lab"},{"$f":"subjectwise!Q15","v":"___"},{"$f":"'TIME TABLE 2015-16'!L15","v":0},{"$f":"subjectwise!S15","v":"___"},{"$f":"'TIME TABLE 2015-16'!M15","v":0},{"$f":"subjectwise!U15","v":"___"},{"$f":"'TIME TABLE 2015-16'!N15","v":0},{"$f":"subjectwise!W15","v":"Political Science"},{"$f":"'TIME TABLE 2015-16'!O15","v":"Buwa"}]
[null,{"$f":"subjectwise!B16","v":3},{"$f":"subjectwise!C16","v":"06:30:00"},{"$f":"subjectwise!D16","v":"07:18:00"},{"$f":"subjectwise!E16","v":"00:48:00"},{"$f":"subjectwise!G16","v":"Accountancy"},{"$f":"'TIME TABLE 2015-16'!F16","v":"Nitin Sawant"},{"$f":"subjectwise!I16","v":"Advt."},{"$f":"'TIME TABLE 2015-16'!G16","v":"Sawant"},{"$f":"subjectwise!K16","v":"Economics"},{"$f":"'TIME TABLE 2015-16'!I16","v":"Suryawanshi"},{"$f":"subjectwise!M16","v":"Foundation Course"},{"$f":"'TIME TABLE 2015-16'!J16","v":"Jambhule"},{"$f":"subjectwise!O16","v":"Expo. Mark."},{"$f":"'TIME TABLE 2015-16'!K16","v":"Bhave"},{"$f":"subjectwise!Q16","v":"___"},{"$f":"'TIME TABLE 2015-16'!L16","v":"Pandagale"},{"$f":"subjectwise!S16","v":"Political Science"},{"$f":"'TIME TABLE 2015-16'!M16","v":"Buwa"},{"$f":"subjectwise!U16","v":"___"},{"$f":"'TIME TABLE 2015-16'!N16","v":"Sable"},{"$f":"subjectwise!W16","v":"___"},{"$f":"'TIME TABLE 2015-16'!O16","v":"Bhalekar"}]
[null,{"$f":"subjectwise!B17","v":4},{"$f":"subjectwise!C17","v":"07:20:00"},{"$f":"subjectwise!D17","v":"08:08:00"},{"$f":"subjectwise!E17","v":"00:48:00"},{"$f":"subjectwise!G17","v":"Accountancy"},{"$f":"'TIME TABLE 2015-16'!F17","v":"Nitin Sawant"},{"$f":"subjectwise!I17","v":"Maths"},{"$f":"'TIME TABLE 2015-16'!G17","v":"Kanase"},{"$f":"subjectwise!K17","v":"Foundation Course"},{"$f":"'TIME TABLE 2015-16'!I17","v":"Jambhule"},{"$f":"subjectwise!M17","v":"Lab. Wel."},{"$f":"'TIME TABLE 2015-16'!J17","v":"Bhave"},{"$f":"subjectwise!O17","v":"Economics"},{"$f":"'TIME TABLE 2015-16'!K17","v":"Nandela"},{"$f":"subjectwise!Q17","v":"Accountancy"},{"$f":"'TIME TABLE 2015-16'!L17","v":"Pandagale"},{"$f":"subjectwise!S17","v":"___"},{"$f":"'TIME TABLE 2015-16'!M17","v":"Sable"},{"$f":"subjectwise!U17","v":"Political Science"},{"$f":"'TIME TABLE 2015-16'!N17","v":"Buwa"},{"$f":"subjectwise!W17","v":"___"},{"$f":"'TIME TABLE 2015-16'!O17","v":"Bhalekar"}]
[null,{"$f":"subjectwise!B18","v":5},{"$f":"subjectwise!C18","v":"08:20:00"},{"$f":"subjectwise!D18","v":"09:08:00"},{"$f":"subjectwise!E18","v":"00:48:00"},{"$f":"subjectwise!G18","v":"Economics"},{"$f":"'TIME TABLE 2015-16'!F18","v":"Suryawanshi"},{"$f":"subjectwise!I18","v":"Accountancy"},{"$f":"'TIME TABLE 2015-16'!G18","v":"Nitin Sawant"},{"$f":"subjectwise!K18","v":"___"},{"$f":"'TIME TABLE 2015-16'!I18","v":"Singh"},{"$f":"subjectwise!M18","v":"MHRM"},{"$f":"'TIME TABLE 2015-16'!J18","v":"Sawant"},{"$f":"subjectwise!O18","v":"Accountancy"},{"$f":"'TIME TABLE 2015-16'!K18","v":"Pandagale"},{"$f":"subjectwise!Q18","v":"Economics"},{"$f":"'TIME TABLE 2015-16'!L18","v":"Nandela"},{"$f":"subjectwise!S18","v":"Economics"},{"$f":"'TIME TABLE 2015-16'!M18","v":"Jambhule"},{"$f":"subjectwise!U18","v":"___"},{"$f":"'TIME TABLE 2015-16'!N18","v":"Bhalekar"},{"$f":"subjectwise!W18","v":"Political Science"},{"$f":"'TIME TABLE 2015-16'!O18","v":"Buwa"}]
[null,{"$f":"subjectwise!B19","v":6},{"$f":"subjectwise!C19","v":"09:10:00"},{"$f":"subjectwise!D19","v":"09:58:00"},{"$f":"subjectwise!E19","v":"00:48:00"},{"$f":"subjectwise!G19","v":"Commerce 1"},{"$f":"'TIME TABLE 2015-16'!F19","v":"Sawant"},{"$f":"subjectwise!I19","v":"Accountancy"},{"$f":"'TIME TABLE 2015-16'!G19","v":"Nitin Sawant"},{"$f":"subjectwise!K19","v":"___"},{"$f":"'TIME TABLE 2015-16'!I19","v":0},{"$f":"subjectwise!M19","v":"___"},{"$f":"'TIME TABLE 2015-16'!J19","v":"Singh"},{"$f":"subjectwise!O19","v":"Accountancy"},{"$f":"'TIME TABLE 2015-16'!K19","v":"Pandagale"},{"$f":"subjectwise!Q19","v":"Lab. Wel."},{"$f":"'TIME TABLE 2015-16'!L19","v":"Bhave"},{"$f":"subjectwise!S19","v":"Foundation Course"},{"$f":"'TIME TABLE 2015-16'!M19","v":"Suryawanshi"},{"$f":"subjectwise!U19","v":"Economics"},{"$f":"'TIME TABLE 2015-16'!N19","v":"Jambhule"},{"$f":"subjectwise!W19","v":"Political Science"},{"$f":"'TIME TABLE 2015-16'!O19","v":"Buwa"}]
[{"$f":"subjectwise!A20","v":"THURSDAY"},{"$f":"subjectwise!B20","v":1},{"$f":"subjectwise!C20","v":"04:50:00"},{"$f":"subjectwise!D20","v":"05:38:00"},{"$f":"subjectwise!E20","v":"00:48:00"},{"$f":"subjectwise!G20","v":"Bus.Comm."},{"$f":"'TIME TABLE 2015-16'!F20","v":"Dengle"},{"$f":"subjectwise!I20","v":"Maths"},{"$f":"'TIME TABLE 2015-16'!G20","v":"Kanase"},{"$f":"subjectwise!K20","v":"___"},{"$f":"'TIME TABLE 2015-16'!I20","v":0},{"$f":"subjectwise!M20","v":"___"},{"$f":"'TIME TABLE 2015-16'!J20","v":0},{"$f":"subjectwise!O20","v":"Comp"},{"$f":"'TIME TABLE 2015-16'!K20","v":"Lab"},{"$f":"subjectwise!Q20","v":"___"},{"$f":"'TIME TABLE 2015-16'!L20","v":0},{"$f":"subjectwise!S20","v":"___"},{"$f":"'TIME TABLE 2015-16'!M20","v":0},{"$f":"subjectwise!U20","v":"___"},{"$f":"'TIME TABLE 2015-16'!N20","v":0},{"$f":"subjectwise!W20","v":"___"},{"$f":"'TIME TABLE 2015-16'!O20","v":0}]
[null,{"$f":"subjectwise!B21","v":2},{"$f":"subjectwise!C21","v":"05:40:00"},{"$f":"subjectwise!D21","v":"06:28:00"},{"$f":"subjectwise!E21","v":"00:48:00"},{"$f":"subjectwise!G21","v":"Economics"},{"$f":"'TIME TABLE 2015-16'!F21","v":"Suryawanshi"},{"$f":"subjectwise!I21","v":"Bus.Comm."},{"$f":"'TIME TABLE 2015-16'!G21","v":"Dengle"},{"$f":"subjectwise!K21","v":"___"},{"$f":"'TIME TABLE 2015-16'!I21","v":0},{"$f":"subjectwise!M21","v":"___"},{"$f":"'TIME TABLE 2015-16'!J21","v":0},{"$f":"subjectwise!O21","v":"Comp"},{"$f":"'TIME TABLE 2015-16'!K21","v":"Lab"},{"$f":"subjectwise!Q21","v":"___"},{"$f":"'TIME TABLE 2015-16'!L21","v":0},{"$f":"subjectwise!S21","v":"___"},{"$f":"'TIME TABLE 2015-16'!M21","v":0},{"$f":"subjectwise!U21","v":"___"},{"$f":"'TIME TABLE 2015-16'!N21","v":0},{"$f":"subjectwise!W21","v":"___"},{"$f":"'TIME TABLE 2015-16'!O21","v":"Sable"}]
[null,{"$f":"subjectwise!B22","v":3},{"$f":"subjectwise!C22","v":"06:30:00"},{"$f":"subjectwise!D22","v":"07:18:00"},{"$f":"subjectwise!E22","v":"00:48:00"},{"$f":"subjectwise!G22","v":"Economics"},{"$f":"'TIME TABLE 2015-16'!F22","v":"Suryawanshi"},{"$f":"subjectwise!I22","v":"Maths"},{"$f":"'TIME TABLE 2015-16'!G22","v":"Kanase"},{"$f":"subjectwise!K22","v":"___"},{"$f":"'TIME TABLE 2015-16'!I22","v":0},{"$f":"subjectwise!M22","v":"Advt."},{"$f":"'TIME TABLE 2015-16'!J22","v":"Sawant"},{"$f":"subjectwise!O22","v":"Expo. Mark."},{"$f":"'TIME TABLE 2015-16'!K22","v":"Bhave"},{"$f":"subjectwise!Q22","v":"Taxation"},{"$f":"'TIME TABLE 2015-16'!L22","v":"Pandagale"},{"$f":"subjectwise!S22","v":"Political Science"},{"$f":"'TIME TABLE 2015-16'!M22","v":"Buwa"},{"$f":"subjectwise!U22","v":"Economics"},{"$f":"'TIME TABLE 2015-16'!N22","v":"Jambhule"},{"$f":"subjectwise!W22","v":"___"},{"$f":"'TIME TABLE 2015-16'!O22","v":"Sable"}]
[null,{"$f":"subjectwise!B23","v":4},{"$f":"subjectwise!C23","v":"07:20:00"},{"$f":"subjectwise!D23","v":"08:08:00"},{"$f":"subjectwise!E23","v":"00:48:00"},{"$f":"subjectwise!G23","v":"Bus.Comm."},{"$f":"'TIME TABLE 2015-16'!F23","v":"Dengle"},{"$f":"subjectwise!I23","v":"Advt."},{"$f":"'TIME TABLE 2015-16'!G23","v":"Sawant"},{"$f":"subjectwise!K23","v":"Economics"},{"$f":"'TIME TABLE 2015-16'!I23","v":"Suryawanshi"},{"$f":"subjectwise!M23","v":"Expo. Mark."},{"$f":"'TIME TABLE 2015-16'!J23","v":"Bhave"},{"$f":"subjectwise!O23","v":"Foundation Course"},{"$f":"'TIME TABLE 2015-16'!K23","v":"Nandela"},{"$f":"subjectwise!Q23","v":"Accountancy"},{"$f":"'TIME TABLE 2015-16'!L23","v":"Pandagale"},{"$f":"subjectwise!S23","v":"Political Science"},{"$f":"'TIME TABLE 2015-16'!M23","v":"Buwa"},{"$f":"subjectwise!U23","v":"Economics"},{"$f":"'TIME TABLE 2015-16'!N23","v":"Jambhule"},{"$f":"subjectwise!W23","v":"___"},{"$f":"'TIME TABLE 2015-16'!O23","v":"Sable"}]
[null,{"$f":"subjectwise!B24","v":5},{"$f":"subjectwise!C24","v":"08:20:00"},{"$f":"subjectwise!D24","v":"09:08:00"},{"$f":"subjectwise!E24","v":"00:48:00"},{"$f":"subjectwise!G24","v":"Maths"},{"$f":"'TIME TABLE 2015-16'!F24","v":"Kanase"},{"$f":"subjectwise!I24","v":"Economics"},{"$f":"'TIME TABLE 2015-16'!G24","v":"Suryawanshi"},{"$f":"subjectwise!K24","v":"MHRM"},{"$f":"'TIME TABLE 2015-16'!I24","v":"Sawant"},{"$f":"subjectwise!M24","v":"Economics"},{"$f":"'TIME TABLE 2015-16'!J24","v":"Jambhule"},{"$f":"subjectwise!O24","v":"___"},{"$f":"'TIME TABLE 2015-16'!K24","v":"Pandagale"},{"$f":"subjectwise!Q24","v":"Economics"},{"$f":"'TIME TABLE 2015-16'!L24","v":"Nandela"},{"$f":"subjectwise!S24","v":"___"},{"$f":"'TIME TABLE 2015-16'!M24","v":"Sable"},{"$f":"subjectwise!U24","v":"Lab. Wel."},{"$f":"'TIME TABLE 2015-16'!N24","v":"Bhave"},{"$f":"subjectwise!W24","v":"Political Science"},{"$f":"'TIME TABLE 2015-16'!O24","v":"Buwa"}]
[null,{"$f":"subjectwise!B25","v":6},{"$f":"subjectwise!C25","v":"09:10:00"},{"$f":"subjectwise!D25","v":"09:58:00"},{"$f":"subjectwise!E25","v":"00:48:00"},{"$f":"subjectwise!G25","v":"Maths"},{"$f":"'TIME TABLE 2015-16'!F25","v":"Kanase"},{"$f":"subjectwise!I25","v":"Comm. Skills"},{"$f":"'TIME TABLE 2015-16'!G25","v":"Dengle"},{"$f":"subjectwise!K25","v":"Economics"},{"$f":"'TIME TABLE 2015-16'!I25","v":"Jambhule"},{"$f":"subjectwise!M25","v":"___"},{"$f":"'TIME TABLE 2015-16'!J25","v":0},{"$f":"subjectwise!O25","v":"Accountancy"},{"$f":"'TIME TABLE 2015-16'!K25","v":"Pandagale"},{"$f":"subjectwise!Q25","v":"___"},{"$f":"'TIME TABLE 2015-16'!L25","v":0},{"$f":"subjectwise!S25","v":"Economics"},{"$f":"'TIME TABLE 2015-16'!M25","v":"Suryawanshi"},{"$f":"subjectwise!U25","v":"___"},{"$f":"'TIME TABLE 2015-16'!N25","v":"Sable"},{"$f":"subjectwise!W25","v":"Economics"},{"$f":"'TIME TABLE 2015-16'!O25","v":"Nandela"}]
[{"$f":"subjectwise!A26","v":"FRIDAY"},{"$f":"subjectwise!B26","v":1},{"$f":"subjectwise!C26","v":"04:50:00"},{"$f":"subjectwise!D26","v":"05:38:00"},{"$f":"subjectwise!E26","v":"00:48:00"},{"$f":"subjectwise!G26","v":"___"},{"$f":"'TIME TABLE 2015-16'!F26","v":0},{"$f":"subjectwise!I26","v":"Maths"},{"$f":"'TIME TABLE 2015-16'!G26","v":"Kanase"},{"$f":"subjectwise!K26","v":"___"},{"$f":"'TIME TABLE 2015-16'!I26","v":0},{"$f":"subjectwise!M26","v":"___"},{"$f":"'TIME TABLE 2015-16'!J26","v":0},{"$f":"subjectwise!O26","v":"Comp"},{"$f":"'TIME TABLE 2015-16'!K26","v":"Lab"},{"$f":"subjectwise!Q26","v":"___"},{"$f":"'TIME TABLE 2015-16'!L26","v":0},{"$f":"subjectwise!S26","v":"Bus.Comm."},{"$f":"'TIME TABLE 2015-16'!M26","v":"Dengle"},{"$f":"subjectwise!U26","v":"___"},{"$f":"'TIME TABLE 2015-16'!N26","v":0},{"$f":"subjectwise!W26","v":"___"},{"$f":"'TIME TABLE 2015-16'!O26","v":"Sable"}]
[null,{"$f":"subjectwise!B27","v":2},{"$f":"subjectwise!C27","v":"05:40:00"},{"$f":"subjectwise!D27","v":"06:28:00"},{"$f":"subjectwise!E27","v":"00:48:00"},{"$f":"subjectwise!G27","v":"Maths"},{"$f":"'TIME TABLE 2015-16'!F27","v":"Kanase"},{"$f":"subjectwise!I27","v":"Economics"},{"$f":"'TIME TABLE 2015-16'!G27","v":"Suryawanshi"},{"$f":"subjectwise!K27","v":"___"},{"$f":"'TIME TABLE 2015-16'!I27","v":0},{"$f":"subjectwise!M27","v":"___"},{"$f":"'TIME TABLE 2015-16'!J27","v":0},{"$f":"subjectwise!O27","v":"___"},{"$f":"'TIME TABLE 2015-16'!K27","v":0},{"$f":"subjectwise!Q27","v":"___"},{"$f":"'TIME TABLE 2015-16'!L27","v":0},{"$f":"subjectwise!S27","v":"Bus.Comm."},{"$f":"'TIME TABLE 2015-16'!M27","v":"Dengle"},{"$f":"subjectwise!U27","v":"___"},{"$f":"'TIME TABLE 2015-16'!N27","v":0},{"$f":"subjectwise!W27","v":"___"},{"$f":"'TIME TABLE 2015-16'!O27","v":"Sable"}]
[null,{"$f":"subjectwise!B28","v":3},{"$f":"subjectwise!C28","v":"06:30:00"},{"$f":"subjectwise!D28","v":"07:18:00"},{"$f":"subjectwise!E28","v":"00:48:00"},{"$f":"subjectwise!G28","v":"EVS"},{"$f":"'TIME TABLE 2015-16'!F28","v":"Aghav"},{"$f":"subjectwise!I28","v":"Accountancy"},{"$f":"'TIME TABLE 2015-16'!G28","v":"Nitin Sawant"},{"$f":"subjectwise!K28","v":"___"},{"$f":"'TIME TABLE 2015-16'!I28","v":"Mishra"},{"$f":"subjectwise!M28","v":"___"},{"$f":"'TIME TABLE 2015-16'!J28","v":0},{"$f":"subjectwise!O28","v":"Taxation"},{"$f":"'TIME TABLE 2015-16'!K28","v":"Pandagale"},{"$f":"subjectwise!Q28","v":"Foundation Course"},{"$f":"'TIME TABLE 2015-16'!L28","v":"Nandela"},{"$f":"subjectwise!S28","v":"Economics"},{"$f":"'TIME TABLE 2015-16'!M28","v":"Jambhule"},{"$f":"subjectwise!U28","v":"Political Science"},{"$f":"'TIME TABLE 2015-16'!N28","v":"Buwa"},{"$f":"subjectwise!W28","v":"___"},{"$f":"'TIME TABLE 2015-16'!O28","v":"Bhalekar"}]
[null,{"$f":"subjectwise!B29","v":4},{"$f":"subjectwise!C29","v":"07:20:00"},{"$f":"subjectwise!D29","v":"08:08:00"},{"$f":"subjectwise!E29","v":"00:48:00"},{"$f":"subjectwise!G29","v":"EVS"},{"$f":"'TIME TABLE 2015-16'!F29","v":"Aghav"},{"$f":"subjectwise!I29","v":"Accountancy"},{"$f":"'TIME TABLE 2015-16'!G29","v":"Nitin Sawant"},{"$f":"subjectwise!K29","v":"___"},{"$f":"'TIME TABLE 2015-16'!I29","v":"Mishra"},{"$f":"subjectwise!M29","v":"Economics"},{"$f":"'TIME TABLE 2015-16'!J29","v":"Suryawanshi"},{"$f":"subjectwise!O29","v":"MHRM"},{"$f":"'TIME TABLE 2015-16'!K29","v":"Sawant"},{"$f":"subjectwise!Q29","v":"Lab. Wel."},{"$f":"'TIME TABLE 2015-16'!L29","v":"Bhave"},{"$f":"subjectwise!S29","v":"___"},{"$f":"'TIME TABLE 2015-16'!M29","v":"Bhalekar"},{"$f":"subjectwise!U29","v":"Political Science"},{"$f":"'TIME TABLE 2015-16'!N29","v":"Buwa"},{"$f":"subjectwise!W29","v":"Economics"},{"$f":"'TIME TABLE 2015-16'!O29","v":"Nandela"}]
[null,{"$f":"subjectwise!B30","v":5},{"$f":"subjectwise!C30","v":"08:20:00"},{"$f":"subjectwise!D30","v":"09:08:00"},{"$f":"subjectwise!E30","v":"00:48:00"},{"$f":"subjectwise!G30","v":"Accountancy"},{"$f":"'TIME TABLE 2015-16'!F30","v":"Nitin Sawant"},{"$f":"subjectwise!I30","v":"Economics"},{"$f":"'TIME TABLE 2015-16'!G30","v":"Suryawanshi"},{"$f":"subjectwise!K30","v":"___"},{"$f":"'TIME TABLE 2015-16'!I30","v":"Singh"},{"$f":"subjectwise!M30","v":"___"},{"$f":"'TIME TABLE 2015-16'!J30","v":"Mishra"},{"$f":"subjectwise!O30","v":"Accountancy"},{"$f":"'TIME TABLE 2015-16'!K30","v":"Pandagale"},{"$f":"subjectwise!Q30","v":"Advt."},{"$f":"'TIME TABLE 2015-16'!L30","v":"Sawant"},{"$f":"subjectwise!S30","v":"Comm. Skills"},{"$f":"'TIME TABLE 2015-16'!M30","v":"Dengle"},{"$f":"subjectwise!U30","v":"Lab. Wel."},{"$f":"'TIME TABLE 2015-16'!N30","v":"Bhave"},{"$f":"subjectwise!W30","v":"___"},{"$f":"'TIME TABLE 2015-16'!O30","v":"Sable"}]
[null,{"$f":"subjectwise!B31","v":6},{"$f":"subjectwise!C31","v":"09:10:00"},{"$f":"subjectwise!D31","v":"09:58:00"},{"$f":"subjectwise!E31","v":"00:48:00"},{"$f":"subjectwise!G31","v":"Accountancy"},{"$f":"'TIME TABLE 2015-16'!F31","v":"Nitin Sawant"},{"$f":"subjectwise!I31","v":"Economics"},{"$f":"'TIME TABLE 2015-16'!G31","v":"Suryawanshi"},{"$f":"subjectwise!K31","v":"___"},{"$f":"'TIME TABLE 2015-16'!I31","v":"Singh"},{"$f":"subjectwise!M31","v":"___"},{"$f":"'TIME TABLE 2015-16'!J31","v":"Mishra"},{"$f":"subjectwise!O31","v":"Accountancy"},{"$f":"'TIME TABLE 2015-16'!K31","v":"Pandagale"},{"$f":"subjectwise!Q31","v":"Advt."},{"$f":"'TIME TABLE 2015-16'!L31","v":"Sawant"},{"$f":"subjectwise!S31","v":"___"},{"$f":"'TIME TABLE 2015-16'!M31","v":"Sable"},{"$f":"subjectwise!U31","v":"Economics"},{"$f":"'TIME TABLE 2015-16'!N31","v":"Jambhule"},{"$f":"subjectwise!W31","v":"Economics"},{"$f":"'TIME TABLE 2015-16'!O31","v":"Nandela"}]
[{"$f":"subjectwise!A32","v":"SATURDAY"},{"$f":"subjectwise!B32","v":1},{"$f":"subjectwise!C32","v":"04:50:00"},{"$f":"subjectwise!D32","v":"05:38:00"},{"$f":"subjectwise!E32","v":"00:48:00"},{"$f":"subjectwise!G32","v":"___"},{"$f":"'TIME TABLE 2015-16'!F32","v":0},{"$f":"subjectwise!I32","v":"___"},{"$f":"'TIME TABLE 2015-16'!G32","v":0},{"$f":"subjectwise!K32","v":"___"},{"$f":"'TIME TABLE 2015-16'!I32","v":0},{"$f":"subjectwise!M32","v":"___"},{"$f":"'TIME TABLE 2015-16'!J32","v":0},{"$f":"subjectwise!O32","v":"___"},{"$f":"'TIME TABLE 2015-16'!K32","v":0},{"$f":"subjectwise!Q32","v":"___"},{"$f":"'TIME TABLE 2015-16'!L32","v":0},{"$f":"subjectwise!S32","v":"Comm. Skills"},{"$f":"'TIME TABLE 2015-16'!M32","v":"Dengle"},{"$f":"subjectwise!U32","v":"___"},{"$f":"'TIME TABLE 2015-16'!N32","v":0},{"$f":"subjectwise!W32","v":"___"},{"$f":"'TIME TABLE 2015-16'!O32","v":0}]
[null,{"$f":"subjectwise!B33","v":2},{"$f":"subjectwise!C33","v":"05:40:00"},{"$f":"subjectwise!D33","v":"06:28:00"},{"$f":"subjectwise!E33","v":"00:48:00"},{"$f":"subjectwise!G33","v":"Maths"},{"$f":"'TIME TABLE 2015-16'!F33","v":"Kanase"},{"$f":"subjectwise!I33","v":"___"},{"$f":"'TIME TABLE 2015-16'!G33","v":0},{"$f":"subjectwise!K33","v":"___"},{"$f":"'TIME TABLE 2015-16'!I33","v":0},{"$f":"subjectwise!M33","v":"___"},{"$f":"'TIME TABLE 2015-16'!J33","v":0},{"$f":"subjectwise!O33","v":"___"},{"$f":"'TIME TABLE 2015-16'!K33","v":0},{"$f":"subjectwise!Q33","v":"___"},{"$f":"'TIME TABLE 2015-16'!L33","v":0},{"$f":"subjectwise!S33","v":"Bus.Comm."},{"$f":"'TIME TABLE 2015-16'!M33","v":"Dengle"},{"$f":"subjectwise!U33","v":"___"},{"$f":"'TIME TABLE 2015-16'!N33","v":0},{"$f":"subjectwise!W33","v":"___"},{"$f":"'TIME TABLE 2015-16'!O33","v":0}]
[null,{"$f":"subjectwise!B34","v":3},{"$f":"subjectwise!C34","v":"06:30:00"},{"$f":"subjectwise!D34","v":"07:18:00"},{"$f":"subjectwise!E34","v":"00:48:00"},{"$f":"subjectwise!G34","v":"Commerce 1"},{"$f":"'TIME TABLE 2015-16'!F34","v":"Sawant"},{"$f":"subjectwise!I34","v":"Maths"},{"$f":"'TIME TABLE 2015-16'!G34","v":"Kanase"},{"$f":"subjectwise!K34","v":"Commerce 2"},{"$f":"'TIME TABLE 2015-16'!I34","v":"Bhave"},{"$f":"subjectwise!M34","v":"Foundation Course"},{"$f":"'TIME TABLE 2015-16'!J34","v":"Suryawanshi"},{"$f":"subjectwise!O34","v":"___"},{"$f":"'TIME TABLE 2015-16'!K34","v":0},{"$f":"subjectwise!Q34","v":"Accountancy"},{"$f":"'TIME TABLE 2015-16'!L34","v":"Pandagale"},{"$f":"subjectwise!S34","v":"Economics"},{"$f":"'TIME TABLE 2015-16'!M34","v":"Nandela"},{"$f":"subjectwise!U34","v":"Economics"},{"$f":"'TIME TABLE 2015-16'!N34","v":"Jambhule"},{"$f":"subjectwise!W34","v":"Political Science"},{"$f":"'TIME TABLE 2015-16'!O34","v":"Buwa"}]
[null,{"$f":"subjectwise!B35","v":4},{"$f":"subjectwise!C35","v":"07:20:00"},{"$f":"subjectwise!D35","v":"08:08:00"},{"$f":"subjectwise!E35","v":"00:48:00"},{"$f":"subjectwise!G35","v":"Foundation Course"},{"$f":"'TIME TABLE 2015-16'!F35","v":"Suryawanshi"},{"$f":"subjectwise!I35","v":"Maths"},{"$f":"'TIME TABLE 2015-16'!G35","v":"Kanase"},{"$f":"subjectwise!K35","v":"___"},{"$f":"'TIME TABLE 2015-16'!I35","v":0},{"$f":"subjectwise!M35","v":"Lab. Wel."},{"$f":"'TIME TABLE 2015-16'!J35","v":"Bhave"},{"$f":"subjectwise!O35","v":"Advt."},{"$f":"'TIME TABLE 2015-16'!K35","v":"Sawant"},{"$f":"subjectwise!Q35","v":"Accountancy"},{"$f":"'TIME TABLE 2015-16'!L35","v":"Pandagale"},{"$f":"subjectwise!S35","v":"Bus.Comm."},{"$f":"'TIME TABLE 2015-16'!M35","v":"Dengle"},{"$f":"subjectwise!U35","v":"Economics"},{"$f":"'TIME TABLE 2015-16'!N35","v":"Jambhule"},{"$f":"subjectwise!W35","v":"Political Science"},{"$f":"'TIME TABLE 2015-16'!O35","v":"Buwa"}]
[null,{"$f":"subjectwise!B36","v":5},{"$f":"subjectwise!C36","v":"08:20:00"},{"$f":"subjectwise!D36","v":"09:08:00"},{"$f":"subjectwise!E36","v":"00:48:00"},{"$f":"subjectwise!G36","v":"Maths"},{"$f":"'TIME TABLE 2015-16'!F36","v":"Kanase"},{"$f":"subjectwise!I36","v":"Economics"},{"$f":"'TIME TABLE 2015-16'!G36","v":"Suryawanshi"},{"$f":"subjectwise!K36","v":"Economics"},{"$f":"'TIME TABLE 2015-16'!I36","v":"Jambhule"},{"$f":"subjectwise!M36","v":"___"},{"$f":"'TIME TABLE 2015-16'!J36","v":"Singh"},{"$f":"subjectwise!O36","v":"Accountancy"},{"$f":"'TIME TABLE 2015-16'!K36","v":"Pandagale"},{"$f":"subjectwise!Q36","v":"___"},{"$f":"'TIME TABLE 2015-16'!L36","v":"Gaikwad"},{"$f":"subjectwise!S36","v":"___"},{"$f":"'TIME TABLE 2015-16'!M36","v":"Sable"},{"$f":"subjectwise!U36","v":"Lab. Wel."},{"$f":"'TIME TABLE 2015-16'!N36","v":"Bhave"},{"$f":"subjectwise!W36","v":"Economics"},{"$f":"'TIME TABLE 2015-16'!O36","v":"Nandela"}]
[null,{"$f":"subjectwise!B37","v":6},{"$f":"subjectwise!C37","v":"09:10:00"},{"$f":"subjectwise!D37","v":"09:58:00"},{"$f":"subjectwise!E37","v":"00:48:00"},{"$f":"subjectwise!G37","v":"Comm. Skills"},{"$f":"'TIME TABLE 2015-16'!F37","v":"Dengle"},{"$f":"subjectwise!I37","v":"Foundation Course"},{"$f":"'TIME TABLE 2015-16'!G37","v":"Suryawanshi"},{"$f":"subjectwise!K37","v":"___"},{"$f":"'TIME TABLE 2015-16'!I37","v":0},{"$f":"subjectwise!M37","v":"___"},{"$f":"'TIME TABLE 2015-16'!J37","v":"Singh"},{"$f":"subjectwise!O37","v":"Accountancy"},{"$f":"'TIME TABLE 2015-16'!K37","v":"Pandagale"},{"$f":"subjectwise!Q37","v":"Commerce 1"},{"$f":"'TIME TABLE 2015-16'!L37","v":"Sawant"},{"$f":"subjectwise!S37","v":"___"},{"$f":"'TIME TABLE 2015-16'!M37","v":0},{"$f":"subjectwise!U37","v":"___"},{"$f":"'TIME TABLE 2015-16'!N37","v":"Sable"},{"$f":"subjectwise!W37","v":"Economics"},{"$f":"'TIME TABLE 2015-16'!O37","v":"Nandela"}]

{"sheet":"workload","index":5,"n_rows":12,"n_cols":11,"rows_kept":12,"cut":false,"hidden":false,"merged":[]}
["Sr no","Department","Lectures","First","Second","Third","Fourth","Fifth","Total","Difference"]
[1,"Marathi",{"$f":"8+6+8+3","v":25},20,5,null,null,null,{"$f":"SUM(D2:H2)","v":25},{"$f":"I2-C2","v":0},{"$f":"IF(I2<>C2,\"Mismatch\",\"\")","v":""}]
[2,"Accountancy & Tax",41,23,9,9,null,null,{"$f":"SUM(D3:H3)","v":41},{"$f":"I3-C3","v":0},{"$f":"IF(I3<>C3,\"Mismatch\",\"\")","v":""}]
[3,"Economics & FC",57,18,20,19,null,null,57,0,""]
[4,"Commerce",37,16,21,null,null,null,37,0,""]
[5,"Maths",{"$f":"10+10","v":20},20,null,null,null,null,20,0,""]
[6,"English",{"$f":"6+3+8+4","v":21},21,null,null,null,null,21,0,""]
[7,"Political Science",{"$f":"4+6+8+3","v":21},21,null,null,null,null,21,0,""]
[8,"EVS",8,8,null,null,null,null,8,0,""]
[9,"BL",8,8,null,null,null,null,8,0,""]
[11,"Computer",9,9,null,null,null,null,9,0,""]
[null,null,{"$f":"SUM(C2:C11)","v":247}]

{"sheet":"subjects and classwise lectures","index":6,"n_rows":14,"n_cols":16,"rows_kept":14,"cut":false,"hidden":false,"merged":[]}
["Sr no","Department","Lectures","Papers","Teacher","FYBCOM A","FYBCOM B","SYBCOM A","SYBCOM B","TYBCOM A","TYBCOM B","FYBA","SYBA","TYBA","TOTAL","DIFFERENCE"]
[1,"Marathi",{"$f":"8+6+8+3","v":25},null,null,0,0,0,0,0,0,8,6,11,{"$f":"SUM(F2:N2)","v":25},{"$f":"C2-O2","v":0}]
[2,"Accountancy",38,null,null,4,4,4,4,11,11,0,0,0,{"$f":"SUM(F3:N3)","v":38},{"$f":"C3-O3","v":0}]
[3,"Tax",3,null,null,0,0,0,0,3,0,0,0,0,3,0]
[4,"Economics",39,null,null,3,3,3,3,3,3,4,6,11,39,0]
[5,"FC",18,null,null,3,3,3,3,0,0,3,3,0,18,0]
[6,"Commerce",37,null,null,3,3,6,6,6,9,0,4,0,37,0]
[7,"Maths",{"$f":"10+10","v":20},null,null,10,10,0,0,0,0,0,0,0,20,0]
[8,"English",{"$f":"6+3+8+4","v":21},null,null,7,7,0,0,0,0,7,0,0,21,0]
[9,"Political Science",{"$f":"4+6+8+3","v":21},null,null,0,0,0,0,0,0,4,6,11,21,0]
[10,"EVS",8,null,null,4,4,0,0,0,0,0,0,0,8,0]
[11,"BL",8,null,null,0,0,4,4,0,0,0,0,0,8,0]
[12,"Computer",9,null,null,0,0,0,0,9,0,0,0,0,9,0]
[null,null,{"$f":"SUM(C2:C13)","v":247},null,null,null,null,null,null,null,null,null,null,null,{"$f":"SUM(O2:O13)","v":247},0]